Workbook

Sheet 3B - 3 poules 3 joueurs
B2: Club : | F2: Date : | I2: 3 BANDES | K2: Distances : | L2: =IF($C$3="","",VLOOKUP($C$3,Menus!$D$1:$F$11,2,))
B3: Catégorie : | F3: Tour : | K3: Reprises : | L3: =IF($C$3="","",VLOOKUP($C$3,Menus!$D$1:$F$11,3,))
B5: Poule 1
B7: NOM | C7: Prénom | D7: Club | G7: Points Match | H7: Moyenne Générale
G8: =IF(H15="","", IF(AND(B8=B14,C8=C14,B8=B15,C8=C15),SUM(H14,H15), IF(AND(B8=B13,C8=C13,B8=J14,C8=K14),SUM(H13,P14), IF(AND(B8=B13,C8=C13,B8=J15,C8=K15),SUM(H13,P15), IF(AND(B8=J13,C8=K13,B8=J14,C8=K14),SUM(P13,P14), IF(AND(B8=J13,C8=K13,B8=J15,C8=K15),SUM(P13,P15))))))) | H8: =IF(I15="","", IF(AND(B8=B14,C8=C14,B8=B15,C8=C15),(D14+D15)/(E14+E15), IF(AND(B8=B13,C8=C13,B8=J14,C8=K14),(D13+L14)/(E13+M14), IF(AND(B8=B13,C8=C13,B8=J15,C8=K15),(D13+L15)/(E13+M15), IF(AND(B8=J13,C8=K13,B8=J14,C8=K14),(L13+L14)/(M13+M14), IF(AND(B8=J13,C8=K13,B8=J15,C8=K15),(L13+L15)/(M13+M15)))))))
G9: =IF(H15="","", IF(AND(B9=B14,C9=C14,B9=B15,C9=C15),SUM(H14,H15), IF(AND(B9=B13,C9=C13,B9=J14,C9=K14),SUM(H13,P14), IF(AND(B9=B13,C9=C13,B9=J15,C9=K15),SUM(H13,P15), IF(AND(B9=J13,C9=K13,B9=J14,C9=K14),SUM(P13,P14), IF(AND(B9=J13,C9=K13,B9=J15,C9=K15),SUM(P13,P15))))))) | H9: =IF(I15="","", IF(AND(B9=B14,C9=C14,B9=B15,C9=C15),(D14+D15)/(E14+E15), IF(AND(B9=B13,C9=C13,B9=J14,C9=K14),(D13+L14)/(E13+M14), IF(AND(B9=B13,C9=C13,B9=J15,C9=K15),(D13+L15)/(E13+M15), IF(AND(B9=J13,C9=K13,B9=J14,C9=K14),(L13+L14)/(M13+M14), IF(AND(B9=J13,C9=K13,B9=J15,C9=K15),(L13+L15)/(M13+M15)))))))
G10: =IF(H15="","", IF(AND(B10=B14,C10=C14,B10=B15,C10=C15),SUM(H14,H15), IF(AND(B10=B13,C10=C13,B10=J14,C10=K14),SUM(H13,P14), IF(AND(B10=B13,C10=C13,B10=J15,C10=K15),SUM(H13,P15), IF(AND(B10=J13,C10=K13,B10=J14,C10=K14),SUM(P13,P14), IF(AND(B10=J13,C10=K13,B10=J15,C10=K15),SUM(P13,P15))))))) | H10: =IF(I15="","", IF(AND(B10=B14,C10=C14,B10=B15,C10=C15),(D14+D15)/(E14+E15), IF(AND(B10=B13,C10=C13,B10=J14,C10=K14),(D13+L14)/(E13+M14), IF(AND(B10=B13,C10=C13,B10=J15,C10=K15),(D13+L15)/(E13+M15), IF(AND(B10=J13,C10=K13,B10=J14,C10=K14),(L13+L14)/(M13+M14), IF(AND(B10=J13,C10=K13,B10=J15,C10=K15),(L13+L15)/(M13+M15)))))))
B12: Joueur A | D12: Points | E12: Reprises | F12: Série | G12: Match GNP | H12: Points Match | I12: Moy | J12: Joueur B | L12: Points | M12: Reprises | N12: Série | O12: Match GNP | P12: Points Match | Q12: Moy
B13: =IF(OR(B8="",B9="",B10="",D8="",D9="",D10=""),"", IF(OR(AND(D8=D10,D8<>D9),AND(D8=D9,D8<>D10)),B8,B9)) | C13: =IF(OR(B8="",B9="",B10="",D8="",D9="",D10=""),"", IF(OR(AND(D8=D10,D8<>D9),AND(D8=D9,D8<>D10)),C8,C9)) | G13: =IF(L13="","",IF(D13>L13,"G",IF(D13<L13,"P","N"))) | H13: =IF(G13="","",IF(G13="G",3,IF(G13="N",2,1))) | I13: =IF(ISNUMBER(E13),D13/E13,"") | J13: =IF(OR(B8="",B9="",B10="",D8="",D9="",D10=""),"", IF(AND(D8=D9,D8<>D10),B9,B10)) | K13: =IF(OR(B8="",B9="",B10="",D8="",D9="",D10=""),"", IF(AND(D8=D9,D8<>D10),C9,C10)) | M13: =IF(ISNUMBER(E13),E13,"") | O13: =IF(L13="","",IF(G13="P","G",IF(G13="G","P","N"))) | P13: =IF(O13="","",IF(O13="G",3,IF(O13="N",2,1))) | Q13: =IF(ISNUMBER(M13),L13/M13,"")
B14: =IF(OR(B13="",C13="",J13="",K13=""),"", IF(AND(B13=B8,C13=C8,J13=B10,K13=C10),B9, IF(AND(B13=B8,C13=C8,J13=B9,K13=C9),B10,B8))) | C14: =IF(OR(B13="",C13="",J13="",K13=""),"", IF(AND(B13=B8,C13=C8,J13=B10,K13=C10),C9, IF(AND(B13=B8,C13=C8,J13=B9,K13=C9),C10,C8))) | G14: =IF(L14="","",IF(D14>L14,"G",IF(D14<L14,"P","N"))) | H14: =IF(G14="","",IF(G14="G",3,IF(G14="N",2,1))) | I14: =IF(ISNUMBER(E14),D14/E14,"") | J14: =IF(L13="","",IF(O13="G",B13,IF(AND(O13="N",N13>F13),B13, IF(AND(O13="N",N13<=F13),J13,IF(O13="P",J13))))) | K14: =IF(L13="","", IF(O13="G",C13, IF(AND(O13="N",N13>F13),C13, IF(AND(O13="N",N13<=F13),K13, IF(O13="P",K13))))) | M14: =IF(ISNUMBER(E14),E14,"") | O14: =IF(L14="","",IF(G14="P","G",IF(G14="G","P","N"))) | P14: =IF(O14="","",IF(O14="G",3,IF(O14="N",2,1))) | Q14: =IF(ISNUMBER(M14),L14/M14,"")
B15: =IF(OR(B13="",C13="",J13="",K13=""),"", IF(AND(B13=B8,C13=C8,J13=B10,K13=C10),B9, IF(AND(B13=B8,C13=C8,J13=B9,K13=C9),B10,B8))) | C15: =IF(OR(B13="",C13="",J13="",K13=""),"", IF(AND(B13=B8,C13=C8,J13=B10,K13=C10),C9, IF(AND(B13=B8,C13=C8,J13=B9,K13=C9),C10,C8))) | G15: =IF(L15="","",IF(D15>L15,"G",IF(D15<L15,"P","N"))) | H15: =IF(G15="","",IF(G15="G",3,IF(G15="N",2,1))) | I15: =IF(ISNUMBER(E15),D15/E15,"") | J15: =IF(J14="","",IF(AND(J14=B13,K14=C13),J13,B13)) | K15: =IF(K14="","",IF(AND(J14=B13,K14=C13),K13,C13)) | M15: =IF(ISNUMBER(E15),E15,"") | O15: =IF(L15="","",IF(G15="P","G",IF(G15="G","P","N"))) | P15: =IF(O15="","",IF(O15="G",3,IF(O15="N",2,1))) | Q15: =IF(ISNUMBER(M15),L15/M15,"")
B17: Poule 2
B19: NOM | C19: Prénom | D19: Club | G19: Points Match | H19: Moyenne Générale
G20: =IF(H27="","", IF(AND(B20=B26,C20=C26,B20=B27,C20=C27),SUM(H26,H27), IF(AND(B20=B25,C20=C25,B20=J26,C20=K26),SUM(H25,P26), IF(AND(B20=B25,C20=C25,B20=J27,C20=K27),SUM(H25,P27), IF(AND(B20=J25,C20=K25,B20=J26,C20=K26),SUM(P25,P26), IF(AND(B20=J25,C20=K25,B20=J27,C20=K27),SUM(P25,P27))))))) | H20: =IF(I27="","", IF(AND(B20=B26,C20=C26,B20=B27,C20=C27),(D26+D27)/(E26+E27), IF(AND(B20=B25,C20=C25,B20=J26,C20=K26),(D25+L26)/(E25+M26), IF(AND(B20=B25,C20=C25,B20=J27,C20=K27),(D25+L27)/(E25+M27), IF(AND(B20=J25,C20=K25,B20=J26,C20=K26),(L25+L26)/(M25+M26), IF(AND(B20=J25,C20=K25,B20=J27,C20=K27),(L25+L27)/(M25+M27)))))))
G21: =IF(H27="","", IF(AND(B21=B26,C21=C26,B21=B27,C21=C27),SUM(H26,H27), IF(AND(B21=B25,C21=C25,B21=J26,C21=K26),SUM(H25,P26), IF(AND(B21=B25,C21=C25,B21=J27,C21=K27),SUM(H25,P27), IF(AND(B21=J25,C21=K25,B21=J26,C21=K26),SUM(P25,P26), IF(AND(B21=J25,C21=K25,B21=J27,C21=K27),SUM(P25,P27))))))) | H21: =IF(I27="","", IF(AND(B21=B26,C21=C26,B21=B27,C21=C27),(D26+D27)/(E26+E27), IF(AND(B21=B25,C21=C25,B21=J26,C21=K26),(D25+L26)/(E25+M26), IF(AND(B21=B25,C21=C25,B21=J27,C21=K27),(D25+L27)/(E25+M27), IF(AND(B21=J25,C21=K25,B21=J26,C21=K26),(L25+L26)/(M25+M26), IF(AND(B21=J25,C21=K25,B21=J27,C21=K27),(L25+L27)/(M25+M27)))))))
G22: =IF(H27="","", IF(AND(B22=B26,C22=C26,B22=B27,C22=C27),SUM(H26,H27), IF(AND(B22=B25,C22=C25,B22=J26,C22=K26),SUM(H25,P26), IF(AND(B22=B25,C22=C25,B22=J27,C22=K27),SUM(H25,P27), IF(AND(B22=J25,C22=K25,B22=J26,C22=K26),SUM(P25,P26), IF(AND(B22=J25,C22=K25,B22=J27,C22=K27),SUM(P25,P27))))))) | H22: =IF(I27="","", IF(AND(B22=B26,C22=C26,B22=B27,C22=C27),(D26+D27)/(E26+E27), IF(AND(B22=B25,C22=C25,B22=J26,C22=K26),(D25+L26)/(E25+M26), IF(AND(B22=B25,C22=C25,B22=J27,C22=K27),(D25+L27)/(E25+M27), IF(AND(B22=J25,C22=K25,B22=J26,C22=K26),(L25+L26)/(M25+M26), IF(AND(B22=J25,C22=K25,B22=J27,C22=K27),(L25+L27)/(M25+M27)))))))
B24: Joueur A | D24: Points | E24: Reprises | F24: Série | G24: Match GNP | H24: Points Match | I24: Moy | J24: Joueur B | L24: Points | M24: Reprises | N24: Série | O24: Match GNP | P24: Points Match | Q24: Moy
B25: =IF(OR(B20="",B21="",B22="",D20="",D21="",D22=""),"", IF(OR(AND(D20=D22,D20<>D21),AND(D20=D21,D20<>D22)),B20,B21)) | C25: =IF(OR(B20="",B21="",B22="",D20="",D21="",D22=""),"", IF(OR(AND(D20=D22,D20<>D21),AND(D20=D21,D20<>D22)),C20,C21)) | G25: =IF(L25="","",IF(D25>L25,"G",IF(D25<L25,"P","N"))) | H25: =IF(G25="","",IF(G25="G",3,IF(G25="N",2,1))) | I25: =IF(ISNUMBER(E25),D25/E25,"") | J25: =IF(OR(B20="",B21="",B22="",D20="",D21="",D22=""),"", IF(AND(D20=D21,D20<>D22),B21,B22)) | K25: =IF(OR(B20="",B21="",B22="",D20="",D21="",D22=""),"", IF(AND(D20=D21,D20<>D22),C21,C22)) | M25: =IF(ISNUMBER(E25),E25,"") | O25: =IF(L25="","",IF(G25="P","G",IF(G25="G","P","N"))) | P25: =IF(O25="","",IF(O25="G",3,IF(O25="N",2,1))) | Q25: =IF(ISNUMBER(M25),L25/M25,"")
B26: =IF(OR(B25="",C25="",J25="",K25=""),"", IF(AND(B25=B20,C25=C20,J25=B22,K25=C22),B21, IF(AND(B25=B20,C25=C20,J25=B21,K25=C21),B22,B20))) | C26: =IF(OR(B25="",C25="",J25="",K25=""),"", IF(AND(B25=B20,C25=C20,J25=B22,K25=C22),C21, IF(AND(B25=B20,C25=C20,J25=B21,K25=C21),C22,C20))) | G26: =IF(L26="","",IF(D26>L26,"G",IF(D26<L26,"P","N"))) | H26: =IF(G26="","",IF(G26="G",3,IF(G26="N",2,1))) | I26: =IF(ISNUMBER(E26),D26/E26,"") | J26: =IF(L25="","",IF(O25="G",B25,IF(AND(O25="N",N25>F25),B25, IF(AND(O25="N",N25<=F25),J25,IF(O25="P",J25))))) | K26: =IF(L25="","", IF(O25="G",C25, IF(AND(O25="N",N25>F25),C25, IF(AND(O25="N",N25<=F25),K25, IF(O25="P",K25))))) | M26: =IF(ISNUMBER(E26),E26,"") | O26: =IF(L26="","",IF(G26="P","G",IF(G26="G","P","N"))) | P26: =IF(O26="","",IF(O26="G",3,IF(O26="N",2,1))) | Q26: =IF(ISNUMBER(M26),L26/M26,"")
B27: =IF(OR(B25="",C25="",J25="",K25=""),"", IF(AND(B25=B20,C25=C20,J25=B22,K25=C22),B21, IF(AND(B25=B20,C25=C20,J25=B21,K25=C21),B22,B20))) | C27: =IF(OR(B25="",C25="",J25="",K25=""),"", IF(AND(B25=B20,C25=C20,J25=B22,K25=C22),C21, IF(AND(B25=B20,C25=C20,J25=B21,K25=C21),C22,C20))) | G27: =IF(L27="","",IF(D27>L27,"G",IF(D27<L27,"P","N"))) | H27: =IF(G27="","",IF(G27="G",3,IF(G27="N",2,1))) | I27: =IF(ISNUMBER(E27),D27/E27,"") | J27: =IF(J26="","",IF(AND(J26=B25,K26=C25),J25,B25)) | K27: =IF(K26="","",IF(AND(J26=B25,K26=C25),K25,C25)) | M27: =IF(ISNUMBER(E27),E27,"") | O27: =IF(L27="","",IF(G27="P","G",IF(G27="G","P","N"))) | P27: =IF(O27="","",IF(O27="G",3,IF(O27="N",2,1))) | Q27: =IF(ISNUMBER(M27),L27/M27,"")
B29: Poule 3
B31: NOM | C31: Prénom | D31: Club | G31: Points Match | H31: Moyenne Générale
G32: =IF(H39="","", IF(AND(B32=B38,C32=C38,B32=B39,C32=C39),SUM(H38,H39), IF(AND(B32=B37,C32=C37,B32=J38,C32=K38),SUM(H37,P38), IF(AND(B32=B37,C32=C37,B32=J39,C32=K39),SUM(H37,P39), IF(AND(B32=J37,C32=K37,B32=J38,C32=K38),SUM(P37,P38), IF(AND(B32=J37,C32=K37,B32=J39,C32=K39),SUM(P37,P39))))))) | H32: =IF(I39="","", IF(AND(B32=B38,C32=C38,B32=B39,C32=C39),(D38+D39)/(E38+E39), IF(AND(B32=B37,C32=C37,B32=J38,C32=K38),(D37+L38)/(E37+M38), IF(AND(B32=B37,C32=C37,B32=J39,C32=K39),(D37+L39)/(E37+M39), IF(AND(B32=J37,C32=K37,B32=J38,C32=K38),(L37+L38)/(M37+M38), IF(AND(B32=J37,C32=K37,B32=J39,C32=K39),(L37+L39)/(M37+M39)))))))
G33: =IF(H39="","", IF(AND(B33=B38,C33=C38,B33=B39,C33=C39),SUM(H38,H39), IF(AND(B33=B37,C33=C37,B33=J38,C33=K38),SUM(H37,P38), IF(AND(B33=B37,C33=C37,B33=J39,C33=K39),SUM(H37,P39), IF(AND(B33=J37,C33=K37,B33=J38,C33=K38),SUM(P37,P38), IF(AND(B33=J37,C33=K37,B33=J39,C33=K39),SUM(P37,P39))))))) | H33: =IF(I39="","", IF(AND(B33=B38,C33=C38,B33=B39,C33=C39),(D38+D39)/(E38+E39), IF(AND(B33=B37,C33=C37,B33=J38,C33=K38),(D37+L38)/(E37+M38), IF(AND(B33=B37,C33=C37,B33=J39,C33=K39),(D37+L39)/(E37+M39), IF(AND(B33=J37,C33=K37,B33=J38,C33=K38),(L37+L38)/(M37+M38), IF(AND(B33=J37,C33=K37,B33=J39,C33=K39),(L37+L39)/(M37+M39)))))))
G34: =IF(H39="","", IF(AND(B34=B38,C34=C38,B34=B39,C34=C39),SUM(H38,H39), IF(AND(B34=B37,C34=C37,B34=J38,C34=K38),SUM(H37,P38), IF(AND(B34=B37,C34=C37,B34=J39,C34=K39),SUM(H37,P39), IF(AND(B34=J37,C34=K37,B34=J38,C34=K38),SUM(P37,P38), IF(AND(B34=J37,C34=K37,B34=J39,C34=K39),SUM(P37,P39))))))) | H34: =IF(I39="","", IF(AND(B34=B38,C34=C38,B34=B39,C34=C39),(D38+D39)/(E38+E39), IF(AND(B34=B37,C34=C37,B34=J38,C34=K38),(D37+L38)/(E37+M38), IF(AND(B34=B37,C34=C37,B34=J39,C34=K39),(D37+L39)/(E37+M39), IF(AND(B34=J37,C34=K37,B34=J38,C34=K38),(L37+L38)/(M37+M38), IF(AND(B34=J37,C34=K37,B34=J39,C34=K39),(L37+L39)/(M37+M39)))))))
B36: Joueur A | D36: Points | E36: Reprises | F36: Série | G36: Match GNP | H36: Points Match | I36: Moy | J36: Joueur B | L36: Points | M36: Reprises | N36: Série | O36: Match GNP | P36: Points Match | Q36: Moy
B37: =IF(OR(B32="",B33="",B34="",D32="",D33="",D34=""),"", IF(OR(AND(D32=D34,D32<>D33),AND(D32=D33,D32<>D34)),B32,B33)) | C37: =IF(OR(B32="",B33="",B34="",D32="",D33="",D34=""),"", IF(OR(AND(D32=D34,D32<>D33),AND(D32=D33,D32<>D34)),C32,C33)) | G37: =IF(L37="","",IF(D37>L37,"G",IF(D37<L37,"P","N"))) | H37: =IF(G37="","",IF(G37="G",3,IF(G37="N",2,1))) | I37: =IF(ISNUMBER(E37),D37/E37,"") | J37: =IF(OR(B32="",B33="",B34="",D32="",D33="",D34=""),"", IF(AND(D32=D33,D32<>D34),B33,B34)) | K37: =IF(OR(B32="",B33="",B34="",D32="",D33="",D34=""),"", IF(AND(D32=D33,D32<>D34),C33,C34)) | M37: =IF(ISNUMBER(E37),E37,"") | O37: =IF(L37="","",IF(G37="P","G",IF(G37="G","P","N"))) | P37: =IF(O37="","",IF(O37="G",3,IF(O37="N",2,1))) | Q37: =IF(ISNUMBER(M37),L37/M37,"")
B38: =IF(OR(B37="",C37="",J37="",K37=""),"", IF(AND(B37=B32,C37=C32,J37=B34,K37=C34),B33, IF(AND(B37=B32,C37=C32,J37=B33,K37=C33),B34,B32))) | C38: =IF(OR(B37="",C37="",J37="",K37=""),"", IF(AND(B37=B32,C37=C32,J37=B34,K37=C34),C33, IF(AND(B37=B32,C37=C32,J37=B33,K37=C33),C34,C32))) | G38: =IF(L38="","",IF(D38>L38,"G",IF(D38<L38,"P","N"))) | H38: =IF(G38="","",IF(G38="G",3,IF(G38="N",2,1))) | I38: =IF(ISNUMBER(E38),D38/E38,"") | J38: =IF(L37="","",IF(O37="G",B37,IF(AND(O37="N",N37>F37),B37, IF(AND(O37="N",N37<=F37),J37,IF(O37="P",J37))))) | K38: =IF(L37="","", IF(O37="G",C37, IF(AND(O37="N",N37>F37),C37, IF(AND(O37="N",N37<=F37),K37, IF(O37="P",K37))))) | M38: =IF(ISNUMBER(E38),E38,"") | O38: =IF(L38="","",IF(G38="P","G",IF(G38="G","P","N"))) | P38: =IF(O38="","",IF(O38="G",3,IF(O38="N",2,1))) | Q38: =IF(ISNUMBER(M38),L38/M38,"")
B39: =IF(OR(B37="",C37="",J37="",K37=""),"", IF(AND(B37=B32,C37=C32,J37=B34,K37=C34),B33, IF(AND(B37=B32,C37=C32,J37=B33,K37=C33),B34,B32))) | C39: =IF(OR(B37="",C37="",J37="",K37=""),"", IF(AND(B37=B32,C37=C32,J37=B34,K37=C34),C33, IF(AND(B37=B32,C37=C32,J37=B33,K37=C33),C34,C32))) | G39: =IF(L39="","",IF(D39>L39,"G",IF(D39<L39,"P","N"))) | H39: =IF(G39="","",IF(G39="G",3,IF(G39="N",2,1))) | I39: =IF(ISNUMBER(E39),D39/E39,"") | J39: =IF(J38="","",IF(AND(J38=B37,K38=C37),J37,B37)) | K39: =IF(K38="","",IF(AND(J38=B37,K38=C37),K37,C37)) | M39: =IF(ISNUMBER(E39),E39,"") | O39: =IF(L39="","",IF(G39="P","G",IF(G39="G","P","N"))) | P39: =IF(O39="","",IF(O39="G",3,IF(O39="N",2,1))) | Q39: =IF(ISNUMBER(M39),L39/M39,"")

Sheet 3B - 6 poules 3 joueurs
B2: Club : | F2: Date : | I2: 3 BANDES | K2: Distances : | L2: =IF($C$3="","",VLOOKUP($C$3,Menus!$D$1:$F$11,2,))
B3: Catégorie : | F3: Tour : | K3: Reprises : | L3: =IF($C$3="","",VLOOKUP($C$3,Menus!$D$1:$F$11,3,))
B5: Poule 1
B7: NOM | C7: Prénom | D7: Club | G7: Points Match | H7: Moyenne Générale
G8: =IF(H15="","", IF(AND(B8=B14,C8=C14,B8=B15,C8=C15),SUM(H14,H15), IF(AND(B8=B13,C8=C13,B8=J14,C8=K14),SUM(H13,P14), IF(AND(B8=B13,C8=C13,B8=J15,C8=K15),SUM(H13,P15), IF(AND(B8=J13,C8=K13,B8=J14,C8=K14),SUM(P13,P14), IF(AND(B8=J13,C8=K13,B8=J15,C8=K15),SUM(P13,P15))))))) | H8: =IF(I15="","", IF(AND(B8=B14,C8=C14,B8=B15,C8=C15),(D14+D15)/(E14+E15), IF(AND(B8=B13,C8=C13,B8=J14,C8=K14),(D13+L14)/(E13+M14), IF(AND(B8=B13,C8=C13,B8=J15,C8=K15),(D13+L15)/(E13+M15), IF(AND(B8=J13,C8=K13,B8=J14,C8=K14),(L13+L14)/(M13+M14), IF(AND(B8=J13,C8=K13,B8=J15,C8=K15),(L13+L15)/(M13+M15)))))))
G9: =IF(H15="","", IF(AND(B9=B14,C9=C14,B9=B15,C9=C15),SUM(H14,H15), IF(AND(B9=B13,C9=C13,B9=J14,C9=K14),SUM(H13,P14), IF(AND(B9=B13,C9=C13,B9=J15,C9=K15),SUM(H13,P15), IF(AND(B9=J13,C9=K13,B9=J14,C9=K14),SUM(P13,P14), IF(AND(B9=J13,C9=K13,B9=J15,C9=K15),SUM(P13,P15))))))) | H9: =IF(I15="","", IF(AND(B9=B14,C9=C14,B9=B15,C9=C15),(D14+D15)/(E14+E15), IF(AND(B9=B13,C9=C13,B9=J14,C9=K14),(D13+L14)/(E13+M14), IF(AND(B9=B13,C9=C13,B9=J15,C9=K15),(D13+L15)/(E13+M15), IF(AND(B9=J13,C9=K13,B9=J14,C9=K14),(L13+L14)/(M13+M14), IF(AND(B9=J13,C9=K13,B9=J15,C9=K15),(L13+L15)/(M13+M15)))))))
G10: =IF(H15="","", IF(AND(B10=B14,C10=C14,B10=B15,C10=C15),SUM(H14,H15), IF(AND(B10=B13,C10=C13,B10=J14,C10=K14),SUM(H13,P14), IF(AND(B10=B13,C10=C13,B10=J15,C10=K15),SUM(H13,P15), IF(AND(B10=J13,C10=K13,B10=J14,C10=K14),SUM(P13,P14), IF(AND(B10=J13,C10=K13,B10=J15,C10=K15),SUM(P13,P15))))))) | H10: =IF(I15="","", IF(AND(B10=B14,C10=C14,B10=B15,C10=C15),(D14+D15)/(E14+E15), IF(AND(B10=B13,C10=C13,B10=J14,C10=K14),(D13+L14)/(E13+M14), IF(AND(B10=B13,C10=C13,B10=J15,C10=K15),(D13+L15)/(E13+M15), IF(AND(B10=J13,C10=K13,B10=J14,C10=K14),(L13+L14)/(M13+M14), IF(AND(B10=J13,C10=K13,B10=J15,C10=K15),(L13+L15)/(M13+M15)))))))
B12: Joueur A | D12: Points | E12: Reprises | F12: Série | G12: Match GNP | H12: Points Match | I12: Moy | J12: Joueur B | L12: Points | M12: Reprises | N12: Série | O12: Match GNP | P12: Points Match | Q12: Moy
B13: =IF(OR(B8="",B9="",B10="",D8="",D9="",D10=""),"", IF(OR(AND(D8=D10,D8<>D9),AND(D8=D9,D8<>D10)),B8,B9)) | C13: =IF(OR(B8="",B9="",B10="",D8="",D9="",D10=""),"", IF(OR(AND(D8=D10,D8<>D9),AND(D8=D9,D8<>D10)),C8,C9)) | G13: =IF(L13="","",IF(D13>L13,"G",IF(D13<L13,"P","N"))) | H13: =IF(G13="","",IF(G13="G",3,IF(G13="N",2,1))) | I13: =IF(ISNUMBER(E13),D13/E13,"") | J13: =IF(OR(B8="",B9="",B10="",D8="",D9="",D10=""),"", IF(AND(D8=D9,D8<>D10),B9,B10)) | K13: =IF(OR(B8="",B9="",B10="",D8="",D9="",D10=""),"", IF(AND(D8=D9,D8<>D10),C9,C10)) | M13: =IF(ISNUMBER(E13),E13,"") | O13: =IF(L13="","",IF(G13="P","G",IF(G13="G","P","N"))) | P13: =IF(O13="","",IF(O13="G",3,IF(O13="N",2,1))) | Q13: =IF(ISNUMBER(M13),L13/M13,"")
B14: =IF(OR(B13="",C13="",J13="",K13=""),"", IF(AND(B13=B8,C13=C8,J13=B10,K13=C10),B9, IF(AND(B13=B8,C13=C8,J13=B9,K13=C9),B10,B8))) | C14: =IF(OR(B13="",C13="",J13="",K13=""),"", IF(AND(B13=B8,C13=C8,J13=B10,K13=C10),C9, IF(AND(B13=B8,C13=C8,J13=B9,K13=C9),C10,C8))) | G14: =IF(L14="","",IF(D14>L14,"G",IF(D14<L14,"P","N"))) | H14: =IF(G14="","",IF(G14="G",3,IF(G14="N",2,1))) | I14: =IF(ISNUMBER(E14),D14/E14,"") | J14: =IF(L13="","",IF(O13="G",B13,IF(AND(O13="N",N13>F13),B13, IF(AND(O13="N",N13<=F13),J13,IF(O13="P",J13))))) | K14: =IF(L13="","", IF(O13="G",C13, IF(AND(O13="N",N13>F13),C13, IF(AND(O13="N",N13<=F13),K13, IF(O13="P",K13))))) | M14: =IF(ISNUMBER(E14),E14,"") | O14: =IF(L14="","",IF(G14="P","G",IF(G14="G","P","N"))) | P14: =IF(O14="","",IF(O14="G",3,IF(O14="N",2,1))) | Q14: =IF(ISNUMBER(M14),L14/M14,"")
B15: =IF(OR(B13="",C13="",J13="",K13=""),"", IF(AND(B13=B8,C13=C8,J13=B10,K13=C10),B9, IF(AND(B13=B8,C13=C8,J13=B9,K13=C9),B10,B8))) | C15: =IF(OR(B13="",C13="",J13="",K13=""),"", IF(AND(B13=B8,C13=C8,J13=B10,K13=C10),C9, IF(AND(B13=B8,C13=C8,J13=B9,K13=C9),C10,C8))) | G15: =IF(L15="","",IF(D15>L15,"G",IF(D15<L15,"P","N"))) | H15: =IF(G15="","",IF(G15="G",3,IF(G15="N",2,1))) | I15: =IF(ISNUMBER(E15),D15/E15,"") | J15: =IF(J14="","",IF(AND(J14=B13,K14=C13),J13,B13)) | K15: =IF(K14="","",IF(AND(J14=B13,K14=C13),K13,C13)) | M15: =IF(ISNUMBER(E15),E15,"") | O15: =IF(L15="","",IF(G15="P","G",IF(G15="G","P","N"))) | P15: =IF(O15="","",IF(O15="G",3,IF(O15="N",2,1))) | Q15: =IF(ISNUMBER(M15),L15/M15,"")
B17: Poule 2
B19: NOM | C19: Prénom | D19: Club | G19: Points Match | H19: Moyenne Générale
G20: =IF(H27="","", IF(AND(B20=B26,C20=C26,B20=B27,C20=C27),SUM(H26,H27), IF(AND(B20=B25,C20=C25,B20=J26,C20=K26),SUM(H25,P26), IF(AND(B20=B25,C20=C25,B20=J27,C20=K27),SUM(H25,P27), IF(AND(B20=J25,C20=K25,B20=J26,C20=K26),SUM(P25,P26), IF(AND(B20=J25,C20=K25,B20=J27,C20=K27),SUM(P25,P27))))))) | H20: =IF(I27="","", IF(AND(B20=B26,C20=C26,B20=B27,C20=C27),(D26+D27)/(E26+E27), IF(AND(B20=B25,C20=C25,B20=J26,C20=K26),(D25+L26)/(E25+M26), IF(AND(B20=B25,C20=C25,B20=J27,C20=K27),(D25+L27)/(E25+M27), IF(AND(B20=J25,C20=K25,B20=J26,C20=K26),(L25+L26)/(M25+M26), IF(AND(B20=J25,C20=K25,B20=J27,C20=K27),(L25+L27)/(M25+M27)))))))
G21: =IF(H27="","", IF(AND(B21=B26,C21=C26,B21=B27,C21=C27),SUM(H26,H27), IF(AND(B21=B25,C21=C25,B21=J26,C21=K26),SUM(H25,P26), IF(AND(B21=B25,C21=C25,B21=J27,C21=K27),SUM(H25,P27), IF(AND(B21=J25,C21=K25,B21=J26,C21=K26),SUM(P25,P26), IF(AND(B21=J25,C21=K25,B21=J27,C21=K27),SUM(P25,P27))))))) | H21: =IF(I27="","", IF(AND(B21=B26,C21=C26,B21=B27,C21=C27),(D26+D27)/(E26+E27), IF(AND(B21=B25,C21=C25,B21=J26,C21=K26),(D25+L26)/(E25+M26), IF(AND(B21=B25,C21=C25,B21=J27,C21=K27),(D25+L27)/(E25+M27), IF(AND(B21=J25,C21=K25,B21=J26,C21=K26),(L25+L26)/(M25+M26), IF(AND(B21=J25,C21=K25,B21=J27,C21=K27),(L25+L27)/(M25+M27)))))))
G22: =IF(H27="","", IF(AND(B22=B26,C22=C26,B22=B27,C22=C27),SUM(H26,H27), IF(AND(B22=B25,C22=C25,B22=J26,C22=K26),SUM(H25,P26), IF(AND(B22=B25,C22=C25,B22=J27,C22=K27),SUM(H25,P27), IF(AND(B22=J25,C22=K25,B22=J26,C22=K26),SUM(P25,P26), IF(AND(B22=J25,C22=K25,B22=J27,C22=K27),SUM(P25,P27))))))) | H22: =IF(I27="","", IF(AND(B22=B26,C22=C26,B22=B27,C22=C27),(D26+D27)/(E26+E27), IF(AND(B22=B25,C22=C25,B22=J26,C22=K26),(D25+L26)/(E25+M26), IF(AND(B22=B25,C22=C25,B22=J27,C22=K27),(D25+L27)/(E25+M27), IF(AND(B22=J25,C22=K25,B22=J26,C22=K26),(L25+L26)/(M25+M26), IF(AND(B22=J25,C22=K25,B22=J27,C22=K27),(L25+L27)/(M25+M27)))))))
B24: Joueur A | D24: Points | E24: Reprises | F24: Série | G24: Match GNP | H24: Points Match | I24: Moy | J24: Joueur B | L24: Points | M24: Reprises | N24: Série | O24: Match GNP | P24: Points Match | Q24: Moy
B25: =IF(OR(B20="",B21="",B22="",D20="",D21="",D22=""),"", IF(OR(AND(D20=D22,D20<>D21),AND(D20=D21,D20<>D22)),B20,B21)) | C25: =IF(OR(B20="",B21="",B22="",D20="",D21="",D22=""),"", IF(OR(AND(D20=D22,D20<>D21),AND(D20=D21,D20<>D22)),C20,C21)) | G25: =IF(L25="","",IF(D25>L25,"G",IF(D25<L25,"P","N"))) | H25: =IF(G25="","",IF(G25="G",3,IF(G25="N",2,1))) | I25: =IF(ISNUMBER(E25),D25/E25,"") | J25: =IF(OR(B20="",B21="",B22="",D20="",D21="",D22=""),"", IF(AND(D20=D21,D20<>D22),B21,B22)) | K25: =IF(OR(B20="",B21="",B22="",D20="",D21="",D22=""),"", IF(AND(D20=D21,D20<>D22),C21,C22)) | M25: =IF(ISNUMBER(E25),E25,"") | O25: =IF(L25="","",IF(G25="P","G",IF(G25="G","P","N"))) | P25: =IF(O25="","",IF(O25="G",3,IF(O25="N",2,1))) | Q25: =IF(ISNUMBER(M25),L25/M25,"")
B26: =IF(OR(B25="",C25="",J25="",K25=""),"", IF(AND(B25=B20,C25=C20,J25=B22,K25=C22),B21, IF(AND(B25=B20,C25=C20,J25=B21,K25=C21),B22,B20))) | C26: =IF(OR(B25="",C25="",J25="",K25=""),"", IF(AND(B25=B20,C25=C20,J25=B22,K25=C22),C21, IF(AND(B25=B20,C25=C20,J25=B21,K25=C21),C22,C20))) | G26: =IF(L26="","",IF(D26>L26,"G",IF(D26<L26,"P","N"))) | H26: =IF(G26="","",IF(G26="G",3,IF(G26="N",2,1))) | I26: =IF(ISNUMBER(E26),D26/E26,"") | J26: =IF(L25="","",IF(O25="G",B25,IF(AND(O25="N",N25>F25),B25, IF(AND(O25="N",N25<=F25),J25,IF(O25="P",J25))))) | K26: =IF(L25="","", IF(O25="G",C25, IF(AND(O25="N",N25>F25),C25, IF(AND(O25="N",N25<=F25),K25, IF(O25="P",K25))))) | M26: =IF(ISNUMBER(E26),E26,"") | O26: =IF(L26="","",IF(G26="P","G",IF(G26="G","P","N"))) | P26: =IF(O26="","",IF(O26="G",3,IF(O26="N",2,1))) | Q26: =IF(ISNUMBER(M26),L26/M26,"")
B27: =IF(OR(B25="",C25="",J25="",K25=""),"", IF(AND(B25=B20,C25=C20,J25=B22,K25=C22),B21, IF(AND(B25=B20,C25=C20,J25=B21,K25=C21),B22,B20))) | C27: =IF(OR(B25="",C25="",J25="",K25=""),"", IF(AND(B25=B20,C25=C20,J25=B22,K25=C22),C21, IF(AND(B25=B20,C25=C20,J25=B21,K25=C21),C22,C20))) | G27: =IF(L27="","",IF(D27>L27,"G",IF(D27<L27,"P","N"))) | H27: =IF(G27="","",IF(G27="G",3,IF(G27="N",2,1))) | I27: =IF(ISNUMBER(E27),D27/E27,"") | J27: =IF(J26="","",IF(AND(J26=B25,K26=C25),J25,B25)) | K27: =IF(K26="","",IF(AND(J26=B25,K26=C25),K25,C25)) | M27: =IF(ISNUMBER(E27),E27,"") | O27: =IF(L27="","",IF(G27="P","G",IF(G27="G","P","N"))) | P27: =IF(O27="","",IF(O27="G",3,IF(O27="N",2,1))) | Q27: =IF(ISNUMBER(M27),L27/M27,"")
B29: Poule 3
B31: NOM | C31: Prénom | D31: Club | G31: Points Match | H31: Moyenne Générale
G32: =IF(H39="","", IF(AND(B32=B38,C32=C38,B32=B39,C32=C39),SUM(H38,H39), IF(AND(B32=B37,C32=C37,B32=J38,C32=K38),SUM(H37,P38), IF(AND(B32=B37,C32=C37,B32=J39,C32=K39),SUM(H37,P39), IF(AND(B32=J37,C32=K37,B32=J38,C32=K38),SUM(P37,P38), IF(AND(B32=J37,C32=K37,B32=J39,C32=K39),SUM(P37,P39))))))) | H32: =IF(I39="","", IF(AND(B32=B38,C32=C38,B32=B39,C32=C39),(D38+D39)/(E38+E39), IF(AND(B32=B37,C32=C37,B32=J38,C32=K38),(D37+L38)/(E37+M38), IF(AND(B32=B37,C32=C37,B32=J39,C32=K39),(D37+L39)/(E37+M39), IF(AND(B32=J37,C32=K37,B32=J38,C32=K38),(L37+L38)/(M37+M38), IF(AND(B32=J37,C32=K37,B32=J39,C32=K39),(L37+L39)/(M37+M39)))))))
G33: =IF(H39="","", IF(AND(B33=B38,C33=C38,B33=B39,C33=C39),SUM(H38,H39), IF(AND(B33=B37,C33=C37,B33=J38,C33=K38),SUM(H37,P38), IF(AND(B33=B37,C33=C37,B33=J39,C33=K39),SUM(H37,P39), IF(AND(B33=J37,C33=K37,B33=J38,C33=K38),SUM(P37,P38), IF(AND(B33=J37,C33=K37,B33=J39,C33=K39),SUM(P37,P39))))))) | H33: =IF(I39="","", IF(AND(B33=B38,C33=C38,B33=B39,C33=C39),(D38+D39)/(E38+E39), IF(AND(B33=B37,C33=C37,B33=J38,C33=K38),(D37+L38)/(E37+M38), IF(AND(B33=B37,C33=C37,B33=J39,C33=K39),(D37+L39)/(E37+M39), IF(AND(B33=J37,C33=K37,B33=J38,C33=K38),(L37+L38)/(M37+M38), IF(AND(B33=J37,C33=K37,B33=J39,C33=K39),(L37+L39)/(M37+M39)))))))
G34: =IF(H39="","", IF(AND(B34=B38,C34=C38,B34=B39,C34=C39),SUM(H38,H39), IF(AND(B34=B37,C34=C37,B34=J38,C34=K38),SUM(H37,P38), IF(AND(B34=B37,C34=C37,B34=J39,C34=K39),SUM(H37,P39), IF(AND(B34=J37,C34=K37,B34=J38,C34=K38),SUM(P37,P38), IF(AND(B34=J37,C34=K37,B34=J39,C34=K39),SUM(P37,P39))))))) | H34: =IF(I39="","", IF(AND(B34=B38,C34=C38,B34=B39,C34=C39),(D38+D39)/(E38+E39), IF(AND(B34=B37,C34=C37,B34=J38,C34=K38),(D37+L38)/(E37+M38), IF(AND(B34=B37,C34=C37,B34=J39,C34=K39),(D37+L39)/(E37+M39), IF(AND(B34=J37,C34=K37,B34=J38,C34=K38),(L37+L38)/(M37+M38), IF(AND(B34=J37,C34=K37,B34=J39,C34=K39),(L37+L39)/(M37+M39)))))))
B36: Joueur A | D36: Points | E36: Reprises | F36: Série | G36: Match GNP | H36: Points Match | I36: Moy | J36: Joueur B | L36: Points | M36: Reprises | N36: Série | O36: Match GNP | P36: Points Match | Q36: Moy
B37: =IF(OR(B32="",B33="",B34="",D32="",D33="",D34=""),"", IF(OR(AND(D32=D34,D32<>D33),AND(D32=D33,D32<>D34)),B32,B33)) | C37: =IF(OR(B32="",B33="",B34="",D32="",D33="",D34=""),"", IF(OR(AND(D32=D34,D32<>D33),AND(D32=D33,D32<>D34)),C32,C33)) | G37: =IF(L37="","",IF(D37>L37,"G",IF(D37<L37,"P","N"))) | H37: =IF(G37="","",IF(G37="G",3,IF(G37="N",2,1))) | I37: =IF(ISNUMBER(E37),D37/E37,"") | J37: =IF(OR(B32="",B33="",B34="",D32="",D33="",D34=""),"", IF(AND(D32=D33,D32<>D34),B33,B34)) | K37: =IF(OR(B32="",B33="",B34="",D32="",D33="",D34=""),"", IF(AND(D32=D33,D32<>D34),C33,C34)) | M37: =IF(ISNUMBER(E37),E37,"") | O37: =IF(L37="","",IF(G37="P","G",IF(G37="G","P","N"))) | P37: =IF(O37="","",IF(O37="G",3,IF(O37="N",2,1))) | Q37: =IF(ISNUMBER(M37),L37/M37,"")
B38: =IF(OR(B37="",C37="",J37="",K37=""),"", IF(AND(B37=B32,C37=C32,J37=B34,K37=C34),B33, IF(AND(B37=B32,C37=C32,J37=B33,K37=C33),B34,B32))) | C38: =IF(OR(B37="",C37="",J37="",K37=""),"", IF(AND(B37=B32,C37=C32,J37=B34,K37=C34),C33, IF(AND(B37=B32,C37=C32,J37=B33,K37=C33),C34,C32))) | G38: =IF(L38="","",IF(D38>L38,"G",IF(D38<L38,"P","N"))) | H38: =IF(G38="","",IF(G38="G",3,IF(G38="N",2,1))) | I38: =IF(ISNUMBER(E38),D38/E38,"") | J38: =IF(L37="","",IF(O37="G",B37,IF(AND(O37="N",N37>F37),B37, IF(AND(O37="N",N37<=F37),J37,IF(O37="P",J37))))) | K38: =IF(L37="","", IF(O37="G",C37, IF(AND(O37="N",N37>F37),C37, IF(AND(O37="N",N37<=F37),K37, IF(O37="P",K37))))) | M38: =IF(ISNUMBER(E38),E38,"") | O38: =IF(L38="","",IF(G38="P","G",IF(G38="G","P","N"))) | P38: =IF(O38="","",IF(O38="G",3,IF(O38="N",2,1))) | Q38: =IF(ISNUMBER(M38),L38/M38,"")
B39: =IF(OR(B37="",C37="",J37="",K37=""),"", IF(AND(B37=B32,C37=C32,J37=B34,K37=C34),B33, IF(AND(B37=B32,C37=C32,J37=B33,K37=C33),B34,B32))) | C39: =IF(OR(B37="",C37="",J37="",K37=""),"", IF(AND(B37=B32,C37=C32,J37=B34,K37=C34),C33, IF(AND(B37=B32,C37=C32,J37=B33,K37=C33),C34,C32))) | G39: =IF(L39="","",IF(D39>L39,"G",IF(D39<L39,"P","N"))) | H39: =IF(G39="","",IF(G39="G",3,IF(G39="N",2,1))) | I39: =IF(ISNUMBER(E39),D39/E39,"") | J39: =IF(J38="","",IF(AND(J38=B37,K38=C37),J37,B37)) | K39: =IF(K38="","",IF(AND(J38=B37,K38=C37),K37,C37)) | M39: =IF(ISNUMBER(E39),E39,"") | O39: =IF(L39="","",IF(G39="P","G",IF(G39="G","P","N"))) | P39: =IF(O39="","",IF(O39="G",3,IF(O39="N",2,1))) | Q39: =IF(ISNUMBER(M39),L39/M39,"")
B41: Poule 4
B43: NOM | C43: Prénom | D43: Club | G43: Points Match | H43: Moyenne Générale
G44: =IF(H51="","", IF(AND(B44=B50,C44=C50,B44=B51,C44=C51),SUM(H50,H51), IF(AND(B44=B49,C44=C49,B44=J50,C44=K50),SUM(H49,P50), IF(AND(B44=B49,C44=C49,B44=J51,C44=K51),SUM(H49,P51), IF(AND(B44=J49,C44=K49,B44=J50,C44=K50),SUM(P49,P50), IF(AND(B44=J49,C44=K49,B44=J51,C44=K51),SUM(P49,P51))))))) | H44: =IF(I51="","", IF(AND(B44=B50,C44=C50,B44=B51,C44=C51),(D50+D51)/(E50+E51), IF(AND(B44=B49,C44=C49,B44=J50,C44=K50),(D49+L50)/(E49+M50), IF(AND(B44=B49,C44=C49,B44=J51,C44=K51),(D49+L51)/(E49+M51), IF(AND(B44=J49,C44=K49,B44=J50,C44=K50),(L49+L50)/(M49+M50), IF(AND(B44=J49,C44=K49,B44=J51,C44=K51),(L49+L51)/(M49+M51)))))))
G45: =IF(H51="","", IF(AND(B45=B50,C45=C50,B45=B51,C45=C51),SUM(H50,H51), IF(AND(B45=B49,C45=C49,B45=J50,C45=K50),SUM(H49,P50), IF(AND(B45=B49,C45=C49,B45=J51,C45=K51),SUM(H49,P51), IF(AND(B45=J49,C45=K49,B45=J50,C45=K50),SUM(P49,P50), IF(AND(B45=J49,C45=K49,B45=J51,C45=K51),SUM(P49,P51))))))) | H45: =IF(I51="","", IF(AND(B45=B50,C45=C50,B45=B51,C45=C51),(D50+D51)/(E50+E51), IF(AND(B45=B49,C45=C49,B45=J50,C45=K50),(D49+L50)/(E49+M50), IF(AND(B45=B49,C45=C49,B45=J51,C45=K51),(D49+L51)/(E49+M51), IF(AND(B45=J49,C45=K49,B45=J50,C45=K50),(L49+L50)/(M49+M50), IF(AND(B45=J49,C45=K49,B45=J51,C45=K51),(L49+L51)/(M49+M51)))))))
G46: =IF(H51="","", IF(AND(B46=B50,C46=C50,B46=B51,C46=C51),SUM(H50,H51), IF(AND(B46=B49,C46=C49,B46=J50,C46=K50),SUM(H49,P50), IF(AND(B46=B49,C46=C49,B46=J51,C46=K51),SUM(H49,P51), IF(AND(B46=J49,C46=K49,B46=J50,C46=K50),SUM(P49,P50), IF(AND(B46=J49,C46=K49,B46=J51,C46=K51),SUM(P49,P51))))))) | H46: =IF(I51="","", IF(AND(B46=B50,C46=C50,B46=B51,C46=C51),(D50+D51)/(E50+E51), IF(AND(B46=B49,C46=C49,B46=J50,C46=K50),(D49+L50)/(E49+M50), IF(AND(B46=B49,C46=C49,B46=J51,C46=K51),(D49+L51)/(E49+M51), IF(AND(B46=J49,C46=K49,B46=J50,C46=K50),(L49+L50)/(M49+M50), IF(AND(B46=J49,C46=K49,B46=J51,C46=K51),(L49+L51)/(M49+M51)))))))
B48: Joueur A | D48: Points | E48: Reprises | F48: Série | G48: Match GNP | H48: Points Match | I48: Moy | J48: Joueur B | L48: Points | M48: Reprises | N48: Série | O48: Match GNP | P48: Points Match | Q48: Moy
B49: =IF(OR(B44="",B45="",B46="",D44="",D45="",D46=""),"", IF(OR(AND(D44=D46,D44<>D45),AND(D44=D45,D44<>D46)),B44,B45)) | C49: =IF(OR(B44="",B45="",B46="",D44="",D45="",D46=""),"", IF(OR(AND(D44=D46,D44<>D45),AND(D44=D45,D44<>D46)),C44,C45)) | G49: =IF(L49="","",IF(D49>L49,"G",IF(D49<L49,"P","N"))) | H49: =IF(G49="","",IF(G49="G",3,IF(G49="N",2,1))) | I49: =IF(ISNUMBER(E49),D49/E49,"") | J49: =IF(OR(B44="",B45="",B46="",D44="",D45="",D46=""),"", IF(AND(D44=D45,D44<>D46),B45,B46)) | K49: =IF(OR(B44="",B45="",B46="",D44="",D45="",D46=""),"", IF(AND(D44=D45,D44<>D46),C45,C46)) | M49: =IF(ISNUMBER(E49),E49,"") | O49: =IF(L49="","",IF(G49="P","G",IF(G49="G","P","N"))) | P49: =IF(O49="","",IF(O49="G",3,IF(O49="N",2,1))) | Q49: =IF(ISNUMBER(M49),L49/M49,"")
B50: =IF(OR(B49="",C49="",J49="",K49=""),"", IF(AND(B49=B44,C49=C44,J49=B46,K49=C46),B45, IF(AND(B49=B44,C49=C44,J49=B45,K49=C45),B46,B44))) | C50: =IF(OR(B49="",C49="",J49="",K49=""),"", IF(AND(B49=B44,C49=C44,J49=B46,K49=C46),C45, IF(AND(B49=B44,C49=C44,J49=B45,K49=C45),C46,C44))) | G50: =IF(L50="","",IF(D50>L50,"G",IF(D50<L50,"P","N"))) | H50: =IF(G50="","",IF(G50="G",3,IF(G50="N",2,1))) | I50: =IF(ISNUMBER(E50),D50/E50,"") | J50: =IF(L49="","",IF(O49="G",B49,IF(AND(O49="N",N49>F49),B49, IF(AND(O49="N",N49<=F49),J49,IF(O49="P",J49))))) | K50: =IF(L49="","", IF(O49="G",C49, IF(AND(O49="N",N49>F49),C49, IF(AND(O49="N",N49<=F49),K49, IF(O49="P",K49))))) | M50: =IF(ISNUMBER(E50),E50,"") | O50: =IF(L50="","",IF(G50="P","G",IF(G50="G","P","N"))) | P50: =IF(O50="","",IF(O50="G",3,IF(O50="N",2,1))) | Q50: =IF(ISNUMBER(M50),L50/M50,"")
B51: =IF(OR(B49="",C49="",J49="",K49=""),"", IF(AND(B49=B44,C49=C44,J49=B46,K49=C46),B45, IF(AND(B49=B44,C49=C44,J49=B45,K49=C45),B46,B44))) | C51: =IF(OR(B49="",C49="",J49="",K49=""),"", IF(AND(B49=B44,C49=C44,J49=B46,K49=C46),C45, IF(AND(B49=B44,C49=C44,J49=B45,K49=C45),C46,C44))) | G51: =IF(L51="","",IF(D51>L51,"G",IF(D51<L51,"P","N"))) | H51: =IF(G51="","",IF(G51="G",3,IF(G51="N",2,1))) | I51: =IF(ISNUMBER(E51),D51/E51,"") | J51: =IF(J50="","",IF(AND(J50=B49,K50=C49),J49,B49)) | K51: =IF(K50="","",IF(AND(J50=B49,K50=C49),K49,C49)) | M51: =IF(ISNUMBER(E51),E51,"") | O51: =IF(L51="","",IF(G51="P","G",IF(G51="G","P","N"))) | P51: =IF(O51="","",IF(O51="G",3,IF(O51="N",2,1))) | Q51: =IF(ISNUMBER(M51),L51/M51,"")
B53: Poule 5
B55: NOM | C55: Prénom | D55: Club | G55: Points Match | H55: Moyenne Générale
G56: =IF(H63="","", IF(AND(B56=B62,C56=C62,B56=B63,C56=C63),SUM(H62,H63), IF(AND(B56=B61,C56=C61,B56=J62,C56=K62),SUM(H61,P62), IF(AND(B56=B61,C56=C61,B56=J63,C56=K63),SUM(H61,P63), IF(AND(B56=J61,C56=K61,B56=J62,C56=K62),SUM(P61,P62), IF(AND(B56=J61,C56=K61,B56=J63,C56=K63),SUM(P61,P63))))))) | H56: =IF(I63="","", IF(AND(B56=B62,C56=C62,B56=B63,C56=C63),(D62+D63)/(E62+E63), IF(AND(B56=B61,C56=C61,B56=J62,C56=K62),(D61+L62)/(E61+M62), IF(AND(B56=B61,C56=C61,B56=J63,C56=K63),(D61+L63)/(E61+M63), IF(AND(B56=J61,C56=K61,B56=J62,C56=K62),(L61+L62)/(M61+M62), IF(AND(B56=J61,C56=K61,B56=J63,C56=K63),(L61+L63)/(M61+M63)))))))
G57: =IF(H63="","", IF(AND(B57=B62,C57=C62,B57=B63,C57=C63),SUM(H62,H63), IF(AND(B57=B61,C57=C61,B57=J62,C57=K62),SUM(H61,P62), IF(AND(B57=B61,C57=C61,B57=J63,C57=K63),SUM(H61,P63), IF(AND(B57=J61,C57=K61,B57=J62,C57=K62),SUM(P61,P62), IF(AND(B57=J61,C57=K61,B57=J63,C57=K63),SUM(P61,P63))))))) | H57: =IF(I63="","", IF(AND(B57=B62,C57=C62,B57=B63,C57=C63),(D62+D63)/(E62+E63), IF(AND(B57=B61,C57=C61,B57=J62,C57=K62),(D61+L62)/(E61+M62), IF(AND(B57=B61,C57=C61,B57=J63,C57=K63),(D61+L63)/(E61+M63), IF(AND(B57=J61,C57=K61,B57=J62,C57=K62),(L61+L62)/(M61+M62), IF(AND(B57=J61,C57=K61,B57=J63,C57=K63),(L61+L63)/(M61+M63)))))))
G58: =IF(H63="","", IF(AND(B58=B62,C58=C62,B58=B63,C58=C63),SUM(H62,H63), IF(AND(B58=B61,C58=C61,B58=J62,C58=K62),SUM(H61,P62), IF(AND(B58=B61,C58=C61,B58=J63,C58=K63),SUM(H61,P63), IF(AND(B58=J61,C58=K61,B58=J62,C58=K62),SUM(P61,P62), IF(AND(B58=J61,C58=K61,B58=J63,C58=K63),SUM(P61,P63))))))) | H58: =IF(I63="","", IF(AND(B58=B62,C58=C62,B58=B63,C58=C63),(D62+D63)/(E62+E63), IF(AND(B58=B61,C58=C61,B58=J62,C58=K62),(D61+L62)/(E61+M62), IF(AND(B58=B61,C58=C61,B58=J63,C58=K63),(D61+L63)/(E61+M63), IF(AND(B58=J61,C58=K61,B58=J62,C58=K62),(L61+L62)/(M61+M62), IF(AND(B58=J61,C58=K61,B58=J63,C58=K63),(L61+L63)/(M61+M63)))))))
B60: Joueur A | D60: Points | E60: Reprises | F60: Série | G60: Match GNP | H60: Points Match | I60: Moy | J60: Joueur B | L60: Points | M60: Reprises | N60: Série | O60: Match GNP | P60: Points Match | Q60: Moy
B61: =IF(OR(B56="",B57="",B58="",D56="",D57="",D58=""),"", IF(OR(AND(D56=D58,D56<>D57),AND(D56=D57,D56<>D58)),B56,B57)) | C61: =IF(OR(B56="",B57="",B58="",D56="",D57="",D58=""),"", IF(OR(AND(D56=D58,D56<>D57),AND(D56=D57,D56<>D58)),C56,C57)) | G61: =IF(L61="","",IF(D61>L61,"G",IF(D61<L61,"P","N"))) | H61: =IF(G61="","",IF(G61="G",3,IF(G61="N",2,1))) | I61: =IF(ISNUMBER(E61),D61/E61,"") | J61: =IF(OR(B56="",B57="",B58="",D56="",D57="",D58=""),"", IF(AND(D56=D57,D56<>D58),B57,B58)) | K61: =IF(OR(B56="",B57="",B58="",D56="",D57="",D58=""),"", IF(AND(D56=D57,D56<>D58),C57,C58)) | M61: =IF(ISNUMBER(E61),E61,"") | O61: =IF(L61="","",IF(G61="P","G",IF(G61="G","P","N"))) | P61: =IF(O61="","",IF(O61="G",3,IF(O61="N",2,1))) | Q61: =IF(ISNUMBER(M61),L61/M61,"")
B62: =IF(OR(B61="",C61="",J61="",K61=""),"", IF(AND(B61=B56,C61=C56,J61=B58,K61=C58),B57, IF(AND(B61=B56,C61=C56,J61=B57,K61=C57),B58,B56))) | C62: =IF(OR(B61="",C61="",J61="",K61=""),"", IF(AND(B61=B56,C61=C56,J61=B58,K61=C58),C57, IF(AND(B61=B56,C61=C56,J61=B57,K61=C57),C58,C56))) | G62: =IF(L62="","",IF(D62>L62,"G",IF(D62<L62,"P","N"))) | H62: =IF(G62="","",IF(G62="G",3,IF(G62="N",2,1))) | I62: =IF(ISNUMBER(E62),D62/E62,"") | J62: =IF(L61="","",IF(O61="G",B61,IF(AND(O61="N",N61>F61),B61, IF(AND(O61="N",N61<=F61),J61,IF(O61="P",J61))))) | K62: =IF(L61="","", IF(O61="G",C61, IF(AND(O61="N",N61>F61),C61, IF(AND(O61="N",N61<=F61),K61, IF(O61="P",K61))))) | M62: =IF(ISNUMBER(E62),E62,"") | O62: =IF(L62="","",IF(G62="P","G",IF(G62="G","P","N"))) | P62: =IF(O62="","",IF(O62="G",3,IF(O62="N",2,1))) | Q62: =IF(ISNUMBER(M62),L62/M62,"")
B63: =IF(OR(B61="",C61="",J61="",K61=""),"", IF(AND(B61=B56,C61=C56,J61=B58,K61=C58),B57, IF(AND(B61=B56,C61=C56,J61=B57,K61=C57),B58,B56))) | C63: =IF(OR(B61="",C61="",J61="",K61=""),"", IF(AND(B61=B56,C61=C56,J61=B58,K61=C58),C57, IF(AND(B61=B56,C61=C56,J61=B57,K61=C57),C58,C56))) | G63: =IF(L63="","",IF(D63>L63,"G",IF(D63<L63,"P","N"))) | H63: =IF(G63="","",IF(G63="G",3,IF(G63="N",2,1))) | I63: =IF(ISNUMBER(E63),D63/E63,"") | J63: =IF(J62="","",IF(AND(J62=B61,K62=C61),J61,B61)) | K63: =IF(K62="","",IF(AND(J62=B61,K62=C61),K61,C61)) | M63: =IF(ISNUMBER(E63),E63,"") | O63: =IF(L63="","",IF(G63="P","G",IF(G63="G","P","N"))) | P63: =IF(O63="","",IF(O63="G",3,IF(O63="N",2,1))) | Q63: =IF(ISNUMBER(M63),L63/M63,"")
B65: Poule 6
B67: NOM | C67: Prénom | D67: Club | G67: Points Match | H67: Moyenne Générale
G68: =IF(H75="","", IF(AND(B68=B74,C68=C74,B68=B75,C68=C75),SUM(H74,H75), IF(AND(B68=B73,C68=C73,B68=J74,C68=K74),SUM(H73,P74), IF(AND(B68=B73,C68=C73,B68=J75,C68=K75),SUM(H73,P75), IF(AND(B68=J73,C68=K73,B68=J74,C68=K74),SUM(P73,P74), IF(AND(B68=J73,C68=K73,B68=J75,C68=K75),SUM(P73,P75))))))) | H68: =IF(I75="","", IF(AND(B68=B74,C68=C74,B68=B75,C68=C75),(D74+D75)/(E74+E75), IF(AND(B68=B73,C68=C73,B68=J74,C68=K74),(D73+L74)/(E73+M74), IF(AND(B68=B73,C68=C73,B68=J75,C68=K75),(D73+L75)/(E73+M75), IF(AND(B68=J73,C68=K73,B68=J74,C68=K74),(L73+L74)/(M73+M74), IF(AND(B68=J73,C68=K73,B68=J75,C68=K75),(L73+L75)/(M73+M75)))))))
G69: =IF(H75="","", IF(AND(B69=B74,C69=C74,B69=B75,C69=C75),SUM(H74,H75), IF(AND(B69=B73,C69=C73,B69=J74,C69=K74),SUM(H73,P74), IF(AND(B69=B73,C69=C73,B69=J75,C69=K75),SUM(H73,P75), IF(AND(B69=J73,C69=K73,B69=J74,C69=K74),SUM(P73,P74), IF(AND(B69=J73,C69=K73,B69=J75,C69=K75),SUM(P73,P75))))))) | H69: =IF(I75="","", IF(AND(B69=B74,C69=C74,B69=B75,C69=C75),(D74+D75)/(E74+E75), IF(AND(B69=B73,C69=C73,B69=J74,C69=K74),(D73+L74)/(E73+M74), IF(AND(B69=B73,C69=C73,B69=J75,C69=K75),(D73+L75)/(E73+M75), IF(AND(B69=J73,C69=K73,B69=J74,C69=K74),(L73+L74)/(M73+M74), IF(AND(B69=J73,C69=K73,B69=J75,C69=K75),(L73+L75)/(M73+M75)))))))
G70: =IF(H75="","", IF(AND(B70=B74,C70=C74,B70=B75,C70=C75),SUM(H74,H75), IF(AND(B70=B73,C70=C73,B70=J74,C70=K74),SUM(H73,P74), IF(AND(B70=B73,C70=C73,B70=J75,C70=K75),SUM(H73,P75), IF(AND(B70=J73,C70=K73,B70=J74,C70=K74),SUM(P73,P74), IF(AND(B70=J73,C70=K73,B70=J75,C70=K75),SUM(P73,P75))))))) | H70: =IF(I75="","", IF(AND(B70=B74,C70=C74,B70=B75,C70=C75),(D74+D75)/(E74+E75), IF(AND(B70=B73,C70=C73,B70=J74,C70=K74),(D73+L74)/(E73+M74), IF(AND(B70=B73,C70=C73,B70=J75,C70=K75),(D73+L75)/(E73+M75), IF(AND(B70=J73,C70=K73,B70=J74,C70=K74),(L73+L74)/(M73+M74), IF(AND(B70=J73,C70=K73,B70=J75,C70=K75),(L73+L75)/(M73+M75)))))))
B72: Joueur A | D72: Points | E72: Reprises | F72: Série | G72: Match GNP | H72: Points Match | I72: Moy | J72: Joueur B | L72: Points | M72: Reprises | N72: Série | O72: Match GNP | P72: Points Match | Q72: Moy
B73: =IF(OR(B68="",B69="",B70="",D68="",D69="",D70=""),"", IF(OR(AND(D68=D70,D68<>D69),AND(D68=D69,D68<>D70)),B68,B69)) | C73: =IF(OR(B68="",B69="",B70="",D68="",D69="",D70=""),"", IF(OR(AND(D68=D70,D68<>D69),AND(D68=D69,D68<>D70)),C68,C69)) | G73: =IF(L73="","",IF(D73>L73,"G",IF(D73<L73,"P","N"))) | H73: =IF(G73="","",IF(G73="G",3,IF(G73="N",2,1))) | I73: =IF(ISNUMBER(E73),D73/E73,"") | J73: =IF(OR(B68="",B69="",B70="",D68="",D69="",D70=""),"", IF(AND(D68=D69,D68<>D70),B69,B70)) | K73: =IF(OR(B68="",B69="",B70="",D68="",D69="",D70=""),"", IF(AND(D68=D69,D68<>D70),C69,C70)) | M73: =IF(ISNUMBER(E73),E73,"") | O73: =IF(L73="","",IF(G73="P","G",IF(G73="G","P","N"))) | P73: =IF(O73="","",IF(O73="G",3,IF(O73="N",2,1))) | Q73: =IF(ISNUMBER(M73),L73/M73,"")
B74: =IF(OR(B73="",C73="",J73="",K73=""),"", IF(AND(B73=B68,C73=C68,J73=B70,K73=C70),B69, IF(AND(B73=B68,C73=C68,J73=B69,K73=C69),B70,B68))) | C74: =IF(OR(B73="",C73="",J73="",K73=""),"", IF(AND(B73=B68,C73=C68,J73=B70,K73=C70),C69, IF(AND(B73=B68,C73=C68,J73=B69,K73=C69),C70,C68))) | G74: =IF(L74="","",IF(D74>L74,"G",IF(D74<L74,"P","N"))) | H74: =IF(G74="","",IF(G74="G",3,IF(G74="N",2,1))) | I74: =IF(ISNUMBER(E74),D74/E74,"") | J74: =IF(L73="","",IF(O73="G",B73,IF(AND(O73="N",N73>F73),B73, IF(AND(O73="N",N73<=F73),J73,IF(O73="P",J73))))) | K74: =IF(L73="","", IF(O73="G",C73, IF(AND(O73="N",N73>F73),C73, IF(AND(O73="N",N73<=F73),K73, IF(O73="P",K73))))) | M74: =IF(ISNUMBER(E74),E74,"") | O74: =IF(L74="","",IF(G74="P","G",IF(G74="G","P","N"))) | P74: =IF(O74="","",IF(O74="G",3,IF(O74="N",2,1))) | Q74: =IF(ISNUMBER(M74),L74/M74,"")
B75: =IF(OR(B73="",C73="",J73="",K73=""),"", IF(AND(B73=B68,C73=C68,J73=B70,K73=C70),B69, IF(AND(B73=B68,C73=C68,J73=B69,K73=C69),B70,B68))) | C75: =IF(OR(B73="",C73="",J73="",K73=""),"", IF(AND(B73=B68,C73=C68,J73=B70,K73=C70),C69, IF(AND(B73=B68,C73=C68,J73=B69,K73=C69),C70,C68))) | G75: =IF(L75="","",IF(D75>L75,"G",IF(D75<L75,"P","N"))) | H75: =IF(G75="","",IF(G75="G",3,IF(G75="N",2,1))) | I75: =IF(ISNUMBER(E75),D75/E75,"") | J75: =IF(J74="","",IF(AND(J74=B73,K74=C73),J73,B73)) | K75: =IF(K74="","",IF(AND(J74=B73,K74=C73),K73,C73)) | M75: =IF(ISNUMBER(E75),E75,"") | O75: =IF(L75="","",IF(G75="P","G",IF(G75="G","P","N"))) | P75: =IF(O75="","",IF(O75="G",3,IF(O75="N",2,1))) | Q75: =IF(ISNUMBER(M75),L75/M75,"")

Sheet 3B - Poules croisées 3+2
B2: Club : | F2: Date : | I2: 3 BANDES | K2: Distances : | L2: =IF($C$3="","",VLOOKUP($C$3,Menus!$D$1:$F$11,2,))
B3: Catégorie : | F3: Tour : | K3: Reprises : | L3: =IF($C$3="","",VLOOKUP($C$3,Menus!$D$1:$F$11,3,))
B5: Poule 1 | J5: Poule 2
B7: NOM | C7: Prénom | D7: Club | G7: Points Match | H7: Moyenne Générale | J7: NOM | K7: Prénom | L7: Club | O7: Points Match | P7: Moyenne Générale
G8: =IF(ISNUMBER(H17),H15+H17,"") | H8: =IF(ISNUMBER(I17),(D15+D17)/(E15+E17),"") | O8: =IF(P17="","",IF(AND(J16=J8,K16=K8),H14+P16,H14+P17)) | P8: =IF(Q17="","",IF(AND(J16=J8,K16=K8),(D14+L16)/(E14+M16),(D14+L17)/(E14+M17)))
G9: =IF(H16="","",IF(AND(J15=B9,K15=C9),H13+P13,H13+H16)) | H9: =IF(I16="","",IF(AND(J15=B9,K15=C9),(D13+L15)/(E13+M15),(D13+D16)/(E13+E16))) | O9: =IF(P17="","",IF(AND(J16=J9,K16=K9,P14+P16,P14+P17),TRUE())) | P9: =IF(Q17="","",IF(AND(J16=J9,K16=K9),(L14+L16)/(M14+M16),(L14+L17)/(M14+M17)))
G10: =IF(H16="","",IF(AND(J15=B10,K15=C10),P13+P15,P13+H16)) | H10: =IF(I16="","",IF(AND(J15=B10,K15=C10),(L13+L15)/(M13+M15),(L13+D16)/(M13+E16)))
B12: Joueur A | D12: Points | E12: Reprises | F12: Série | G12: Match GNP | H12: Points Match | I12: Moy | J12: Joueur B | L12: Points | M12: Reprises | N12: Série | O12: Match GNP | P12: Points Match | Q12: Moy
B13: =IF(B9="","",B9) | C13: =IF(C9="","",C9) | G13: =IF(L13="","",IF(D13>L13,"G",IF(D13<L13,"P","N"))) | H13: =IF(G13="","",IF(G13="G",3,IF(G13="N",2,1))) | I13: =IF(ISNUMBER(D13),D13/E13,"") | J13: =IF(B10="","",B10) | K13: =IF(C10="","",C10) | M13: =IF(ISNUMBER(E13),E13,"") | O13: =IF(L13="","",IF(G13="P","G",IF(G13="G","P","N"))) | P13: =IF(O13="","",IF(O13="G",3,IF(O13="N",2,1))) | Q13: =IF(ISNUMBER(L13),L13/M13,"")
B14: =IF(J8="","",J8) | C14: =IF(K8="","",K8) | G14: =IF(L14="","",IF(D14>L14,"G",IF(D14<L14,"P","N"))) | H14: =IF(G14="","",IF(G14="G",3,IF(G14="N",2,1))) | I14: =IF(ISNUMBER(D14),D14/E14,"") | J14: =IF(J9="","",J9) | K14: =IF(K9="","",K9) | M14: =IF(ISNUMBER(E14),E14,"") | O14: =IF(L14="","",IF(G14="P","G",IF(G14="G","P","N"))) | P14: =IF(O14="","",IF(O14="G",3,IF(O14="N",2,1))) | Q14: =IF(ISNUMBER(L14),L14/M14,"")
B15: =IF(B8="","",B8) | C15: =IF(C8="","",C8) | G15: =IF(L15="","",IF(D15>L15,"G",IF(D15<L15,"P","N"))) | H15: =IF(G15="","",IF(G15="G",3,IF(G15="N",2,1))) | I15: =IF(ISNUMBER(D15),D15/E15,"") | J15: =IF(L13="","", IF(O13="G",B9, IF(AND(O13="N",N13>F13),B9, IF(AND(O13="N",N13<=F13),B10, IF(O13="P",B10))))) | K15: =IF(L13="","", IF(O13="G",C9, IF(AND(O13="N",N13>F13),C9, IF(AND(O13="N",N13<=F13),C10, IF(O13="P",C10))))) | M15: =IF(ISNUMBER(E15),E15,"") | O15: =IF(L15="","",IF(G15="P","G",IF(G15="G","P","N"))) | P15: =IF(O15="","",IF(O15="G",3,IF(O15="N",2,1))) | Q15: =IF(ISNUMBER(L15),L15/M15,"")
B16: =IF(L13="","",IF(AND(J15=B9,K15=C9),B10,B9)) | C16: =IF(L13="","",IF(AND(J15=B9,K15=C9),C10,C9)) | G16: =IF(L16="","",IF(D16>L16,"G",IF(D16<L16,"P","N"))) | H16: =IF(G16="","",IF(G16="G",3,IF(G16="N",2,1))) | I16: =IF(ISNUMBER(D16),D16/E16,"") | J16: =IF(L14="","", IF(O14="G",J9, IF(AND(O14="N",N14>F14),J9, IF(AND(O14="N",N14<=F14),J8, IF(O14="P",J8))))) | K16: =IF(L14="","", IF(O14="G",K9, IF(AND(O14="N",N14>F14),K9, IF(AND(O14="N",N14<=F14),K8, IF(O14="P",K8))))) | M16: =IF(ISNUMBER(E16),E16,"") | O16: =IF(L16="","",IF(G16="P","G",IF(G16="G","P","N"))) | P16: =IF(O16="","",IF(O16="G",3,IF(O16="N",2,1))) | Q16: =IF(ISNUMBER(L16),L16/M16,"")
B17: =IF(B8="","",B8) | C17: =IF(C8="","",C8) | G17: =IF(L17="","",IF(D17>L17,"G",IF(D17<L17,"P","N"))) | H17: =IF(G17="","",IF(G17="G",3,IF(G17="N",2,1))) | I17: =IF(ISNUMBER(D17),D17/E17,"") | J17: =IF(J16="","",IF(AND(J16=J8,K16=K8),J9,J8)) | K17: =IF(J16="","",IF(AND(J16=J8,K16=K8),K9,K8)) | M17: =IF(ISNUMBER(E17),E17,"") | O17: =IF(L17="","",IF(G17="P","G",IF(G17="G","P","N"))) | P17: =IF(O17="","",IF(O17="G",3,IF(O17="N",2,1))) | Q17: =IF(ISNUMBER(L17),L17/M17,"")
B19: A remplir si 8 ou 11 joueurs dans la salle :
B20: Poule 3
B22: NOM | C22: Prénom | D22: Club | G22: Points Match | H22: Moyenne Générale
G23: =IF(H30="","", IF(AND(B23=B29,C23=C29,B23=B30,C23=C30),SUM(H29,H30), IF(AND(B23=B28,C23=C28,B23=J29,C23=K29),SUM(H28,P29), IF(AND(B23=B28,C23=C28,B23=J30,C23=K30),SUM(H28,P30), IF(AND(B23=J28,C23=K28,B23=J29,C23=K29),SUM(P28,P29), IF(AND(B23=J28,C23=K28,B23=J30,C23=K30),SUM(P28,P30))))))) | H23: =IF(I30="","", IF(AND(B23=B29,C23=C29,B23=B30,C23=C30),(D29+D30)/(E29+E30), IF(AND(B23=B28,C23=C28,B23=J29,C23=K29),(D28+L29)/(E28+M29), IF(AND(B23=B28,C23=C28,B23=J30,C23=K30),(D28+L30)/(E28+M30), IF(AND(B23=J28,C23=K28,B23=J29,C23=K29),(L28+L29)/(M28+M29), IF(AND(B23=J28,C23=K28,B23=J30,C23=K30),(L28+L30)/(M28+M30)))))))
G24: =IF(H30="","", IF(AND(B24=B29,C24=C29,B24=B30,C24=C30),SUM(H29,H30), IF(AND(B24=B28,C24=C28,B24=J29,C24=K29),SUM(H28,P29), IF(AND(B24=B28,C24=C28,B24=J30,C24=K30),SUM(H28,P30), IF(AND(B24=J28,C24=K28,B24=J29,C24=K29),SUM(P28,P29), IF(AND(B24=J28,C24=K28,B24=J30,C24=K30),SUM(P28,P30))))))) | H24: =IF(I30="","", IF(AND(B24=B29,C24=C29,B24=B30,C24=C30),(D29+D30)/(E29+E30), IF(AND(B24=B28,C24=C28,B24=J29,C24=K29),(D28+L29)/(E28+M29), IF(AND(B24=B28,C24=C28,B24=J30,C24=K30),(D28+L30)/(E28+M30), IF(AND(B24=J28,C24=K28,B24=J29,C24=K29),(L28+L29)/(M28+M29), IF(AND(B24=J28,C24=K28,B24=J30,C24=K30),(L28+L30)/(M28+M30)))))))
G25: =IF(H30="","", IF(AND(B25=B29,C25=C29,B25=B30,C25=C30),SUM(H29,H30), IF(AND(B25=B28,C25=C28,B25=J29,C25=K29),SUM(H28,P29), IF(AND(B25=B28,C25=C28,B25=J30,C25=K30),SUM(H28,P30), IF(AND(B25=J28,C25=K28,B25=J29,C25=K29),SUM(P28,P29), IF(AND(B25=J28,C25=K28,B25=J30,C25=K30),SUM(P28,P30))))))) | H25: =IF(I30="","", IF(AND(B25=B29,C25=C29,B25=B30,C25=C30),(D29+D30)/(E29+E30), IF(AND(B25=B28,C25=C28,B25=J29,C25=K29),(D28+L29)/(E28+M29), IF(AND(B25=B28,C25=C28,B25=J30,C25=K30),(D28+L30)/(E28+M30), IF(AND(B25=J28,C25=K28,B25=J29,C25=K29),(L28+L29)/(M28+M29), IF(AND(B25=J28,C25=K28,B25=J30,C25=K30),(L28+L30)/(M28+M30)))))))
B27: Joueur A | D27: Points | E27: Reprises | F27: Série | G27: Match GNP | H27: Points Match | I27: Moy | J27: Joueur B | L27: Points | M27: Reprises | N27: Série | O27: Match GNP | P27: Points Match | Q27: Moy
B28: =IF(OR(B23="",B24="",B25="",D23="",D24="",D25=""),"", IF(OR(AND(D23=D25,D23<>D24),AND(D23=D24,D23<>D25)),B23,B24)) | C28: =IF(OR(B23="",B24="",B25="",D23="",D24="",D25=""),"", IF(OR(AND(D23=D25,D23<>D24),AND(D23=D24,D23<>D25)),C23,C24)) | G28: =IF(L28="","",IF(D28>L28,"G",IF(D28<L28,"P","N"))) | H28: =IF(G28="","",IF(G28="G",3,IF(G28="N",2,1))) | I28: =IF(ISNUMBER(E28),D28/E28,"") | J28: =IF(OR(B23="",B24="",B25="",D23="",D24="",D25=""),"", IF(AND(D23=D24,D23<>D25),B24,B25)) | K28: =IF(OR(B23="",B24="",B25="",D23="",D24="",D25=""),"", IF(AND(D23=D24,D23<>D25),C24,C25)) | M28: =IF(ISNUMBER(E28),E28,"") | O28: =IF(L28="","",IF(G28="P","G",IF(G28="G","P","N"))) | P28: =IF(O28="","",IF(O28="G",3,IF(O28="N",2,1))) | Q28: =IF(ISNUMBER(M28),L28/M28,"")
B29: =IF(OR(B28="",C28="",J28="",K28=""),"", IF(AND(B28=B23,C28=C23,J28=B25,K28=C25),B24, IF(AND(B28=B23,C28=C23,J28=B24,K28=C24),B25,B23))) | C29: =IF(OR(B28="",C28="",J28="",K28=""),"", IF(AND(B28=B23,C28=C23,J28=B25,K28=C25),C24, IF(AND(B28=B23,C28=C23,J28=B24,K28=C24),C25,C23))) | G29: =IF(L29="","",IF(D29>L29,"G",IF(D29<L29,"P","N"))) | H29: =IF(G29="","",IF(G29="G",3,IF(G29="N",2,1))) | I29: =IF(ISNUMBER(E29),D29/E29,"") | J29: =IF(L28="","",IF(O28="G",B28,IF(AND(O28="N",N28>F28),B28, IF(AND(O28="N",N28<=F28),J28,IF(O28="P",J28))))) | K29: =IF(L28="","", IF(O28="G",C28, IF(AND(O28="N",N28>F28),C28, IF(AND(O28="N",N28<=F28),K28, IF(O28="P",K28))))) | M29: =IF(ISNUMBER(E29),E29,"") | O29: =IF(L29="","",IF(G29="P","G",IF(G29="G","P","N"))) | P29: =IF(O29="","",IF(O29="G",3,IF(O29="N",2,1))) | Q29: =IF(ISNUMBER(M29),L29/M29,"")
B30: =IF(OR(B28="",C28="",J28="",K28=""),"", IF(AND(B28=B23,C28=C23,J28=B25,K28=C25),B24, IF(AND(B28=B23,C28=C23,J28=B24,K28=C24),B25,B23))) | C30: =IF(OR(B28="",C28="",J28="",K28=""),"", IF(AND(B28=B23,C28=C23,J28=B25,K28=C25),C24, IF(AND(B28=B23,C28=C23,J28=B24,K28=C24),C25,C23))) | G30: =IF(L30="","",IF(D30>L30,"G",IF(D30<L30,"P","N"))) | H30: =IF(G30="","",IF(G30="G",3,IF(G30="N",2,1))) | I30: =IF(ISNUMBER(E30),D30/E30,"") | J30: =IF(J29="","",IF(AND(J29=B28,K29=C28),J28,B28)) | K30: =IF(K29="","",IF(AND(J29=B28,K29=C28),K28,C28)) | M30: =IF(ISNUMBER(E30),E30,"") | O30: =IF(L30="","",IF(G30="P","G",IF(G30="G","P","N"))) | P30: =IF(O30="","",IF(O30="G",3,IF(O30="N",2,1))) | Q30: =IF(ISNUMBER(M30),L30/M30,"")
B32: A remplir si 11 joueurs dans la salle :
B33: Poule 4
B35: NOM | C35: Prénom | D35: Club | G35: Points Match | H35: Moyenne Générale
G36: =IF(H43="","", IF(AND(B36=B42,C36=C42,B36=B43,C36=C43),SUM(H42,H43), IF(AND(B36=B41,C36=C41,B36=J42,C36=K42),SUM(H41,P42), IF(AND(B36=B41,C36=C41,B36=J43,C36=K43),SUM(H41,P43), IF(AND(B36=J41,C36=K41,B36=J42,C36=K42),SUM(P41,P42), IF(AND(B36=J41,C36=K41,B36=J43,C36=K43),SUM(P41,P43))))))) | H36: =IF(I43="","", IF(AND(B36=B42,C36=C42,B36=B43,C36=C43),(D42+D43)/(E42+E43), IF(AND(B36=B41,C36=C41,B36=J42,C36=K42),(D41+L42)/(E41+M42), IF(AND(B36=B41,C36=C41,B36=J43,C36=K43),(D41+L43)/(E41+M43), IF(AND(B36=J41,C36=K41,B36=J42,C36=K42),(L41+L42)/(M41+M42), IF(AND(B36=J41,C36=K41,B36=J43,C36=K43),(L41+L43)/(M41+M43)))))))
G37: =IF(H43="","", IF(AND(B37=B42,C37=C42,B37=B43,C37=C43),SUM(H42,H43), IF(AND(B37=B41,C37=C41,B37=J42,C37=K42),SUM(H41,P42), IF(AND(B37=B41,C37=C41,B37=J43,C37=K43),SUM(H41,P43), IF(AND(B37=J41,C37=K41,B37=J42,C37=K42),SUM(P41,P42), IF(AND(B37=J41,C37=K41,B37=J43,C37=K43),SUM(P41,P43))))))) | H37: =IF(I43="","", IF(AND(B37=B42,C37=C42,B37=B43,C37=C43),(D42+D43)/(E42+E43), IF(AND(B37=B41,C37=C41,B37=J42,C37=K42),(D41+L42)/(E41+M42), IF(AND(B37=B41,C37=C41,B37=J43,C37=K43),(D41+L43)/(E41+M43), IF(AND(B37=J41,C37=K41,B37=J42,C37=K42),(L41+L42)/(M41+M42), IF(AND(B37=J41,C37=K41,B37=J43,C37=K43),(L41+L43)/(M41+M43)))))))
G38: =IF(H43="","", IF(AND(B38=B42,C38=C42,B38=B43,C38=C43),SUM(H42,H43), IF(AND(B38=B41,C38=C41,B38=J42,C38=K42),SUM(H41,P42), IF(AND(B38=B41,C38=C41,B38=J43,C38=K43),SUM(H41,P43), IF(AND(B38=J41,C38=K41,B38=J42,C38=K42),SUM(P41,P42), IF(AND(B38=J41,C38=K41,B38=J43,C38=K43),SUM(P41,P43))))))) | H38: =IF(I43="","", IF(AND(B38=B42,C38=C42,B38=B43,C38=C43),(D42+D43)/(E42+E43), IF(AND(B38=B41,C38=C41,B38=J42,C38=K42),(D41+L42)/(E41+M42), IF(AND(B38=B41,C38=C41,B38=J43,C38=K43),(D41+L43)/(E41+M43), IF(AND(B38=J41,C38=K41,B38=J42,C38=K42),(L41+L42)/(M41+M42), IF(AND(B38=J41,C38=K41,B38=J43,C38=K43),(L41+L43)/(M41+M43)))))))
B40: Joueur A | D40: Points | E40: Reprises | F40: Série | G40: Match GNP | H40: Points Match | I40: Moy | J40: Joueur B | L40: Points | M40: Reprises | N40: Série | O40: Match GNP | P40: Points Match | Q40: Moy
B41: =IF(OR(B36="",B37="",B38="",D36="",D37="",D38=""),"", IF(OR(AND(D36=D38,D36<>D37),AND(D36=D37,D36<>D38)),B36,B37)) | C41: =IF(OR(B36="",B37="",B38="",D36="",D37="",D38=""),"", IF(OR(AND(D36=D38,D36<>D37),AND(D36=D37,D36<>D38)),C36,C37)) | G41: =IF(L41="","",IF(D41>L41,"G",IF(D41<L41,"P","N"))) | H41: =IF(G41="","",IF(G41="G",3,IF(G41="N",2,1))) | I41: =IF(ISNUMBER(E41),D41/E41,"") | J41: =IF(OR(B36="",B37="",B38="",D36="",D37="",D38=""),"", IF(AND(D36=D37,D36<>D38),B37,B38)) | K41: =IF(OR(B36="",B37="",B38="",D36="",D37="",D38=""),"", IF(AND(D36=D37,D36<>D38),C37,C38)) | M41: =IF(ISNUMBER(E41),E41,"") | O41: =IF(L41="","",IF(G41="P","G",IF(G41="G","P","N"))) | P41: =IF(O41="","",IF(O41="G",3,IF(O41="N",2,1))) | Q41: =IF(ISNUMBER(M41),L41/M41,"")
B42: =IF(OR(B41="",C41="",J41="",K41=""),"", IF(AND(B41=B36,C41=C36,J41=B38,K41=C38),B37, IF(AND(B41=B36,C41=C36,J41=B37,K41=C37),B38,B36))) | C42: =IF(OR(B41="",C41="",J41="",K41=""),"", IF(AND(B41=B36,C41=C36,J41=B38,K41=C38),C37, IF(AND(B41=B36,C41=C36,J41=B37,K41=C37),C38,C36))) | G42: =IF(L42="","",IF(D42>L42,"G",IF(D42<L42,"P","N"))) | H42: =IF(G42="","",IF(G42="G",3,IF(G42="N",2,1))) | I42: =IF(ISNUMBER(E42),D42/E42,"") | J42: =IF(L41="","",IF(O41="G",B41,IF(AND(O41="N",N41>F41),B41, IF(AND(O41="N",N41<=F41),J41,IF(O41="P",J41))))) | K42: =IF(L41="","", IF(O41="G",C41, IF(AND(O41="N",N41>F41),C41, IF(AND(O41="N",N41<=F41),K41, IF(O41="P",K41))))) | M42: =IF(ISNUMBER(E42),E42,"") | O42: =IF(L42="","",IF(G42="P","G",IF(G42="G","P","N"))) | P42: =IF(O42="","",IF(O42="G",3,IF(O42="N",2,1))) | Q42: =IF(ISNUMBER(M42),L42/M42,"")
B43: =IF(OR(B41="",C41="",J41="",K41=""),"", IF(AND(B41=B36,C41=C36,J41=B38,K41=C38),B37, IF(AND(B41=B36,C41=C36,J41=B37,K41=C37),B38,B36))) | C43: =IF(OR(B41="",C41="",J41="",K41=""),"", IF(AND(B41=B36,C41=C36,J41=B38,K41=C38),C37, IF(AND(B41=B36,C41=C36,J41=B37,K41=C37),C38,C36))) | G43: =IF(L43="","",IF(D43>L43,"G",IF(D43<L43,"P","N"))) | H43: =IF(G43="","",IF(G43="G",3,IF(G43="N",2,1))) | I43: =IF(ISNUMBER(E43),D43/E43,"") | J43: =IF(J42="","",IF(AND(J42=B41,K42=C41),J41,B41)) | K43: =IF(K42="","",IF(AND(J42=B41,K42=C41),K41,C41)) | M43: =IF(ISNUMBER(E43),E43,"") | O43: =IF(L43="","",IF(G43="P","G",IF(G43="G","P","N"))) | P43: =IF(O43="","",IF(O43="G",3,IF(O43="N",2,1))) | Q43: =IF(ISNUMBER(M43),L43/M43,"")

Sheet 3B - Poules croisées 2+2
B2: Club : | F2: Date : | I2: 3 BANDES | K2: Distances : | L2: =IF($C$3="","",VLOOKUP($C$3,Menus!$D$1:$F$11,2,))
B3: Catégorie : | F3: Tour : | K3: Reprises : | L3: =IF($C$3="","",VLOOKUP($C$3,Menus!$D$1:$F$11,3,))
B5: Poule 1 | J5: Poule 2
B7: NOM | C7: Prénom | D7: Club | G7: Points Match | H7: Moyenne Générale | J7: NOM | K7: Prénom | L7: Club | O7: Points Match | P7: Moyenne Générale
G8: =IF(H15="","",IF(AND(B14=B8,C14=C8),H12+H14,H12+H15)) | H8: =IF(I15="","",IF(AND(B14=B8,C14=C8),(D12+D14)/(E12+E14),(D12+D15)/(E12+E15))) | O8: =IF(P15="","",IF(AND(J14=J8,K14=K8),H13+P14,H13+P15)) | P8: =IF(Q15="","",IF(AND(J14=J8,K14=K8),(D13+L14)/(E13+M14),(D13+L15)/(E13+M15)))
G9: =IF(H15="","",IF(AND(B14=B9,C14=C9),P12+H14,P12+H15)) | H9: =IF(I15="","",IF(AND(B14=B9,C14=C9),(L12+D14)/(M12+E14),(L12+D15)/(M12+E15))) | O9: =IF(P15="","",IF(AND(J14=J9,K14=K9),P13+P14,P13+P15)) | P9: =IF(Q15="","",IF(AND(J14=J9,K14=K9),(L13+L14)/(M13+M14),(L13+L15)/(M13+M15)))
B11: Joueur A | D11: Points | E11: Reprises | F11: Série | G11: Match GNP | H11: Points Match | I11: Moy | J11: Joueur B | L11: Points | M11: Reprises | N11: Série | O11: Match GNP | P11: Points Match | Q11: Moy
B12: =IF(B8="","",B8) | C12: =IF(C8="","",C8) | G12: =IF(L12="","",IF(D12>L12,"G",IF(D12<L12,"P","N"))) | H12: =IF(G12="","",IF(G12="G",3,IF(G12="N",2,1))) | I12: =IF(ISNUMBER(D12),D12/E12,"") | J12: =IF(B9="","",B9) | K12: =IF(C9="","",C9) | M12: =IF(ISNUMBER(E12),E12,"") | O12: =IF(L12="","",IF(G12="P","G",IF(G12="G","P","N"))) | P12: =IF(O12="","",IF(O12="G",3,IF(O12="N",2,1))) | Q12: =IF(ISNUMBER(L12),L12/M12,"")
B13: =IF(J8="","",J8) | C13: =IF(K8="","",K8) | G13: =IF(L13="","",IF(D13>L13,"G",IF(D13<L13,"P","N"))) | H13: =IF(G13="","",IF(G13="G",3,IF(G13="N",2,1))) | I13: =IF(ISNUMBER(D13),D13/E13,"") | J13: =IF(J9="","",J9) | K13: =IF(K9="","",K9) | M13: =IF(ISNUMBER(E13),E13,"") | O13: =IF(L13="","",IF(G13="P","G",IF(G13="G","P","N"))) | P13: =IF(O13="","",IF(O13="G",3,IF(O13="N",2,1))) | Q13: =IF(ISNUMBER(L13),L13/M13,"")
B14: =IF(L12="","", IF(O12="G",B9, IF(AND(O12="N",P12>H12),B9, IF(AND(O12="N",P12<=H12),B8, IF(O12="P",B8))))) | C14: =IF(L12="","", IF(O12="G",C9, IF(AND(O12="N",P12>H12),C9, IF(AND(O12="N",P12<=H12),C8, IF(O12="P",C8))))) | G14: =IF(L14="","",IF(D14>L14,"G",IF(D14<L14,"P","N"))) | H14: =IF(G14="","",IF(G14="G",3,IF(G14="N",2,1))) | I14: =IF(ISNUMBER(D14),D14/E14,"") | J14: =IF(L13="","", IF(O13="G",J8, IF(AND(O13="N",P13>H13),J8, IF(AND(O13="N",P13<=H13),J9, IF(O13="P",J9))))) | K14: =IF(L13="","", IF(O13="G",K8, IF(AND(O13="N",P13>H13),K8, IF(AND(O13="N",P13<=H13),K9, IF(O13="P",K9))))) | M14: =IF(ISNUMBER(E14),E14,"") | O14: =IF(L14="","",IF(G14="P","G",IF(G14="G","P","N"))) | P14: =IF(O14="","",IF(O14="G",3,IF(O14="N",2,1))) | Q14: =IF(ISNUMBER(L14),L14/M14,"")
B15: =IF(B14="","",IF(AND(B14=B8,C14=C8),B9,B8)) | C15: =IF(B14="","",IF(AND(B14=B8,C14=C8),C9,C8)) | G15: =IF(L15="","",IF(D15>L15,"G",IF(D15<L15,"P","N"))) | H15: =IF(G15="","",IF(G15="G",3,IF(G15="N",2,1))) | I15: =IF(ISNUMBER(D15),D15/E15,"") | J15: =IF(J14="","",IF(AND(J14=J8,K14=K8),J9,J8)) | K15: =IF(J14="","",IF(AND(J14=J8,K14=K8),K9,K8)) | M15: =IF(ISNUMBER(E15),E15,"") | O15: =IF(L15="","",IF(G15="P","G",IF(G15="G","P","N"))) | P15: =IF(O15="","",IF(O15="G",3,IF(O15="N",2,1))) | Q15: =IF(ISNUMBER(L15),L15/M15,"")
B17: A remplir si 7 ou 10 joueurs dans la salle :
B18: Poule 3
B20: NOM | C20: Prénom | D20: Club | G20: Points Match | H20: Moyenne Générale
G21: =IF(H28="","", IF(AND(B21=B27,C21=C27,B21=B28,C21=C28),SUM(H27,H28), IF(AND(B21=B26,C21=C26,B21=J27,C21=K27),SUM(H26,P27), IF(AND(B21=B26,C21=C26,B21=J28,C21=K28),SUM(H26,P28), IF(AND(B21=J26,C21=K26,B21=J27,C21=K27),SUM(P26,P27), IF(AND(B21=J26,C21=K26,B21=J28,C21=K28),SUM(P26,P28))))))) | H21: =IF(I28="","", IF(AND(B21=B27,C21=C27,B21=B28,C21=C28),(D27+D28)/(E27+E28), IF(AND(B21=B26,C21=C26,B21=J27,C21=K27),(D26+L27)/(E26+M27), IF(AND(B21=B26,C21=C26,B21=J28,C21=K28),(D26+L28)/(E26+M28), IF(AND(B21=J26,C21=K26,B21=J27,C21=K27),(L26+L27)/(M26+M27), IF(AND(B21=J26,C21=K26,B21=J28,C21=K28),(L26+L28)/(M26+M28)))))))
G22: =IF(H28="","", IF(AND(B22=B27,C22=C27,B22=B28,C22=C28),SUM(H27,H28), IF(AND(B22=B26,C22=C26,B22=J27,C22=K27),SUM(H26,P27), IF(AND(B22=B26,C22=C26,B22=J28,C22=K28),SUM(H26,P28), IF(AND(B22=J26,C22=K26,B22=J27,C22=K27),SUM(P26,P27), IF(AND(B22=J26,C22=K26,B22=J28,C22=K28),SUM(P26,P28))))))) | H22: =IF(I28="","", IF(AND(B22=B27,C22=C27,B22=B28,C22=C28),(D27+D28)/(E27+E28), IF(AND(B22=B26,C22=C26,B22=J27,C22=K27),(D26+L27)/(E26+M27), IF(AND(B22=B26,C22=C26,B22=J28,C22=K28),(D26+L28)/(E26+M28), IF(AND(B22=J26,C22=K26,B22=J27,C22=K27),(L26+L27)/(M26+M27), IF(AND(B22=J26,C22=K26,B22=J28,C22=K28),(L26+L28)/(M26+M28)))))))
G23: =IF(H28="","", IF(AND(B23=B27,C23=C27,B23=B28,C23=C28),SUM(H27,H28), IF(AND(B23=B26,C23=C26,B23=J27,C23=K27),SUM(H26,P27), IF(AND(B23=B26,C23=C26,B23=J28,C23=K28),SUM(H26,P28), IF(AND(B23=J26,C23=K26,B23=J27,C23=K27),SUM(P26,P27), IF(AND(B23=J26,C23=K26,B23=J28,C23=K28),SUM(P26,P28))))))) | H23: =IF(I28="","", IF(AND(B23=B27,C23=C27,B23=B28,C23=C28),(D27+D28)/(E27+E28), IF(AND(B23=B26,C23=C26,B23=J27,C23=K27),(D26+L27)/(E26+M27), IF(AND(B23=B26,C23=C26,B23=J28,C23=K28),(D26+L28)/(E26+M28), IF(AND(B23=J26,C23=K26,B23=J27,C23=K27),(L26+L27)/(M26+M27), IF(AND(B23=J26,C23=K26,B23=J28,C23=K28),(L26+L28)/(M26+M28)))))))
B25: Joueur A | D25: Points | E25: Reprises | F25: Série | G25: Match GNP | H25: Points Match | I25: Moy | J25: Joueur B | L25: Points | M25: Reprises | N25: Série | O25: Match GNP | P25: Points Match | Q25: Moy
B26: =IF(OR(B21="",B22="",B23="",D21="",D22="",D23=""),"", IF(OR(AND(D21=D23,D21<>D22),AND(D21=D22,D21<>D23)),B21,B22)) | C26: =IF(OR(B21="",B22="",B23="",D21="",D22="",D23=""),"", IF(OR(AND(D21=D23,D21<>D22),AND(D21=D22,D21<>D23)),C21,C22)) | G26: =IF(L26="","",IF(D26>L26,"G",IF(D26<L26,"P","N"))) | H26: =IF(G26="","",IF(G26="G",3,IF(G26="N",2,1))) | I26: =IF(ISNUMBER(E26),D26/E26,"") | J26: =IF(OR(B21="",B22="",B23="",D21="",D22="",D23=""),"", IF(AND(D21=D22,D21<>D23),B22,B23)) | K26: =IF(OR(B21="",B22="",B23="",D21="",D22="",D23=""),"", IF(AND(D21=D22,D21<>D23),C22,C23)) | M26: =IF(ISNUMBER(E26),E26,"") | O26: =IF(L26="","",IF(G26="P","G",IF(G26="G","P","N"))) | P26: =IF(O26="","",IF(O26="G",3,IF(O26="N",2,1))) | Q26: =IF(ISNUMBER(M26),L26/M26,"")
B27: =IF(OR(B26="",C26="",J26="",K26=""),"", IF(AND(B26=B21,C26=C21,J26=B23,K26=C23),B22, IF(AND(B26=B21,C26=C21,J26=B22,K26=C22),B23,B21))) | C27: =IF(OR(B26="",C26="",J26="",K26=""),"", IF(AND(B26=B21,C26=C21,J26=B23,K26=C23),C22, IF(AND(B26=B21,C26=C21,J26=B22,K26=C22),C23,C21))) | G27: =IF(L27="","",IF(D27>L27,"G",IF(D27<L27,"P","N"))) | H27: =IF(G27="","",IF(G27="G",3,IF(G27="N",2,1))) | I27: =IF(ISNUMBER(E27),D27/E27,"") | J27: =IF(L26="","",IF(O26="G",B26,IF(AND(O26="N",N26>F26),B26, IF(AND(O26="N",N26<=F26),J26,IF(O26="P",J26))))) | K27: =IF(L26="","", IF(O26="G",C26, IF(AND(O26="N",N26>F26),C26, IF(AND(O26="N",N26<=F26),K26, IF(O26="P",K26))))) | M27: =IF(ISNUMBER(E27),E27,"") | O27: =IF(L27="","",IF(G27="P","G",IF(G27="G","P","N"))) | P27: =IF(O27="","",IF(O27="G",3,IF(O27="N",2,1))) | Q27: =IF(ISNUMBER(M27),L27/M27,"")
B28: =IF(OR(B26="",C26="",J26="",K26=""),"", IF(AND(B26=B21,C26=C21,J26=B23,K26=C23),B22, IF(AND(B26=B21,C26=C21,J26=B22,K26=C22),B23,B21))) | C28: =IF(OR(B26="",C26="",J26="",K26=""),"", IF(AND(B26=B21,C26=C21,J26=B23,K26=C23),C22, IF(AND(B26=B21,C26=C21,J26=B22,K26=C22),C23,C21))) | G28: =IF(L28="","",IF(D28>L28,"G",IF(D28<L28,"P","N"))) | H28: =IF(G28="","",IF(G28="G",3,IF(G28="N",2,1))) | I28: =IF(ISNUMBER(E28),D28/E28,"") | J28: =IF(J27="","",IF(AND(J27=B26,K27=C26),J26,B26)) | K28: =IF(K27="","",IF(AND(J27=B26,K27=C26),K26,C26)) | M28: =IF(ISNUMBER(E28),E28,"") | O28: =IF(L28="","",IF(G28="P","G",IF(G28="G","P","N"))) | P28: =IF(O28="","",IF(O28="G",3,IF(O28="N",2,1))) | Q28: =IF(ISNUMBER(M28),L28/M28,"")
B30: A remplir si 10 joueurs dans la salle :
B31: Poule 4
B33: NOM | C33: Prénom | D33: Club | G33: Points Match | H33: Moyenne Générale
G34: =IF(H41="","", IF(AND(B34=B40,C34=C40,B34=B41,C34=C41),SUM(H40,H41), IF(AND(B34=B39,C34=C39,B34=J40,C34=K40),SUM(H39,P40), IF(AND(B34=B39,C34=C39,B34=J41,C34=K41),SUM(H39,P41), IF(AND(B34=J39,C34=K39,B34=J40,C34=K40),SUM(P39,P40), IF(AND(B34=J39,C34=K39,B34=J41,C34=K41),SUM(P39,P41))))))) | H34: =IF(I41="","", IF(AND(B34=B40,C34=C40,B34=B41,C34=C41),(D40+D41)/(E40+E41), IF(AND(B34=B39,C34=C39,B34=J40,C34=K40),(D39+L40)/(E39+M40), IF(AND(B34=B39,C34=C39,B34=J41,C34=K41),(D39+L41)/(E39+M41), IF(AND(B34=J39,C34=K39,B34=J40,C34=K40),(L39+L40)/(M39+M40), IF(AND(B34=J39,C34=K39,B34=J41,C34=K41),(L39+L41)/(M39+M41)))))))
G35: =IF(H41="","", IF(AND(B35=B40,C35=C40,B35=B41,C35=C41),SUM(H40,H41), IF(AND(B35=B39,C35=C39,B35=J40,C35=K40),SUM(H39,P40), IF(AND(B35=B39,C35=C39,B35=J41,C35=K41),SUM(H39,P41), IF(AND(B35=J39,C35=K39,B35=J40,C35=K40),SUM(P39,P40), IF(AND(B35=J39,C35=K39,B35=J41,C35=K41),SUM(P39,P41))))))) | H35: =IF(I41="","", IF(AND(B35=B40,C35=C40,B35=B41,C35=C41),(D40+D41)/(E40+E41), IF(AND(B35=B39,C35=C39,B35=J40,C35=K40),(D39+L40)/(E39+M40), IF(AND(B35=B39,C35=C39,B35=J41,C35=K41),(D39+L41)/(E39+M41), IF(AND(B35=J39,C35=K39,B35=J40,C35=K40),(L39+L40)/(M39+M40), IF(AND(B35=J39,C35=K39,B35=J41,C35=K41),(L39+L41)/(M39+M41)))))))
G36: =IF(H41="","", IF(AND(B36=B40,C36=C40,B36=B41,C36=C41),SUM(H40,H41), IF(AND(B36=B39,C36=C39,B36=J40,C36=K40),SUM(H39,P40), IF(AND(B36=B39,C36=C39,B36=J41,C36=K41),SUM(H39,P41), IF(AND(B36=J39,C36=K39,B36=J40,C36=K40),SUM(P39,P40), IF(AND(B36=J39,C36=K39,B36=J41,C36=K41),SUM(P39,P41))))))) | H36: =IF(I41="","", IF(AND(B36=B40,C36=C40,B36=B41,C36=C41),(D40+D41)/(E40+E41), IF(AND(B36=B39,C36=C39,B36=J40,C36=K40),(D39+L40)/(E39+M40), IF(AND(B36=B39,C36=C39,B36=J41,C36=K41),(D39+L41)/(E39+M41), IF(AND(B36=J39,C36=K39,B36=J40,C36=K40),(L39+L40)/(M39+M40), IF(AND(B36=J39,C36=K39,B36=J41,C36=K41),(L39+L41)/(M39+M41)))))))
B38: Joueur A | D38: Points | E38: Reprises | F38: Série | G38: Match GNP | H38: Points Match | I38: Moy | J38: Joueur B | L38: Points | M38: Reprises | N38: Série | O38: Match GNP | P38: Points Match | Q38: Moy
B39: =IF(OR(B34="",B35="",B36="",D34="",D35="",D36=""),"", IF(OR(AND(D34=D36,D34<>D35),AND(D34=D35,D34<>D36)),B34,B35)) | C39: =IF(OR(B34="",B35="",B36="",D34="",D35="",D36=""),"", IF(OR(AND(D34=D36,D34<>D35),AND(D34=D35,D34<>D36)),C34,C35)) | G39: =IF(L39="","",IF(D39>L39,"G",IF(D39<L39,"P","N"))) | H39: =IF(G39="","",IF(G39="G",3,IF(G39="N",2,1))) | I39: =IF(ISNUMBER(E39),D39/E39,"") | J39: =IF(OR(B34="",B35="",B36="",D34="",D35="",D36=""),"", IF(AND(D34=D35,D34<>D36),B35,B36)) | K39: =IF(OR(B34="",B35="",B36="",D34="",D35="",D36=""),"", IF(AND(D34=D35,D34<>D36),C35,C36)) | M39: =IF(ISNUMBER(E39),E39,"") | O39: =IF(L39="","",IF(G39="P","G",IF(G39="G","P","N"))) | P39: =IF(O39="","",IF(O39="G",3,IF(O39="N",2,1))) | Q39: =IF(ISNUMBER(M39),L39/M39,"")
B40: =IF(OR(B39="",C39="",J39="",K39=""),"", IF(AND(B39=B34,C39=C34,J39=B36,K39=C36),B35, IF(AND(B39=B34,C39=C34,J39=B35,K39=C35),B36,B34))) | C40: =IF(OR(B39="",C39="",J39="",K39=""),"", IF(AND(B39=B34,C39=C34,J39=B36,K39=C36),C35, IF(AND(B39=B34,C39=C34,J39=B35,K39=C35),C36,C34))) | G40: =IF(L40="","",IF(D40>L40,"G",IF(D40<L40,"P","N"))) | H40: =IF(G40="","",IF(G40="G",3,IF(G40="N",2,1))) | I40: =IF(ISNUMBER(E40),D40/E40,"") | J40: =IF(L39="","",IF(O39="G",B39,IF(AND(O39="N",N39>F39),B39, IF(AND(O39="N",N39<=F39),J39,IF(O39="P",J39))))) | K40: =IF(L39="","", IF(O39="G",C39, IF(AND(O39="N",N39>F39),C39, IF(AND(O39="N",N39<=F39),K39, IF(O39="P",K39))))) | M40: =IF(ISNUMBER(E40),E40,"") | O40: =IF(L40="","",IF(G40="P","G",IF(G40="G","P","N"))) | P40: =IF(O40="","",IF(O40="G",3,IF(O40="N",2,1))) | Q40: =IF(ISNUMBER(M40),L40/M40,"")
B41: =IF(OR(B39="",C39="",J39="",K39=""),"", IF(AND(B39=B34,C39=C34,J39=B36,K39=C36),B35, IF(AND(B39=B34,C39=C34,J39=B35,K39=C35),B36,B34))) | C41: =IF(OR(B39="",C39="",J39="",K39=""),"", IF(AND(B39=B34,C39=C34,J39=B36,K39=C36),C35, IF(AND(B39=B34,C39=C34,J39=B35,K39=C35),C36,C34))) | G41: =IF(L41="","",IF(D41>L41,"G",IF(D41<L41,"P","N"))) | H41: =IF(G41="","",IF(G41="G",3,IF(G41="N",2,1))) | I41: =IF(ISNUMBER(E41),D41/E41,"") | J41: =IF(J40="","",IF(AND(J40=B39,K40=C39),J39,B39)) | K41: =IF(K40="","",IF(AND(J40=B39,K40=C39),K39,C39)) | M41: =IF(ISNUMBER(E41),E41,"") | O41: =IF(L41="","",IF(G41="P","G",IF(G41="G","P","N"))) | P41: =IF(O41="","",IF(O41="G",3,IF(O41="N",2,1))) | Q41: =IF(ISNUMBER(M41),L41/M41,"")

Sheet 3B - Poule 2 joueurs
B2: Club : | F2: Date : | I2: 3 BANDES | K2: Distances : | L2: =IF($C$3="","",VLOOKUP($C$3,Menus!$D$1:$F$11,2,))
B3: Catégorie : | F3: Tour : | K3: Reprises : | L3: =IF($C$3="","",VLOOKUP($C$3,Menus!$D$1:$F$11,3,))
B5: Poule 1
B7: NOM | C7: Prénom | D7: Club | G7: Points Match | H7: Moyenne Générale
G8: =IF(ISNUMBER(P13),H12+P13,"") | H8: =IF(ISNUMBER(Q13),(D12+L13)/(E12+E13),"")
G9: =IF(ISNUMBER(P13),H13+P12,"") | H9: =IF(ISNUMBER(Q13),(D13+L12)/(E12+E13),"")
B11: Joueur A | D11: Points | E11: Reprises | F11: Série | G11: Match GNP | H11: Points Match | I11: Moy | J11: Joueur B | L11: Points | M11: Reprises | N11: Série | O11: Match GNP | P11: Points Match | Q11: Moy
B12: =IF(B8="","",B8) | C12: =IF(C8="","",C8) | G12: =IF(L12="","",IF(D12>L12,"G",IF(D12<L12,"P","N"))) | H12: =IF(G12="","",IF(G12="G",3,IF(G12="N",2,1))) | I12: =IF(ISNUMBER(D12),D12/E12,"") | J12: =IF(B9="","",B9) | K12: =IF(C9="","",C9) | M12: =IF(ISNUMBER(E12),E12,"") | O12: =IF(L12="","",IF(G12="P","G",IF(G12="G","P","N"))) | P12: =IF(O12="","",IF(O12="G",3,IF(O12="N",2,1))) | Q12: =IF(ISNUMBER(L12),L12/M12,"")
B13: =IF(B9="","",B9) | C13: =IF(C9="","",C9) | G13: =IF(L13="","",IF(D13>L13,"G",IF(D13<L13,"P","N"))) | H13: =IF(G13="","",IF(G13="G",3,IF(G13="N",2,1))) | I13: =IF(ISNUMBER(D13),D13/E13,"") | J13: =IF(B8="","",B8) | K13: =IF(C8="","",C8) | M13: =IF(ISNUMBER(E13),E13,"") | O13: =IF(L13="","",IF(G13="P","G",IF(G13="G","P","N"))) | P13: =IF(O13="","",IF(O13="G",3,IF(O13="N",2,1))) | Q13: =IF(ISNUMBER(L13),L13/M13,"")

Sheet Menus
B1: Mode de jeu | D1: Catégories | E1: Distance | F1: Limitation rep. | H1: Clubs | J1: Tour | L1: Nb joueurs | M1: Nb billards | N1: 3x3 | O1: 6x3 | P1: 3+2 | Q1: 2+2 | R1: 2 | S1: Nb onglets
B2: 3 BANDES | D2: NATIONALE 1 | E2: 35 | F2: 45 | H2: ABBEVILLE | J2: T1 | L2: 1 | M2: 0 | S2: 0
D3: NATIONALE 2 | E3: 30 | F3: 50 | H3: ALBERT | J3: T2 | L3: 2 | M3: 1 | R3: X | S3: 1
D4: N1 - N2 | E4: 30 | F4: 50 | H4: AMIENS | J4: T3 | L4: 3 | M4: 1 | N4: X | S4: 1
D5: NATIONALE 3 | E5: 25 | F5: 60 | H5: FRIVILLE | J5: 1/2 Finale | L5: 4 | M5: 2 | Q5: X | S5: 1
D6: RÉGIONALE 1 | E6: 20 | F6: 60 | H6: MOREUIL | L6: 5 | M6: 2 | P6: X | S6: 1
D7: RÉGIONALE 2 | E7: 15 | F7: 60 | H7: PONT de METZ | L7: 6 | M7: 2 | N7: XX | S7: 1
D8: Dames | E8: 20 | F8: 60 | H8: ROYE | L8: 7 | M8: 3 | N8: X | Q8: X | S8: 1
D9: U21 (Juniors) | E9: 25 | F9: 60 | H9: VIGNACOURT | L9: 8 | M9: 3 | N9: X | P9: X | S9: 1
D10: U17 (Cadets) | E10: 20 | F10: 60 | L10: 9 | M10: 3 | N10: XXX | S10: 1
L11: 10 | M11: 4 | P11: XX | S11: 1
L12: 10 | M12: 4 | N12: XX | Q12: X | S12: 2
L13: 11 | M13: 4 | N13: XX | P13: X | S13: 2
L14: 12 | M14: 4 | O14: XXXX | S14: 1
L15: 13 | M15: 5 | N15: X | P15: XX | S15: 1
L16: 14 | M16: 5 | N16: XXX | P16: X | S16: 2
L17: 15 | M17: 5 | O17: XXXXX | S17: 1
L18: 16 | M18: 6 | N18: XX | P18: XX | S18: 2
L19: 17 | M19: 6 | O19: XXXX | P19: X | S19: 2
L22: 18 | M22: 6 | O22: XXXXXX | S22: 1
L23: 19 | M23: 7
L24: 20
L25: 21
L26: 22
L27: 23
L28: 24
L29: 25
L30: 26
L31: 27
