Workbook

Sheet 5Q 3 poules 3 joueurs
B2: Club : | E2: Date : | I2: 5 QUILLES | L2: Nombre de Sets : | M2: =IF($C$3="","",VLOOKUP($C$3,Menus!D2:F11,2,FALSE()))
B3: Catégorie : | E3: Tour : | L3: Distance : | M3: =IF($C$3="","",VLOOKUP($C$3,Menus!D2:F11,3,FALSE()))
B5: Poule 1
B7: NOM | C7: Prénom | D7: Club | H7: Points Match | J7: Points Set | K7: Moyenne Générale
H8: =IF(H15="","", IF(AND(B8=B14,C8=C14,B8=B15,C8=C15),H14+H15, IF(AND(B8=B13,C8=C13,B8=K14,C8=L14),H13+Q14, IF(AND(B8=B13,C8=C13,B8=K15,C8=L15),H13+Q15, IF(AND(B8=K13,C8=L13,B8=K14,C8=L14),Q13+Q14, IF(AND(B8=K13,C8=L13,B8=K15,C8=L15),Q13+Q15)))))) | J8: =IF(I15="","", IF(AND(B8=B14,C8=C14,B8=B15,C8=C15),I14+I15, IF(AND(B8=B13,C8=C13,B8=K14,C8=L14),I13+R14, IF(AND(B8=B13,C8=C13,B8=K15,C8=L15),I13+R15, IF(AND(B8=K13,C8=L13,B8=K14,C8=L14),R13+R14, IF(AND(B8=K13,C8=L13,B8=K15,C8=L15),R13+R15)))))) | K8: =IF(I15="","", IF(AND(B8=B14,C8=C14,B8=B15,C8=C15), (D14+E14+F14+D15+E15+F15)/(M14+N14+O14+M15+N15+O15), IF(AND(B8=B13,C8=C13,B8=K14,C8=L14), (D13+E13+F13+M14+N14+O14)/(M13+N13+O13+D14+E14+F14), IF(AND(B8=B13,C8=C13,B8=K15,C8=L15), (D13+E13+F13+M15+N15+O15)/(M13+N13+O13+D15+E15+F15), IF(AND(B8=K13,C8=L13,B8=K14,C8=L14), (M13+N13+O13+M14+N14+O14)/(D13+E13+F13+D14+E14+F14), IF(AND(B8=K13,C8=L13,B8=K15,C8=L15), (M13+N13+O13+M15+N15+O15)/(D13+E13+F13+D15+E15+F15)))))))
H9: =IF(H15="","", IF(AND(B9=B14,C9=C14,B9=B15,C9=C15),H14+H15, IF(AND(B9=B13,C9=C13,B9=K14,C9=L14),H13+Q14, IF(AND(B9=B13,C9=C13,B9=K15,C9=L15),H13+Q15, IF(AND(B9=K13,C9=L13,B9=K14,C9=L14),Q13+Q14, IF(AND(B9=K13,C9=L13,B9=K15,C9=L15),Q13+Q15)))))) | J9: =IF(I15="","", IF(AND(B9=B14,C9=C14,B9=B15,C9=C15),I14+I15, IF(AND(B9=B13,C9=C13,B9=K14,C9=L14),I13+R14, IF(AND(B9=B13,C9=C13,B9=K15,C9=L15),I13+R15, IF(AND(B9=K13,C9=L13,B9=K14,C9=L14),R13+R14, IF(AND(B9=K13,C9=L13,B9=K15,C9=L15),R13+R15)))))) | K9: =IF(I15="","", IF(AND(B9=B14,C9=C14,B9=B15,C9=C15), (D14+E14+F14+D15+E15+F15)/(M14+N14+O14+M15+N15+O15), IF(AND(B9=B13,C9=C13,B9=K14,C9=L14), (D13+E13+F13+M14+N14+O14)/(M13+N13+O13+D14+E14+F14), IF(AND(B9=B13,C9=C13,B9=K15,C9=L15), (D13+E13+F13+M15+N15+O15)/(M13+N13+O13+D15+E15+F15), IF(AND(B9=K13,C9=L13,B9=K14,C9=L14), (M13+N13+O13+M14+N14+O14)/(D13+E13+F13+D14+E14+F14), IF(AND(B9=K13,C9=L13,B9=K15,C9=L15), (M13+N13+O13+M15+N15+O15)/(D13+E13+F13+D15+E15+F15)))))))
H10: =IF(H15="","", IF(AND(B10=B14,C10=C14,B10=B15,C10=C15),H14+H15, IF(AND(B10=B13,C10=C13,B10=K14,C10=L14),H13+Q14, IF(AND(B10=B13,C10=C13,B10=K15,C10=L15),H13+Q15, IF(AND(B10=K13,C10=L13,B10=K14,C10=L14),Q13+Q14, IF(AND(B9=K13,C10=L13,B10=K15,C10=L15),Q13+Q15)))))) | J10: =IF(I15="","", IF(AND(B10=B14,C10=C14,B10=B15,C10=C15),I14+I15, IF(AND(B10=B13,C10=C13,B10=K14,C10=L14),I13+R14, IF(AND(B10=B13,C10=C13,B10=K15,C10=L15),I13+R15, IF(AND(B10=K13,C10=L13,B10=K14,C10=L14),R13+R14, IF(AND(B10=K13,C10=L13,B10=K15,C10=L15),R13+R15)))))) | K10: =IF(I15="","", IF(AND(B10=B14,C10=C14,B10=B15,C10=C15), (D14+E14+F14+D15+E15+F15)/(M14+N14+O14+M15+N15+O15), IF(AND(B10=B13,C10=C13,B10=K14,C10=L14), (D13+E13+F13+M14+N14+O14)/(M13+N13+O13+D14+E14+F14), IF(AND(B10=B13,C10=C13,B10=K15,C10=L15), (D13+E13+F13+M15+N15+O15)/(M13+N13+O13+D15+E15+F15), IF(AND(B10=K13,C10=L13,B10=K14,C10=L14), (M13+N13+O13+M14+N14+O14)/(D13+E13+F13+D14+E14+F14), IF(AND(B10=K13,C10=L13,B10=K15,C10=L15), (M13+N13+O13+M15+N15+O15)/(D13+E13+F13+D15+E15+F15)))))))
B12: Joueur A | D12: Set 1 | E12: Set 2 | F12: Set 3 | G12: Match G/P | H12: Points Match | I12: Points Set | J12: Moy. | K12: Joueur B | M12: Set 1 | N12: Set 2 | O12: Set 3 | P12: Match G/P | Q12: Points Match | R12: Points Set | S12: Moy
B13: =IF(OR(B8="",B9="",B10="",D8="",D9="",D10=""),"", IF(OR(AND(D8=D10,D8<>D9),AND(D8=D9,D8<>D10)),B8,B9)) | C13: =IF(OR(B8="",B9="",B10="",D8="",D9="",D10=""),"", IF(OR(AND(D8=D10,D8<>D9),AND(D8=D9,D8<>D10)),C8,C9)) | G13: =IF(OR(I13="",R13=""),"",IF(I13>R13,"G","P")) | H13: =IF(G13="","",IF(G13="G",3,1)) | I13: =IF(OR(D13="",M13=""),"", IF(AND(D13>M13,E13>N13),3, IF(OR(AND(D13>M13,F13>O13),AND(E13>N13,F13>O13)),2, IF(OR(D13>M13,E13>N13,F13>O13),1,0)))) | J13: =IF(AND(ISNUMBER(D13), ISNUMBER(M13)),(D13 + E13 + F13) / (M13 + N13 + O13),"") | K13: =IF(OR(B8="",B9="",B10="",D8="",D9="",D10=""),"", IF(AND(D8=D9,D8<>D10),B9,B10)) | L13: =IF(OR(B8="",B9="",B10="",D8="",D9="",D10=""),"", IF(AND(D8=D9,D8<>D10),C9,C10)) | P13: =IF(OR(I13="",R13=""),"",IF(R13>I13,"G","P")) | Q13: =IF(P13="","",IF(P13="G",3,1)) | R13: =IF(OR(D13="",M13=""),"", IF(AND(M13>D13,N13>E13),3, IF(OR(AND(M13>D13,O13>F13),AND(N13>E13,O13>F13)),2, IF(OR(M13>D13,N13>E13,O13>F13),1,0)))) | S13: =IF(AND(ISNUMBER(M13), ISNUMBER(D13)),(M13 + N13 + O13) / (D13 + E13 + F13),"")
B14: =IF(OR(B13="",C13="",K13="",L13=""),"", IF(AND(B13=B8,C13=C8,K13=B10,L13=C10),B9, IF(AND(B13=B8,C13=C8,K13=B9,L13=C9),B10,B8))) | C14: =IF(OR(B13="",C13="",K13="",L13=""),"", IF(AND(B13=B8,C13=C8,K13=B10,L13=C10),C9, IF(AND(B13=B8,C13=C8,K13=B9,L13=C9),C10,C8))) | G14: =IF(OR(I14="",R14=""),"",IF(I14>R14,"G","P")) | H14: =IF(G14="","",IF(G14="G",3,1)) | I14: =IF(OR(D14="",M14=""),"", IF(AND(D14>M14,E14>N14),3, IF(OR(AND(D14>M14,F14>O14),AND(E14>N14,F14>O14)),2, IF(OR(D14>M14,E14>N14,F14>O14),1,0)))) | J14: =IF(AND(ISNUMBER(D14), ISNUMBER(M14)),(D14 + E14 + F14) / (M14 + N14 + O14),"") | K14: =IF(P13="","",IF(P13="G",B13,K13)) | L14: =IF(P13="","",IF(P13="G",C13,L13)) | P14: =IF(OR(I14="",R14=""),"",IF(R14>I14,"G","P")) | Q14: =IF(P14="","",IF(P14="G",3,1)) | R14: =IF(OR(D14="",M14=""),"", IF(AND(M14>D14,N14>E14),3, IF(OR(AND(M14>D14,O14>F14),AND(N14>E14,O14>F14)),2, IF(OR(M14>D14,N14>E14,O14>F14),1,0)))) | S14: =IF(AND(ISNUMBER(M14), ISNUMBER(D14)),(M14 + N14 + O14) / (D14 + E14 + F14),"")
B15: =IF(OR(B13="",C13="",K13="",L13=""),"", IF(AND(B13=B8,C13=C8,K13=B10,L13=C10),B9, IF(AND(B13=B8,C13=C8,K13=B9,L13=C9),B10,B8))) | C15: =IF(OR(B13="",C13="",K13="",L13=""),"", IF(AND(B13=B8,C13=C8,K13=B10,L13=C10),C9, IF(AND(B13=B8,C13=C8,K13=B9,L13=C9),C10,C8))) | G15: =IF(OR(I15="",R15=""),"",IF(I15>R15,"G","P")) | H15: =IF(G15="","",IF(G15="G",3,1)) | I15: =IF(OR(D15="",M15=""),"", IF(AND(D15>M15,E15>N15),3, IF(OR(AND(D15>M15,F15>O15),AND(E15>N15,F15>O15)),2, IF(OR(D15>M15,E15>N15,F15>O15),1,0)))) | J15: =IF(AND(ISNUMBER(D15), ISNUMBER(M15)),(D15 + E15 + F15) / (M15 + N15 + O15),"") | K15: =IF(P13="","",IF(P13="G",K13,B13)) | L15: =IF(P13="","",IF(P13="G",L13,C13)) | P15: =IF(OR(I15="",R15=""),"",IF(R15>I15,"G","P")) | Q15: =IF(P15="","",IF(P15="G",3,1)) | R15: =IF(OR(D15="",M15=""),"", IF(AND(M15>D15,N15>E15),3, IF(OR(AND(M15>D15,O15>F15),AND(N15>E15,O15>F15)),2, IF(OR(M15>D15,N15>E15,O15>F15),1,0)))) | S15: =IF(AND(ISNUMBER(M15), ISNUMBER(D15)),(M15 + N15 + O15) / (D15 + E15 + F15),"")
B17: Poule 2
B19: NOM | C19: Prénom | D19: Club | H19: Points Match | J19: Points Set | K19: Moyenne Générale
H20: =IF(H27="","", IF(AND(B20=B26,C20=C26,B20=B27,C20=C27),H26+H27, IF(AND(B20=B25,C20=C25,B20=K26,C20=L26),H25+Q26, IF(AND(B20=B25,C20=C25,B20=K27,C20=L27),H25+Q27, IF(AND(B20=K25,C20=L25,B20=K26,C20=L26),Q25+Q26, IF(AND(B20=K25,C20=L25,B20=K27,C20=L27),Q25+Q27)))))) | J20: =IF(I27="","", IF(AND(B20=B26,C20=C26,B20=B27,C20=C27),I26+I27, IF(AND(B20=B25,C20=C25,B20=K26,C20=L26),I25+R26, IF(AND(B20=B25,C20=C25,B20=K27,C20=L27),I25+R27, IF(AND(B20=K25,C20=L25,B20=K26,C20=L26),R25+R26, IF(AND(B20=K25,C20=L25,B20=K27,C20=L27),R25+R27)))))) | K20: =IF(I27="","", IF(AND(B20=B26,C20=C26,B20=B27,C20=C27), (D26+E26+F26+D27+E27+F27)/(M26+N26+O26+M27+N27+O27), IF(AND(B20=B25,C20=C25,B20=K26,C20=L26), (D25+E25+F25+M26+N26+O26)/(M25+N25+O25+D26+E26+F26), IF(AND(B20=B25,C20=C25,B20=K27,C20=L27), (D25+E25+F25+M27+N27+O27)/(M25+N25+O25+D27+E27+F27), IF(AND(B20=K25,C20=L25,B20=K26,C20=L26), (M25+N25+O25+M26+N26+O26)/(D25+E25+F25+D26+E26+F26), IF(AND(B20=K25,C20=L25,B20=K27,C20=L27), (M25+N25+O25+M27+N27+O27)/(D25+E25+F25+D27+E27+F27)))))))
H21: =IF(H27="","", IF(AND(B21=B26,C21=C26,B21=B27,C21=C27),H26+H27, IF(AND(B21=B25,C21=C25,B21=K26,C21=L26),H25+Q26, IF(AND(B21=B25,C21=C25,B21=K27,C21=L27),H25+Q27, IF(AND(B21=K25,C21=L25,B21=K26,C21=L26),Q25+Q26, IF(AND(B21=K25,C21=L25,B21=K27,C21=L27),Q25+Q27)))))) | J21: =IF(I27="","", IF(AND(B21=B26,C21=C26,B21=B27,C21=C27),I26+I27, IF(AND(B21=B25,C21=C25,B21=K26,C21=L26),I25+R26, IF(AND(B21=B25,C21=C25,B21=K27,C21=L27),I25+R27, IF(AND(B21=K25,C21=L25,B21=K26,C21=L26),R25+R26, IF(AND(B21=K25,C21=L25,B21=K27,C21=L27),R25+R27)))))) | K21: =IF(I27="","", IF(AND(B21=B26,C21=C26,B21=B27,C21=C27), (D26+E26+F26+D27+E27+F27)/(M26+N26+O26+M27+N27+O27), IF(AND(B21=B25,C21=C25,B21=K26,C21=L26), (D25+E25+F25+M26+N26+O26)/(M25+N25+O25+D26+E26+F26), IF(AND(B21=B25,C21=C25,B21=K27,C21=L27), (D25+E25+F25+M27+N27+O27)/(M25+N25+O25+D27+E27+F27), IF(AND(B21=K25,C21=L25,B21=K26,C21=L26), (M25+N25+O25+M26+N26+O26)/(D25+E25+F25+D26+E26+F26), IF(AND(B21=K25,C21=L25,B21=K27,C21=L27), (M25+N25+O25+M27+N27+O27)/(D25+E25+F25+D27+E27+F27)))))))
H22: =IF(H27="","", IF(AND(B22=B26,C22=C26,B22=B27,C22=C27),H26+H27, IF(AND(B22=B25,C22=C25,B22=K26,C22=L26),H25+Q26, IF(AND(B22=B25,C22=C25,B22=K27,C22=L27),H25+Q27, IF(AND(B22=K25,C22=L25,B22=K26,C22=L26),Q25+Q26, IF(AND(B21=K25,C22=L25,B22=K27,C22=L27),Q25+Q27)))))) | J22: =IF(I27="","", IF(AND(B22=B26,C22=C26,B22=B27,C22=C27),I26+I27, IF(AND(B22=B25,C22=C25,B22=K26,C22=L26),I25+R26, IF(AND(B22=B25,C22=C25,B22=K27,C22=L27),I25+R27, IF(AND(B22=K25,C22=L25,B22=K26,C22=L26),R25+R26, IF(AND(B22=K25,C22=L25,B22=K27,C22=L27),R25+R27)))))) | K22: =IF(I27="","", IF(AND(B22=B26,C22=C26,B22=B27,C22=C27), (D26+E26+F26+D27+E27+F27)/(M26+N26+O26+M27+N27+O27), IF(AND(B22=B25,C22=C25,B22=K26,C22=L26), (D25+E25+F25+M26+N26+O26)/(M25+N25+O25+D26+E26+F26), IF(AND(B22=B25,C22=C25,B22=K27,C22=L27), (D25+E25+F25+M27+N27+O27)/(M25+N25+O25+D27+E27+F27), IF(AND(B22=K25,C22=L25,B22=K26,C22=L26), (M25+N25+O25+M26+N26+O26)/(D25+E25+F25+D26+E26+F26), IF(AND(B22=K25,C22=L25,B22=K27,C22=L27), (M25+N25+O25+M27+N27+O27)/(D25+E25+F25+D27+E27+F27)))))))
B24: Joueur A | D24: Set 1 | E24: Set 2 | F24: Set 3 | G24: Match G/P | H24: Points Match | I24: Points Set | J24: Moy. | K24: Joueur B | M24: Set 1 | N24: Set 2 | O24: Set 3 | P24: Match G/P | Q24: Points Match | R24: Points Set | S24: Moy
B25: =IF(OR(B20="",B21="",B22="",D20="",D21="",D22=""),"", IF(OR(AND(D20=D22,D20<>D21),AND(D20=D21,D20<>D22)),B20,B21)) | C25: =IF(OR(B20="",B21="",B22="",D20="",D21="",D22=""),"", IF(OR(AND(D20=D22,D20<>D21),AND(D20=D21,D20<>D22)),C20,C21)) | G25: =IF(OR(I25="",R25=""),"",IF(I25>R25,"G","P")) | H25: =IF(G25="","",IF(G25="G",3,1)) | I25: =IF(OR(D25="",M25=""),"", IF(AND(D25>M25,E25>N25),3, IF(OR(AND(D25>M25,F25>O25),AND(E25>N25,F25>O25)),2, IF(OR(D25>M25,E25>N25,F25>O25),1,0)))) | J25: =IF(AND(ISNUMBER(D25), ISNUMBER(M25)),(D25 + E25 + F25) / (M25 + N25 + O25),"") | K25: =IF(OR(B20="",B21="",B22="",D20="",D21="",D22=""),"", IF(AND(D20=D21,D20<>D22),B21,B22)) | L25: =IF(OR(B20="",B21="",B22="",D20="",D21="",D22=""),"", IF(AND(D20=D21,D20<>D22),C21,C22)) | P25: =IF(OR(I25="",R25=""),"",IF(R25>I25,"G","P")) | Q25: =IF(P25="","",IF(P25="G",3,1)) | R25: =IF(OR(D25="",M25=""),"", IF(AND(M25>D25,N25>E25),3, IF(OR(AND(M25>D25,O25>F25),AND(N25>E25,O25>F25)),2, IF(OR(M25>D25,N25>E25,O25>F25),1,0)))) | S25: =IF(AND(ISNUMBER(M25), ISNUMBER(D25)),(M25 + N25 + O25) / (D25 + E25 + F25),"")
B26: =IF(OR(B25="",C25="",K25="",L25=""),"", IF(AND(B25=B20,C25=C20,K25=B22,L25=C22),B21, IF(AND(B25=B20,C25=C20,K25=B21,L25=C21),B22,B20))) | C26: =IF(OR(B25="",C25="",K25="",L25=""),"", IF(AND(B25=B20,C25=C20,K25=B22,L25=C22),C21, IF(AND(B25=B20,C25=C20,K25=B21,L25=C21),C22,C20))) | G26: =IF(OR(I26="",R26=""),"",IF(I26>R26,"G","P")) | H26: =IF(G26="","",IF(G26="G",3,1)) | I26: =IF(OR(D26="",M26=""),"", IF(AND(D26>M26,E26>N26),3, IF(OR(AND(D26>M26,F26>O26),AND(E26>N26,F26>O26)),2, IF(OR(D26>M26,E26>N26,F26>O26),1,0)))) | J26: =IF(AND(ISNUMBER(D26), ISNUMBER(M26)),(D26 + E26 + F26) / (M26 + N26 + O26),"") | K26: =IF(P25="","",IF(P25="G",B25,K25)) | L26: =IF(P25="","",IF(P25="G",C25,L25)) | P26: =IF(OR(I26="",R26=""),"",IF(R26>I26,"G","P")) | Q26: =IF(P26="","",IF(P26="G",3,1)) | R26: =IF(OR(D26="",M26=""),"", IF(AND(M26>D26,N26>E26),3, IF(OR(AND(M26>D26,O26>F26),AND(N26>E26,O26>F26)),2, IF(OR(M26>D26,N26>E26,O26>F26),1,0)))) | S26: =IF(AND(ISNUMBER(M26), ISNUMBER(D26)),(M26 + N26 + O26) / (D26 + E26 + F26),"")
B27: =IF(OR(B25="",C25="",K25="",L25=""),"", IF(AND(B25=B20,C25=C20,K25=B22,L25=C22),B21, IF(AND(B25=B20,C25=C20,K25=B21,L25=C21),B22,B20))) | C27: =IF(OR(B25="",C25="",K25="",L25=""),"", IF(AND(B25=B20,C25=C20,K25=B22,L25=C22),C21, IF(AND(B25=B20,C25=C20,K25=B21,L25=C21),C22,C20))) | G27: =IF(OR(I27="",R27=""),"",IF(I27>R27,"G","P")) | H27: =IF(G27="","",IF(G27="G",3,1)) | I27: =IF(OR(D27="",M27=""),"", IF(AND(D27>M27,E27>N27),3, IF(OR(AND(D27>M27,F27>O27),AND(E27>N27,F27>O27)),2, IF(OR(D27>M27,E27>N27,F27>O27),1,0)))) | J27: =IF(AND(ISNUMBER(D27), ISNUMBER(M27)),(D27 + E27 + F27) / (M27 + N27 + O27),"") | K27: =IF(P25="","",IF(P25="G",K25,B25)) | L27: =IF(P25="","",IF(P25="G",L25,C25)) | P27: =IF(OR(I27="",R27=""),"",IF(R27>I27,"G","P")) | Q27: =IF(P27="","",IF(P27="G",3,1)) | R27: =IF(OR(D27="",M27=""),"", IF(AND(M27>D27,N27>E27),3, IF(OR(AND(M27>D27,O27>F27),AND(N27>E27,O27>F27)),2, IF(OR(M27>D27,N27>E27,O27>F27),1,0)))) | S27: =IF(AND(ISNUMBER(M27), ISNUMBER(D27)),(M27 + N27 + O27) / (D27 + E27 + F27),"")
B29: Poule 3
B31: NOM | C31: Prénom | D31: Club | H31: Points Match | J31: Points Set | K31: Moyenne Générale
H32: =IF(H39="","", IF(AND(B32=B38,C32=C38,B32=B39,C32=C39),H38+H39, IF(AND(B32=B37,C32=C37,B32=K38,C32=L38),H37+Q38, IF(AND(B32=B37,C32=C37,B32=K39,C32=L39),H37+Q39, IF(AND(B32=K37,C32=L37,B32=K38,C32=L38),Q37+Q38, IF(AND(B32=K37,C32=L37,B32=K39,C32=L39),Q37+Q39)))))) | J32: =IF(I39="","", IF(AND(B32=B38,C32=C38,B32=B39,C32=C39),I38+I39, IF(AND(B32=B37,C32=C37,B32=K38,C32=L38),I37+R38, IF(AND(B32=B37,C32=C37,B32=K39,C32=L39),I37+R39, IF(AND(B32=K37,C32=L37,B32=K38,C32=L38),R37+R38, IF(AND(B32=K37,C32=L37,B32=K39,C32=L39),R37+R39)))))) | K32: =IF(I39="","", IF(AND(B32=B38,C32=C38,B32=B39,C32=C39), (D38+E38+F38+D39+E39+F39)/(M38+N38+O38+M39+N39+O39), IF(AND(B32=B37,C32=C37,B32=K38,C32=L38), (D37+E37+F37+M38+N38+O38)/(M37+N37+O37+D38+E38+F38), IF(AND(B32=B37,C32=C37,B32=K39,C32=L39), (D37+E37+F37+M39+N39+O39)/(M37+N37+O37+D39+E39+F39), IF(AND(B32=K37,C32=L37,B32=K38,C32=L38), (M37+N37+O37+M38+N38+O38)/(D37+E37+F37+D38+E38+F38), IF(AND(B32=K37,C32=L37,B32=K39,C32=L39), (M37+N37+O37+M39+N39+O39)/(D37+E37+F37+D39+E39+F39)))))))
H33: =IF(H39="","", IF(AND(B33=B38,C33=C38,B33=B39,C33=C39),H38+H39, IF(AND(B33=B37,C33=C37,B33=K38,C33=L38),H37+Q38, IF(AND(B33=B37,C33=C37,B33=K39,C33=L39),H37+Q39, IF(AND(B33=K37,C33=L37,B33=K38,C33=L38),Q37+Q38, IF(AND(B33=K37,C33=L37,B33=K39,C33=L39),Q37+Q39)))))) | J33: =IF(I39="","", IF(AND(B33=B38,C33=C38,B33=B39,C33=C39),I38+I39, IF(AND(B33=B37,C33=C37,B33=K38,C33=L38),I37+R38, IF(AND(B33=B37,C33=C37,B33=K39,C33=L39),I37+R39, IF(AND(B33=K37,C33=L37,B33=K38,C33=L38),R37+R38, IF(AND(B33=K37,C33=L37,B33=K39,C33=L39),R37+R39)))))) | K33: =IF(I39="","", IF(AND(B33=B38,C33=C38,B33=B39,C33=C39), (D38+E38+F38+D39+E39+F39)/(M38+N38+O38+M39+N39+O39), IF(AND(B33=B37,C33=C37,B33=K38,C33=L38), (D37+E37+F37+M38+N38+O38)/(M37+N37+O37+D38+E38+F38), IF(AND(B33=B37,C33=C37,B33=K39,C33=L39), (D37+E37+F37+M39+N39+O39)/(M37+N37+O37+D39+E39+F39), IF(AND(B33=K37,C33=L37,B33=K38,C33=L38), (M37+N37+O37+M38+N38+O38)/(D37+E37+F37+D38+E38+F38), IF(AND(B33=K37,C33=L37,B33=K39,C33=L39), (M37+N37+O37+M39+N39+O39)/(D37+E37+F37+D39+E39+F39)))))))
H34: =IF(H39="","", IF(AND(B34=B38,C34=C38,B34=B39,C34=C39),H38+H39, IF(AND(B34=B37,C34=C37,B34=K38,C34=L38),H37+Q38, IF(AND(B34=B37,C34=C37,B34=K39,C34=L39),H37+Q39, IF(AND(B34=K37,C34=L37,B34=K38,C34=L38),Q37+Q38, IF(AND(B33=K37,C34=L37,B34=K39,C34=L39),Q37+Q39)))))) | J34: =IF(I39="","", IF(AND(B34=B38,C34=C38,B34=B39,C34=C39),I38+I39, IF(AND(B34=B37,C34=C37,B34=K38,C34=L38),I37+R38, IF(AND(B34=B37,C34=C37,B34=K39,C34=L39),I37+R39, IF(AND(B34=K37,C34=L37,B34=K38,C34=L38),R37+R38, IF(AND(B34=K37,C34=L37,B34=K39,C34=L39),R37+R39)))))) | K34: =IF(I39="","", IF(AND(B34=B38,C34=C38,B34=B39,C34=C39), (D38+E38+F38+D39+E39+F39)/(M38+N38+O38+M39+N39+O39), IF(AND(B34=B37,C34=C37,B34=K38,C34=L38), (D37+E37+F37+M38+N38+O38)/(M37+N37+O37+D38+E38+F38), IF(AND(B34=B37,C34=C37,B34=K39,C34=L39), (D37+E37+F37+M39+N39+O39)/(M37+N37+O37+D39+E39+F39), IF(AND(B34=K37,C34=L37,B34=K38,C34=L38), (M37+N37+O37+M38+N38+O38)/(D37+E37+F37+D38+E38+F38), IF(AND(B34=K37,C34=L37,B34=K39,C34=L39), (M37+N37+O37+M39+N39+O39)/(D37+E37+F37+D39+E39+F39)))))))
B36: Joueur A | D36: Set 1 | E36: Set 2 | F36: Set 3 | G36: Match G/P | H36: Points Match | I36: Points Set | J36: Moy. | K36: Joueur B | M36: Set 1 | N36: Set 2 | O36: Set 3 | P36: Match G/P | Q36: Points Match | R36: Points Set | S36: Moy
B37: =IF(OR(B32="",B33="",B34="",D32="",D33="",D34=""),"", IF(OR(AND(D32=D34,D32<>D33),AND(D32=D33,D32<>D34)),B32,B33)) | C37: =IF(OR(B32="",B33="",B34="",D32="",D33="",D34=""),"", IF(OR(AND(D32=D34,D32<>D33),AND(D32=D33,D32<>D34)),C32,C33)) | G37: =IF(OR(I37="",R37=""),"",IF(I37>R37,"G","P")) | H37: =IF(G37="","",IF(G37="G",3,1)) | I37: =IF(OR(D37="",M37=""),"", IF(AND(D37>M37,E37>N37),3, IF(OR(AND(D37>M37,F37>O37),AND(E37>N37,F37>O37)),2, IF(OR(D37>M37,E37>N37,F37>O37),1,0)))) | J37: =IF(AND(ISNUMBER(D37), ISNUMBER(M37)),(D37 + E37 + F37) / (M37 + N37 + O37),"") | K37: =IF(OR(B32="",B33="",B34="",D32="",D33="",D34=""),"", IF(AND(D32=D33,D32<>D34),B33,B34)) | L37: =IF(OR(B32="",B33="",B34="",D32="",D33="",D34=""),"", IF(AND(D32=D33,D32<>D34),C33,C34)) | P37: =IF(OR(I37="",R37=""),"",IF(R37>I37,"G","P")) | Q37: =IF(P37="","",IF(P37="G",3,1)) | R37: =IF(OR(D37="",M37=""),"", IF(AND(M37>D37,N37>E37),3, IF(OR(AND(M37>D37,O37>F37),AND(N37>E37,O37>F37)),2, IF(OR(M37>D37,N37>E37,O37>F37),1,0)))) | S37: =IF(AND(ISNUMBER(M37), ISNUMBER(D37)),(M37 + N37 + O37) / (D37 + E37 + F37),"")
B38: =IF(OR(B37="",C37="",K37="",L37=""),"", IF(AND(B37=B32,C37=C32,K37=B34,L37=C34),B33, IF(AND(B37=B32,C37=C32,K37=B33,L37=C33),B34,B32))) | C38: =IF(OR(B37="",C37="",K37="",L37=""),"", IF(AND(B37=B32,C37=C32,K37=B34,L37=C34),C33, IF(AND(B37=B32,C37=C32,K37=B33,L37=C33),C34,C32))) | G38: =IF(OR(I38="",R38=""),"",IF(I38>R38,"G","P")) | H38: =IF(G38="","",IF(G38="G",3,1)) | I38: =IF(OR(D38="",M38=""),"", IF(AND(D38>M38,E38>N38),3, IF(OR(AND(D38>M38,F38>O38),AND(E38>N38,F38>O38)),2, IF(OR(D38>M38,E38>N38,F38>O38),1,0)))) | J38: =IF(AND(ISNUMBER(D38), ISNUMBER(M38)),(D38 + E38 + F38) / (M38 + N38 + O38),"") | K38: =IF(P37="","",IF(P37="G",B37,K37)) | L38: =IF(P37="","",IF(P37="G",C37,L37)) | P38: =IF(OR(I38="",R38=""),"",IF(R38>I38,"G","P")) | Q38: =IF(P38="","",IF(P38="G",3,1)) | R38: =IF(OR(D38="",M38=""),"", IF(AND(M38>D38,N38>E38),3, IF(OR(AND(M38>D38,O38>F38),AND(N38>E38,O38>F38)),2, IF(OR(M38>D38,N38>E38,O38>F38),1,0)))) | S38: =IF(AND(ISNUMBER(M38), ISNUMBER(D38)),(M38 + N38 + O38) / (D38 + E38 + F38),"")
B39: =IF(OR(B37="",C37="",K37="",L37=""),"", IF(AND(B37=B32,C37=C32,K37=B34,L37=C34),B33, IF(AND(B37=B32,C37=C32,K37=B33,L37=C33),B34,B32))) | C39: =IF(OR(B37="",C37="",K37="",L37=""),"", IF(AND(B37=B32,C37=C32,K37=B34,L37=C34),C33, IF(AND(B37=B32,C37=C32,K37=B33,L37=C33),C34,C32))) | G39: =IF(OR(I39="",R39=""),"",IF(I39>R39,"G","P")) | H39: =IF(G39="","",IF(G39="G",3,1)) | I39: =IF(OR(D39="",M39=""),"", IF(AND(D39>M39,E39>N39),3, IF(OR(AND(D39>M39,F39>O39),AND(E39>N39,F39>O39)),2, IF(OR(D39>M39,E39>N39,F39>O39),1,0)))) | J39: =IF(AND(ISNUMBER(D39), ISNUMBER(M39)),(D39 + E39 + F39) / (M39 + N39 + O39),"") | K39: =IF(P37="","",IF(P37="G",K37,B37)) | L39: =IF(P37="","",IF(P37="G",L37,C37)) | P39: =IF(OR(I39="",R39=""),"",IF(R39>I39,"G","P")) | Q39: =IF(P39="","",IF(P39="G",3,1)) | R39: =IF(OR(D39="",M39=""),"", IF(AND(M39>D39,N39>E39),3, IF(OR(AND(M39>D39,O39>F39),AND(N39>E39,O39>F39)),2, IF(OR(M39>D39,N39>E39,O39>F39),1,0)))) | S39: =IF(AND(ISNUMBER(M39), ISNUMBER(D39)),(M39 + N39 + O39) / (D39 + E39 + F39),"")

Sheet 5Q 6 poules 3 joueurs
B2: Club : | E2: Date : | I2: 5 QUILLES | L2: Nombre de Sets : | M2: =IF($C$3="","",VLOOKUP($C$3,Menus!D2:F11,2,FALSE()))
B3: Catégorie : | E3: Tour : | L3: Distance : | M3: =IF($C$3="","",VLOOKUP($C$3,Menus!D2:F11,3,FALSE()))
B5: Poule 1
B7: NOM | C7: Prénom | D7: Club | H7: Points Match | J7: Points Set | K7: Moyenne Générale
H8: =IF(H15="","", IF(AND(B8=B14,C8=C14,B8=B15,C8=C15),H14+H15, IF(AND(B8=B13,C8=C13,B8=K14,C8=L14),H13+Q14, IF(AND(B8=B13,C8=C13,B8=K15,C8=L15),H13+Q15, IF(AND(B8=K13,C8=L13,B8=K14,C8=L14),Q13+Q14, IF(AND(B8=K13,C8=L13,B8=K15,C8=L15),Q13+Q15)))))) | J8: =IF(I15="","", IF(AND(B8=B14,C8=C14,B8=B15,C8=C15),I14+I15, IF(AND(B8=B13,C8=C13,B8=K14,C8=L14),I13+R14, IF(AND(B8=B13,C8=C13,B8=K15,C8=L15),I13+R15, IF(AND(B8=K13,C8=L13,B8=K14,C8=L14),R13+R14, IF(AND(B8=K13,C8=L13,B8=K15,C8=L15),R13+R15)))))) | K8: =IF(I15="","", IF(AND(B8=B14,C8=C14,B8=B15,C8=C15), (D14+E14+F14+D15+E15+F15)/(M14+N14+O14+M15+N15+O15), IF(AND(B8=B13,C8=C13,B8=K14,C8=L14), (D13+E13+F13+M14+N14+O14)/(M13+N13+O13+D14+E14+F14), IF(AND(B8=B13,C8=C13,B8=K15,C8=L15), (D13+E13+F13+M15+N15+O15)/(M13+N13+O13+D15+E15+F15), IF(AND(B8=K13,C8=L13,B8=K14,C8=L14), (M13+N13+O13+M14+N14+O14)/(D13+E13+F13+D14+E14+F14), IF(AND(B8=K13,C8=L13,B8=K15,C8=L15), (M13+N13+O13+M15+N15+O15)/(D13+E13+F13+D15+E15+F15)))))))
H9: =IF(H15="","", IF(AND(B9=B14,C9=C14,B9=B15,C9=C15),H14+H15, IF(AND(B9=B13,C9=C13,B9=K14,C9=L14),H13+Q14, IF(AND(B9=B13,C9=C13,B9=K15,C9=L15),H13+Q15, IF(AND(B9=K13,C9=L13,B9=K14,C9=L14),Q13+Q14, IF(AND(B9=K13,C9=L13,B9=K15,C9=L15),Q13+Q15)))))) | J9: =IF(I15="","", IF(AND(B9=B14,C9=C14,B9=B15,C9=C15),I14+I15, IF(AND(B9=B13,C9=C13,B9=K14,C9=L14),I13+R14, IF(AND(B9=B13,C9=C13,B9=K15,C9=L15),I13+R15, IF(AND(B9=K13,C9=L13,B9=K14,C9=L14),R13+R14, IF(AND(B9=K13,C9=L13,B9=K15,C9=L15),R13+R15)))))) | K9: =IF(I15="","", IF(AND(B9=B14,C9=C14,B9=B15,C9=C15), (D14+E14+F14+D15+E15+F15)/(M14+N14+O14+M15+N15+O15), IF(AND(B9=B13,C9=C13,B9=K14,C9=L14), (D13+E13+F13+M14+N14+O14)/(M13+N13+O13+D14+E14+F14), IF(AND(B9=B13,C9=C13,B9=K15,C9=L15), (D13+E13+F13+M15+N15+O15)/(M13+N13+O13+D15+E15+F15), IF(AND(B9=K13,C9=L13,B9=K14,C9=L14), (M13+N13+O13+M14+N14+O14)/(D13+E13+F13+D14+E14+F14), IF(AND(B9=K13,C9=L13,B9=K15,C9=L15), (M13+N13+O13+M15+N15+O15)/(D13+E13+F13+D15+E15+F15)))))))
H10: =IF(H15="","", IF(AND(B10=B14,C10=C14,B10=B15,C10=C15),H14+H15, IF(AND(B10=B13,C10=C13,B10=K14,C10=L14),H13+Q14, IF(AND(B10=B13,C10=C13,B10=K15,C10=L15),H13+Q15, IF(AND(B10=K13,C10=L13,B10=K14,C10=L14),Q13+Q14, IF(AND(B9=K13,C10=L13,B10=K15,C10=L15),Q13+Q15)))))) | J10: =IF(I15="","", IF(AND(B10=B14,C10=C14,B10=B15,C10=C15),I14+I15, IF(AND(B10=B13,C10=C13,B10=K14,C10=L14),I13+R14, IF(AND(B10=B13,C10=C13,B10=K15,C10=L15),I13+R15, IF(AND(B10=K13,C10=L13,B10=K14,C10=L14),R13+R14, IF(AND(B10=K13,C10=L13,B10=K15,C10=L15),R13+R15)))))) | K10: =IF(I15="","", IF(AND(B10=B14,C10=C14,B10=B15,C10=C15), (D14+E14+F14+D15+E15+F15)/(M14+N14+O14+M15+N15+O15), IF(AND(B10=B13,C10=C13,B10=K14,C10=L14), (D13+E13+F13+M14+N14+O14)/(M13+N13+O13+D14+E14+F14), IF(AND(B10=B13,C10=C13,B10=K15,C10=L15), (D13+E13+F13+M15+N15+O15)/(M13+N13+O13+D15+E15+F15), IF(AND(B10=K13,C10=L13,B10=K14,C10=L14), (M13+N13+O13+M14+N14+O14)/(D13+E13+F13+D14+E14+F14), IF(AND(B10=K13,C10=L13,B10=K15,C10=L15), (M13+N13+O13+M15+N15+O15)/(D13+E13+F13+D15+E15+F15)))))))
B12: Joueur A | D12: Set 1 | E12: Set 2 | F12: Set 3 | G12: Match G/P | H12: Points Match | I12: Points Set | J12: Moy. | K12: Joueur B | M12: Set 1 | N12: Set 2 | O12: Set 3 | P12: Match G/P | Q12: Points Match | R12: Points Set | S12: Moy
B13: =IF(OR(B8="",B9="",B10="",D8="",D9="",D10=""),"", IF(OR(AND(D8=D10,D8<>D9),AND(D8=D9,D8<>D10)),B8,B9)) | C13: =IF(OR(B8="",B9="",B10="",D8="",D9="",D10=""),"", IF(OR(AND(D8=D10,D8<>D9),AND(D8=D9,D8<>D10)),C8,C9)) | G13: =IF(OR(I13="",R13=""),"",IF(I13>R13,"G","P")) | H13: =IF(G13="","",IF(G13="G",3,1)) | I13: =IF(OR(D13="",M13=""),"", IF(AND(D13>M13,E13>N13),3, IF(OR(AND(D13>M13,F13>O13),AND(E13>N13,F13>O13)),2, IF(OR(D13>M13,E13>N13,F13>O13),1,0)))) | J13: =IF(AND(ISNUMBER(D13), ISNUMBER(M13)),(D13 + E13 + F13) / (M13 + N13 + O13),"") | K13: =IF(OR(B8="",B9="",B10="",D8="",D9="",D10=""),"", IF(AND(D8=D9,D8<>D10),B9,B10)) | L13: =IF(OR(B8="",B9="",B10="",D8="",D9="",D10=""),"", IF(AND(D8=D9,D8<>D10),C9,C10)) | P13: =IF(OR(I13="",R13=""),"",IF(R13>I13,"G","P")) | Q13: =IF(P13="","",IF(P13="G",3,1)) | R13: =IF(OR(D13="",M13=""),"", IF(AND(M13>D13,N13>E13),3, IF(OR(AND(M13>D13,O13>F13),AND(N13>E13,O13>F13)),2, IF(OR(M13>D13,N13>E13,O13>F13),1,0)))) | S13: =IF(AND(ISNUMBER(M13), ISNUMBER(D13)),(M13 + N13 + O13) / (D13 + E13 + F13),"")
B14: =IF(OR(B13="",C13="",K13="",L13=""),"", IF(AND(B13=B8,C13=C8,K13=B10,L13=C10),B9, IF(AND(B13=B8,C13=C8,K13=B9,L13=C9),B10,B8))) | C14: =IF(OR(B13="",C13="",K13="",L13=""),"", IF(AND(B13=B8,C13=C8,K13=B10,L13=C10),C9, IF(AND(B13=B8,C13=C8,K13=B9,L13=C9),C10,C8))) | G14: =IF(OR(I14="",R14=""),"",IF(I14>R14,"G","P")) | H14: =IF(G14="","",IF(G14="G",3,1)) | I14: =IF(OR(D14="",M14=""),"", IF(AND(D14>M14,E14>N14),3, IF(OR(AND(D14>M14,F14>O14),AND(E14>N14,F14>O14)),2, IF(OR(D14>M14,E14>N14,F14>O14),1,0)))) | J14: =IF(AND(ISNUMBER(D14), ISNUMBER(M14)),(D14 + E14 + F14) / (M14 + N14 + O14),"") | K14: =IF(P13="","",IF(P13="G",B13,K13)) | L14: =IF(P13="","",IF(P13="G",C13,L13)) | P14: =IF(OR(I14="",R14=""),"",IF(R14>I14,"G","P")) | Q14: =IF(P14="","",IF(P14="G",3,1)) | R14: =IF(OR(D14="",M14=""),"", IF(AND(M14>D14,N14>E14),3, IF(OR(AND(M14>D14,O14>F14),AND(N14>E14,O14>F14)),2, IF(OR(M14>D14,N14>E14,O14>F14),1,0)))) | S14: =IF(AND(ISNUMBER(M14), ISNUMBER(D14)),(M14 + N14 + O14) / (D14 + E14 + F14),"")
B15: =IF(OR(B13="",C13="",K13="",L13=""),"", IF(AND(B13=B8,C13=C8,K13=B10,L13=C10),B9, IF(AND(B13=B8,C13=C8,K13=B9,L13=C9),B10,B8))) | C15: =IF(OR(B13="",C13="",K13="",L13=""),"", IF(AND(B13=B8,C13=C8,K13=B10,L13=C10),C9, IF(AND(B13=B8,C13=C8,K13=B9,L13=C9),C10,C8))) | G15: =IF(OR(I15="",R15=""),"",IF(I15>R15,"G","P")) | H15: =IF(G15="","",IF(G15="G",3,1)) | I15: =IF(OR(D15="",M15=""),"", IF(AND(D15>M15,E15>N15),3, IF(OR(AND(D15>M15,F15>O15),AND(E15>N15,F15>O15)),2, IF(OR(D15>M15,E15>N15,F15>O15),1,0)))) | J15: =IF(AND(ISNUMBER(D15), ISNUMBER(M15)),(D15 + E15 + F15) / (M15 + N15 + O15),"") | K15: =IF(P13="","",IF(P13="G",K13,B13)) | L15: =IF(P13="","",IF(P13="G",L13,C13)) | P15: =IF(OR(I15="",R15=""),"",IF(R15>I15,"G","P")) | Q15: =IF(P15="","",IF(P15="G",3,1)) | R15: =IF(OR(D15="",M15=""),"", IF(AND(M15>D15,N15>E15),3, IF(OR(AND(M15>D15,O15>F15),AND(N15>E15,O15>F15)),2, IF(OR(M15>D15,N15>E15,O15>F15),1,0)))) | S15: =IF(AND(ISNUMBER(M15), ISNUMBER(D15)),(M15 + N15 + O15) / (D15 + E15 + F15),"")
B17: Poule 2
B19: NOM | C19: Prénom | D19: Club | H19: Points Match | J19: Points Set | K19: Moyenne Générale
H20: =IF(H27="","", IF(AND(B20=B26,B20=B27),H26+H27, IF(AND(B20=B25,B20=K26),H25+Q26, IF(AND(B20=B25,B20=K27),H25+Q27, IF(AND(B20=K25,B20=K26),Q25+Q26, IF(AND(B20=K25,B20=K27),Q25+Q27)))))) | J20: =IF(I27="","", IF(AND(B20=B26,B20=B27),I26+I27, IF(AND(B20=B25,B20=K26),I25+R26, IF(AND(B20=B25,B20=K27),I25+R27, IF(AND(B20=K25,B20=K26),R25+R26, IF(AND(B20=K25,B20=K27),R25+R27)))))) | K20: =IF(I27="","", IF(AND(B20=B26,B20=B27),(D26+E26+F26+D27+E27+F27)/(M26+N26+O26+M27+N27+O27), IF(AND(B20=B25,B20=K26),(D25+E25+F25+M26+N26+O26)/(M25+N25+O25+D26+E26+F26), IF(AND(B20=B25,B20=K27),(D25+E25+F25+M27+N27+O27)/(M25+N25+O25+D27+E27+F27), IF(AND(B20=K25,B20=K26),(M25+N25+O25+M26+N26+O26)/(D25+E25+F25+D26+E26+F26), IF(AND(B20=K25,B20=K27),(M25+N25+O25+M27+N27+O27)/(D25+E25+F25+D27+E27+F27)))))))
H21: =IF(H27="","", IF(AND(B21=B26,B21=B27),H26+H27, IF(AND(B21=B25,B21=K26),H25+Q26, IF(AND(B21=B25,B21=K27),H25+Q27, IF(AND(B21=K25,B21=K26),Q25+Q26, IF(AND(B21=K25,B21=K27),Q25+Q27)))))) | J21: =IF(I27="","", IF(AND(B21=B26,B21=B27),I26+I27, IF(AND(B21=B25,B21=K26),I25+R26, IF(AND(B21=B25,B21=K27),I25+R27, IF(AND(B21=K25,B21=K26),R25+R26, IF(AND(B21=K25,B21=K27),R25+R27)))))) | K21: =IF(I27="","", IF(AND(B21=B26,B21=B27),(D26+E26+F26+D27+E27+F27)/(M26+N26+O26+M27+N27+O27), IF(AND(B21=B25,B21=K26),(D25+E25+F25+M26+N26+O26)/(M25+N25+O25+D26+E26+F26), IF(AND(B21=B25,B21=K27),(D25+E25+F25+M27+N27+O27)/(M25+N25+O25+D27+E27+F27), IF(AND(B21=K25,B21=K26),(M25+N25+O25+M26+N26+O26)/(D25+E25+F25+D26+E26+F26), IF(AND(B21=K25,B21=K27),(M25+N25+O25+M27+N27+O27)/(D25+E25+F25+D27+E27+F27)))))))
H22: =IF(H27="","", IF(AND(B22=B26,B22=B27),H26+H27, IF(AND(B22=B25,B22=K26),H25+Q26, IF(AND(B22=B25,B22=K27),H25+Q27, IF(AND(B22=K25,B22=K26),Q25+Q26, IF(AND(B22=K25,B22=K27),Q25+Q27)))))) | J22: =IF(I27="","", IF(AND(B22=B26,B22=B27),I26+I27, IF(AND(B22=B25,B22=K26),I25+R26, IF(AND(B22=B25,B22=K27),I25+R27, IF(AND(B22=K25,B22=K26),R25+R26, IF(AND(B22=K25,B22=K27),R25+R27)))))) | K22: =IF(I27="","", IF(AND(B22=B26,B22=B27),(D26+E26+F26+D27+E27+F27)/(M26+N26+O26+M27+N27+O27), IF(AND(B22=B25,B22=K26),(D25+E25+F25+M26+N26+O26)/(M25+N25+O25+D26+E26+F26), IF(AND(B22=B25,B22=K27),(D25+E25+F25+M27+N27+O27)/(M25+N25+O25+D27+E27+F27), IF(AND(B22=K25,B22=K26),(M25+N25+O25+M26+N26+O26)/(D25+E25+F25+D26+E26+F26), IF(AND(B22=K25,B22=K27),(M25+N25+O25+M27+N27+O27)/(D25+E25+F25+D27+E27+F27)))))))
B24: Joueur A | D24: Set 1 | E24: Set 2 | F24: Set 3 | G24: Match G/P | H24: Points Match | I24: Points Set | J24: Moy. | K24: Joueur B | M24: Set 1 | N24: Set 2 | O24: Set 3 | P24: Match G/P | Q24: Points Match | R24: Points Set | S24: Moy
B25: =IF(OR(B20="",B21="",B22="",D20="",D21="",D22=""),"", IF(AND(D22=D20,D20<>D21),B20,B21)) | C25: =IF(B25="","",IF(B25 = B20, C20, C21)) | G25: =IF(OR(I25="",R25=""),"",IF(I25>R25,"G","P")) | H25: =IF(G25="","",IF(G25="G",3,1)) | I25: =IF(OR(D25="",M25=""),"", IF(OR(AND(D25>M25,E25>N25),AND(D25>M25,F25>O25),AND(E25>N25,F25>O25)),2, IF(OR(D25>M25,E25>N25,F25>O25),1,0))) | J25: =IF(AND(ISNUMBER(D25), ISNUMBER(M25)),(D25 + E25 + F25) / (M25 + N25 + O25),"") | K25: =IF(OR(B20="",B21="",B22="",D20="",D21="",D22=""),"",IF(AND(D21=D20,D20<>D22),B20,B22)) | L25: =IF(K25="","",IF(K25 = B20, C20, C22)) | P25: =IF(OR(I25="",R25=""),"",IF(R25>I25,"G","P")) | Q25: =IF(P25="","",IF(P25="G",3,1)) | R25: =IF(OR(D25="",M25=""),"", IF(OR(AND(M25>D25,N25>E25),AND(M25>D25,O25>F25),AND(N25>E25,O25>F25)),2, IF(OR(M25>D25,N25>E25,O25>F25),1,0))) | S25: =IF(AND(ISNUMBER(M25), ISNUMBER(D25)),(M25 + N25 + O25) / (D25 + E25 + F25),"")
B26: =IF(OR(B25="",K25=""),"", IF(B25=B20,B21,IF(K25=B20,B22,B20))) | C26: =IF(B26="","",IF(B26 = B20, C20, IF(B26 = B21, C21, C22))) | G26: =IF(OR(I26="",R26=""),"",IF(I26>R26,"G","P")) | H26: =IF(G26="","",IF(G26="G",3,1)) | I26: =IF(OR(D26="",M26=""),"", IF(OR(AND(D26>M26,E26>N26),AND(D26>M26,F26>O26),AND(E26>N26,F26>O26)),2, IF(OR(D26>M26,E26>N26,F26>O26),1,0))) | J26: =IF(AND(ISNUMBER(D26), ISNUMBER(M26)),(D26 + E26 + F26) / (M26 + N26 + O26),"") | K26: =IF(P25="","",IF(P25="G",B25, K25)) | L26: =IF(K26="","",IF(K26=B20,C20, IF(K26 = B21, C21, C22))) | P26: =IF(OR(I26="",R26=""),"",IF(R26>I26,"G","P")) | Q26: =IF(P26="","",IF(P26="G",3,1)) | R26: =IF(OR(D26="",M26=""),"", IF(OR(AND(M26>D26,N26>E26),AND(M26>D26,O26>F26),AND(N26>E26,O26>F26)),2, IF(OR(M26>D26,N26>E26,O26>F26),1,0))) | S26: =IF(AND(ISNUMBER(M26), ISNUMBER(D26)),(M26 + N26 + O26) / (D26 + E26 + F26),"")
B27: =IF(OR(B25="",K25=""),"", IF(B25=B20,B21,IF(K25=B20,B22,B20))) | C27: =IF(B26="","",IF(B26 = B20, C20, IF(B26 = B21, C21, C22))) | G27: =IF(OR(I27="",R27=""),"",IF(I27>R27,"G","P")) | H27: =IF(G27="","",IF(G27="G",3,1)) | I27: =IF(OR(D27="",M27=""),"", IF(OR(AND(D27>M27,E27>N27),AND(D27>M27,F27>O27),AND(E27>N27,F27>O27)),2, IF(OR(D27>M27,E27>N27,F27>O27),1,0))) | J27: =IF(AND(ISNUMBER(D27), ISNUMBER(M27)),(D27 + E27 + F27) / (M27 + N27 + O27),"") | K27: =IF(K26="","",IF(K26=B25,K25,B25)) | L27: =IF(K27="","",IF(K27=B20,C20, IF(K27 = B21, C21, C22))) | P27: =IF(OR(I27="",R27=""),"",IF(R27>I27,"G","P")) | Q27: =IF(P27="","",IF(P27="G",3,1)) | R27: =IF(OR(D27="",M27=""),"", IF(OR(AND(M27>D27,N27>E27),AND(M27>D27,O27>F27),AND(N27>E27,O27>F27)),2, IF(OR(M27>D27,N27>E27,O27>F27),1,0))) | S27: =IF(AND(ISNUMBER(M27), ISNUMBER(D27)),(M27 + N27 + O27) / (D27 + E27 + F27),"")
B29: Poule 3
B31: NOM | C31: Prénom | D31: Club | H31: Points Match | J31: Points Set | K31: Moyenne Générale
H32: =IF(H39="","", IF(AND(B32=B38,C32=C38,B32=B39,C32=C39),H38+H39, IF(AND(B32=B37,C32=C37,B32=K38,C32=L38),H37+Q38, IF(AND(B32=B37,C32=C37,B32=K39,C32=L39),H37+Q39, IF(AND(B32=K37,C32=L37,B32=K38,C32=L38),Q37+Q38, IF(AND(B32=K37,C32=L37,B32=K39,C32=L39),Q37+Q39)))))) | J32: =IF(I39="","", IF(AND(B32=B38,C32=C38,B32=B39,C32=C39),I38+I39, IF(AND(B32=B37,C32=C37,B32=K38,C32=L38),I37+R38, IF(AND(B32=B37,C32=C37,B32=K39,C32=L39),I37+R39, IF(AND(B32=K37,C32=L37,B32=K38,C32=L38),R37+R38, IF(AND(B32=K37,C32=L37,B32=K39,C32=L39),R37+R39)))))) | K32: =IF(I39="","", IF(AND(B32=B38,C32=C38,B32=B39,C32=C39), (D38+E38+F38+D39+E39+F39)/(M38+N38+O38+M39+N39+O39), IF(AND(B32=B37,C32=C37,B32=K38,C32=L38), (D37+E37+F37+M38+N38+O38)/(M37+N37+O37+D38+E38+F38), IF(AND(B32=B37,C32=C37,B32=K39,C32=L39), (D37+E37+F37+M39+N39+O39)/(M37+N37+O37+D39+E39+F39), IF(AND(B32=K37,C32=L37,B32=K38,C32=L38), (M37+N37+O37+M38+N38+O38)/(D37+E37+F37+D38+E38+F38), IF(AND(B32=K37,C32=L37,B32=K39,C32=L39), (M37+N37+O37+M39+N39+O39)/(D37+E37+F37+D39+E39+F39)))))))
H33: =IF(H39="","", IF(AND(B33=B38,C33=C38,B33=B39,C33=C39),H38+H39, IF(AND(B33=B37,C33=C37,B33=K38,C33=L38),H37+Q38, IF(AND(B33=B37,C33=C37,B33=K39,C33=L39),H37+Q39, IF(AND(B33=K37,C33=L37,B33=K38,C33=L38),Q37+Q38, IF(AND(B33=K37,C33=L37,B33=K39,C33=L39),Q37+Q39)))))) | J33: =IF(I39="","", IF(AND(B33=B38,C33=C38,B33=B39,C33=C39),I38+I39, IF(AND(B33=B37,C33=C37,B33=K38,C33=L38),I37+R38, IF(AND(B33=B37,C33=C37,B33=K39,C33=L39),I37+R39, IF(AND(B33=K37,C33=L37,B33=K38,C33=L38),R37+R38, IF(AND(B33=K37,C33=L37,B33=K39,C33=L39),R37+R39)))))) | K33: =IF(I39="","", IF(AND(B33=B38,C33=C38,B33=B39,C33=C39), (D38+E38+F38+D39+E39+F39)/(M38+N38+O38+M39+N39+O39), IF(AND(B33=B37,C33=C37,B33=K38,C33=L38), (D37+E37+F37+M38+N38+O38)/(M37+N37+O37+D38+E38+F38), IF(AND(B33=B37,C33=C37,B33=K39,C33=L39), (D37+E37+F37+M39+N39+O39)/(M37+N37+O37+D39+E39+F39), IF(AND(B33=K37,C33=L37,B33=K38,C33=L38), (M37+N37+O37+M38+N38+O38)/(D37+E37+F37+D38+E38+F38), IF(AND(B33=K37,C33=L37,B33=K39,C33=L39), (M37+N37+O37+M39+N39+O39)/(D37+E37+F37+D39+E39+F39)))))))
H34: =IF(H39="","", IF(AND(B34=B38,C34=C38,B34=B39,C34=C39),H38+H39, IF(AND(B34=B37,C34=C37,B34=K38,C34=L38),H37+Q38, IF(AND(B34=B37,C34=C37,B34=K39,C34=L39),H37+Q39, IF(AND(B34=K37,C34=L37,B34=K38,C34=L38),Q37+Q38, IF(AND(B33=K37,C34=L37,B34=K39,C34=L39),Q37+Q39)))))) | J34: =IF(I39="","", IF(AND(B34=B38,C34=C38,B34=B39,C34=C39),I38+I39, IF(AND(B34=B37,C34=C37,B34=K38,C34=L38),I37+R38, IF(AND(B34=B37,C34=C37,B34=K39,C34=L39),I37+R39, IF(AND(B34=K37,C34=L37,B34=K38,C34=L38),R37+R38, IF(AND(B34=K37,C34=L37,B34=K39,C34=L39),R37+R39)))))) | K34: =IF(I39="","", IF(AND(B34=B38,C34=C38,B34=B39,C34=C39), (D38+E38+F38+D39+E39+F39)/(M38+N38+O38+M39+N39+O39), IF(AND(B34=B37,C34=C37,B34=K38,C34=L38), (D37+E37+F37+M38+N38+O38)/(M37+N37+O37+D38+E38+F38), IF(AND(B34=B37,C34=C37,B34=K39,C34=L39), (D37+E37+F37+M39+N39+O39)/(M37+N37+O37+D39+E39+F39), IF(AND(B34=K37,C34=L37,B34=K38,C34=L38), (M37+N37+O37+M38+N38+O38)/(D37+E37+F37+D38+E38+F38), IF(AND(B34=K37,C34=L37,B34=K39,C34=L39), (M37+N37+O37+M39+N39+O39)/(D37+E37+F37+D39+E39+F39)))))))
B36: Joueur A | D36: Set 1 | E36: Set 2 | F36: Set 3 | G36: Match G/P | H36: Points Match | I36: Points Set | J36: Moy. | K36: Joueur B | M36: Set 1 | N36: Set 2 | O36: Set 3 | P36: Match G/P | Q36: Points Match | R36: Points Set | S36: Moy
B37: =IF(OR(B32="",B33="",B34="",D32="",D33="",D34=""),"", IF(OR(AND(D32=D34,D32<>D33),AND(D32=D33,D32<>D34)),B32,B33)) | C37: =IF(OR(B32="",B33="",B34="",D32="",D33="",D34=""),"", IF(OR(AND(D32=D34,D32<>D33),AND(D32=D33,D32<>D34)),C32,C33)) | G37: =IF(OR(I37="",R37=""),"",IF(I37>R37,"G","P")) | H37: =IF(G37="","",IF(G37="G",3,1)) | I37: =IF(OR(D37="",M37=""),"", IF(AND(D37>M37,E37>N37),3, IF(OR(AND(D37>M37,F37>O37),AND(E37>N37,F37>O37)),2, IF(OR(D37>M37,E37>N37,F37>O37),1,0)))) | J37: =IF(AND(ISNUMBER(D37), ISNUMBER(M37)),(D37 + E37 + F37) / (M37 + N37 + O37),"") | K37: =IF(OR(B32="",B33="",B34="",D32="",D33="",D34=""),"", IF(AND(D32=D33,D32<>D34),B33,B34)) | L37: =IF(OR(B32="",B33="",B34="",D32="",D33="",D34=""),"", IF(AND(D32=D33,D32<>D34),C33,C34)) | P37: =IF(OR(I37="",R37=""),"",IF(R37>I37,"G","P")) | Q37: =IF(P37="","",IF(P37="G",3,1)) | R37: =IF(OR(D37="",M37=""),"", IF(AND(M37>D37,N37>E37),3, IF(OR(AND(M37>D37,O37>F37),AND(N37>E37,O37>F37)),2, IF(OR(M37>D37,N37>E37,O37>F37),1,0)))) | S37: =IF(AND(ISNUMBER(M37), ISNUMBER(D37)),(M37 + N37 + O37) / (D37 + E37 + F37),"")
B38: =IF(OR(B37="",C37="",K37="",L37=""),"", IF(AND(B37=B32,C37=C32,K37=B34,L37=C34),B33, IF(AND(B37=B32,C37=C32,K37=B33,L37=C33),B34,B32))) | C38: =IF(OR(B37="",C37="",K37="",L37=""),"", IF(AND(B37=B32,C37=C32,K37=B34,L37=C34),C33, IF(AND(B37=B32,C37=C32,K37=B33,L37=C33),C34,C32))) | G38: =IF(OR(I38="",R38=""),"",IF(I38>R38,"G","P")) | H38: =IF(G38="","",IF(G38="G",3,1)) | I38: =IF(OR(D38="",M38=""),"", IF(AND(D38>M38,E38>N38),3, IF(OR(AND(D38>M38,F38>O38),AND(E38>N38,F38>O38)),2, IF(OR(D38>M38,E38>N38,F38>O38),1,0)))) | J38: =IF(AND(ISNUMBER(D38), ISNUMBER(M38)),(D38 + E38 + F38) / (M38 + N38 + O38),"") | K38: =IF(P37="","",IF(P37="G",B37,K37)) | L38: =IF(P37="","",IF(P37="G",C37,L37)) | P38: =IF(OR(I38="",R38=""),"",IF(R38>I38,"G","P")) | Q38: =IF(P38="","",IF(P38="G",3,1)) | R38: =IF(OR(D38="",M38=""),"", IF(AND(M38>D38,N38>E38),3, IF(OR(AND(M38>D38,O38>F38),AND(N38>E38,O38>F38)),2, IF(OR(M38>D38,N38>E38,O38>F38),1,0)))) | S38: =IF(AND(ISNUMBER(M38), ISNUMBER(D38)),(M38 + N38 + O38) / (D38 + E38 + F38),"")
B39: =IF(OR(B37="",C37="",K37="",L37=""),"", IF(AND(B37=B32,C37=C32,K37=B34,L37=C34),B33, IF(AND(B37=B32,C37=C32,K37=B33,L37=C33),B34,B32))) | C39: =IF(OR(B37="",C37="",K37="",L37=""),"", IF(AND(B37=B32,C37=C32,K37=B34,L37=C34),C33, IF(AND(B37=B32,C37=C32,K37=B33,L37=C33),C34,C32))) | G39: =IF(OR(I39="",R39=""),"",IF(I39>R39,"G","P")) | H39: =IF(G39="","",IF(G39="G",3,1)) | I39: =IF(OR(D39="",M39=""),"", IF(AND(D39>M39,E39>N39),3, IF(OR(AND(D39>M39,F39>O39),AND(E39>N39,F39>O39)),2, IF(OR(D39>M39,E39>N39,F39>O39),1,0)))) | J39: =IF(AND(ISNUMBER(D39), ISNUMBER(M39)),(D39 + E39 + F39) / (M39 + N39 + O39),"") | K39: =IF(P37="","",IF(P37="G",K37,B37)) | L39: =IF(P37="","",IF(P37="G",L37,C37)) | P39: =IF(OR(I39="",R39=""),"",IF(R39>I39,"G","P")) | Q39: =IF(P39="","",IF(P39="G",3,1)) | R39: =IF(OR(D39="",M39=""),"", IF(AND(M39>D39,N39>E39),3, IF(OR(AND(M39>D39,O39>F39),AND(N39>E39,O39>F39)),2, IF(OR(M39>D39,N39>E39,O39>F39),1,0)))) | S39: =IF(AND(ISNUMBER(M39), ISNUMBER(D39)),(M39 + N39 + O39) / (D39 + E39 + F39),"")
B41: Poule 4
B43: NOM | C43: Prénom | D43: Club | H43: Points Match | J43: Points Set | K43: Moyenne Générale
H44: =IF(H51="","", IF(AND(B44=B50,C44=C50,B44=B51,C44=C51),H50+H51, IF(AND(B44=B49,C44=C49,B44=K50,C44=L50),H49+Q50, IF(AND(B44=B49,C44=C49,B44=K51,C44=L51),H49+Q51, IF(AND(B44=K49,C44=L49,B44=K50,C44=L50),Q49+Q50, IF(AND(B44=K49,C44=L49,B44=K51,C44=L51),Q49+Q51)))))) | J44: =IF(I51="","", IF(AND(B44=B50,C44=C50,B44=B51,C44=C51),I50+I51, IF(AND(B44=B49,C44=C49,B44=K50,C44=L50),I49+R50, IF(AND(B44=B49,C44=C49,B44=K51,C44=L51),I49+R51, IF(AND(B44=K49,C44=L49,B44=K50,C44=L50),R49+R50, IF(AND(B44=K49,C44=L49,B44=K51,C44=L51),R49+R51)))))) | K44: =IF(I51="","", IF(AND(B44=B50,C44=C50,B44=B51,C44=C51), (D50+E50+F50+D51+E51+F51)/(M50+N50+O50+M51+N51+O51), IF(AND(B44=B49,C44=C49,B44=K50,C44=L50), (D49+E49+F49+M50+N50+O50)/(M49+N49+O49+D50+E50+F50), IF(AND(B44=B49,C44=C49,B44=K51,C44=L51), (D49+E49+F49+M51+N51+O51)/(M49+N49+O49+D51+E51+F51), IF(AND(B44=K49,C44=L49,B44=K50,C44=L50), (M49+N49+O49+M50+N50+O50)/(D49+E49+F49+D50+E50+F50), IF(AND(B44=K49,C44=L49,B44=K51,C44=L51), (M49+N49+O49+M51+N51+O51)/(D49+E49+F49+D51+E51+F51)))))))
H45: =IF(H51="","", IF(AND(B45=B50,C45=C50,B45=B51,C45=C51),H50+H51, IF(AND(B45=B49,C45=C49,B45=K50,C45=L50),H49+Q50, IF(AND(B45=B49,C45=C49,B45=K51,C45=L51),H49+Q51, IF(AND(B45=K49,C45=L49,B45=K50,C45=L50),Q49+Q50, IF(AND(B45=K49,C45=L49,B45=K51,C45=L51),Q49+Q51)))))) | J45: =IF(I51="","", IF(AND(B45=B50,C45=C50,B45=B51,C45=C51),I50+I51, IF(AND(B45=B49,C45=C49,B45=K50,C45=L50),I49+R50, IF(AND(B45=B49,C45=C49,B45=K51,C45=L51),I49+R51, IF(AND(B45=K49,C45=L49,B45=K50,C45=L50),R49+R50, IF(AND(B45=K49,C45=L49,B45=K51,C45=L51),R49+R51)))))) | K45: =IF(I51="","", IF(AND(B45=B50,C45=C50,B45=B51,C45=C51), (D50+E50+F50+D51+E51+F51)/(M50+N50+O50+M51+N51+O51), IF(AND(B45=B49,C45=C49,B45=K50,C45=L50), (D49+E49+F49+M50+N50+O50)/(M49+N49+O49+D50+E50+F50), IF(AND(B45=B49,C45=C49,B45=K51,C45=L51), (D49+E49+F49+M51+N51+O51)/(M49+N49+O49+D51+E51+F51), IF(AND(B45=K49,C45=L49,B45=K50,C45=L50), (M49+N49+O49+M50+N50+O50)/(D49+E49+F49+D50+E50+F50), IF(AND(B45=K49,C45=L49,B45=K51,C45=L51), (M49+N49+O49+M51+N51+O51)/(D49+E49+F49+D51+E51+F51)))))))
H46: =IF(H51="","", IF(AND(B46=B50,C46=C50,B46=B51,C46=C51),H50+H51, IF(AND(B46=B49,C46=C49,B46=K50,C46=L50),H49+Q50, IF(AND(B46=B49,C46=C49,B46=K51,C46=L51),H49+Q51, IF(AND(B46=K49,C46=L49,B46=K50,C46=L50),Q49+Q50, IF(AND(B45=K49,C46=L49,B46=K51,C46=L51),Q49+Q51)))))) | J46: =IF(I51="","", IF(AND(B46=B50,C46=C50,B46=B51,C46=C51),I50+I51, IF(AND(B46=B49,C46=C49,B46=K50,C46=L50),I49+R50, IF(AND(B46=B49,C46=C49,B46=K51,C46=L51),I49+R51, IF(AND(B46=K49,C46=L49,B46=K50,C46=L50),R49+R50, IF(AND(B46=K49,C46=L49,B46=K51,C46=L51),R49+R51)))))) | K46: =IF(I51="","", IF(AND(B46=B50,C46=C50,B46=B51,C46=C51), (D50+E50+F50+D51+E51+F51)/(M50+N50+O50+M51+N51+O51), IF(AND(B46=B49,C46=C49,B46=K50,C46=L50), (D49+E49+F49+M50+N50+O50)/(M49+N49+O49+D50+E50+F50), IF(AND(B46=B49,C46=C49,B46=K51,C46=L51), (D49+E49+F49+M51+N51+O51)/(M49+N49+O49+D51+E51+F51), IF(AND(B46=K49,C46=L49,B46=K50,C46=L50), (M49+N49+O49+M50+N50+O50)/(D49+E49+F49+D50+E50+F50), IF(AND(B46=K49,C46=L49,B46=K51,C46=L51), (M49+N49+O49+M51+N51+O51)/(D49+E49+F49+D51+E51+F51)))))))
B48: Joueur A | D48: Set 1 | E48: Set 2 | F48: Set 3 | G48: Match G/P | H48: Points Match | I48: Points Set | J48: Moy. | K48: Joueur B | M48: Set 1 | N48: Set 2 | O48: Set 3 | P48: Match G/P | Q48: Points Match | R48: Points Set | S48: Moy
B49: =IF(OR(B44="",B45="",B46="",D44="",D45="",D46=""),"", IF(OR(AND(D44=D46,D44<>D45),AND(D44=D45,D44<>D46)),B44,B45)) | C49: =IF(OR(B44="",B45="",B46="",D44="",D45="",D46=""),"", IF(OR(AND(D44=D46,D44<>D45),AND(D44=D45,D44<>D46)),C44,C45)) | G49: =IF(OR(I49="",R49=""),"",IF(I49>R49,"G","P")) | H49: =IF(G49="","",IF(G49="G",3,1)) | I49: =IF(OR(D49="",M49=""),"", IF(AND(D49>M49,E49>N49),3, IF(OR(AND(D49>M49,F49>O49),AND(E49>N49,F49>O49)),2, IF(OR(D49>M49,E49>N49,F49>O49),1,0)))) | J49: =IF(AND(ISNUMBER(D49), ISNUMBER(M49)),(D49 + E49 + F49) / (M49 + N49 + O49),"") | K49: =IF(OR(B44="",B45="",B46="",D44="",D45="",D46=""),"", IF(AND(D44=D45,D44<>D46),B45,B46)) | L49: =IF(OR(B44="",B45="",B46="",D44="",D45="",D46=""),"", IF(AND(D44=D45,D44<>D46),C45,C46)) | P49: =IF(OR(I49="",R49=""),"",IF(R49>I49,"G","P")) | Q49: =IF(P49="","",IF(P49="G",3,1)) | R49: =IF(OR(D49="",M49=""),"", IF(AND(M49>D49,N49>E49),3, IF(OR(AND(M49>D49,O49>F49),AND(N49>E49,O49>F49)),2, IF(OR(M49>D49,N49>E49,O49>F49),1,0)))) | S49: =IF(AND(ISNUMBER(M49), ISNUMBER(D49)),(M49 + N49 + O49) / (D49 + E49 + F49),"")
B50: =IF(OR(B49="",C49="",K49="",L49=""),"", IF(AND(B49=B44,C49=C44,K49=B46,L49=C46),B45, IF(AND(B49=B44,C49=C44,K49=B45,L49=C45),B46,B44))) | C50: =IF(OR(B49="",C49="",K49="",L49=""),"", IF(AND(B49=B44,C49=C44,K49=B46,L49=C46),C45, IF(AND(B49=B44,C49=C44,K49=B45,L49=C45),C46,C44))) | G50: =IF(OR(I50="",R50=""),"",IF(I50>R50,"G","P")) | H50: =IF(G50="","",IF(G50="G",3,1)) | I50: =IF(OR(D50="",M50=""),"", IF(AND(D50>M50,E50>N50),3, IF(OR(AND(D50>M50,F50>O50),AND(E50>N50,F50>O50)),2, IF(OR(D50>M50,E50>N50,F50>O50),1,0)))) | J50: =IF(AND(ISNUMBER(D50), ISNUMBER(M50)),(D50 + E50 + F50) / (M50 + N50 + O50),"") | K50: =IF(P49="","",IF(P49="G",B49,K49)) | L50: =IF(P49="","",IF(P49="G",C49,L49)) | P50: =IF(OR(I50="",R50=""),"",IF(R50>I50,"G","P")) | Q50: =IF(P50="","",IF(P50="G",3,1)) | R50: =IF(OR(D50="",M50=""),"", IF(AND(M50>D50,N50>E50),3, IF(OR(AND(M50>D50,O50>F50),AND(N50>E50,O50>F50)),2, IF(OR(M50>D50,N50>E50,O50>F50),1,0)))) | S50: =IF(AND(ISNUMBER(M50), ISNUMBER(D50)),(M50 + N50 + O50) / (D50 + E50 + F50),"")
B51: =IF(OR(B49="",C49="",K49="",L49=""),"", IF(AND(B49=B44,C49=C44,K49=B46,L49=C46),B45, IF(AND(B49=B44,C49=C44,K49=B45,L49=C45),B46,B44))) | C51: =IF(OR(B49="",C49="",K49="",L49=""),"", IF(AND(B49=B44,C49=C44,K49=B46,L49=C46),C45, IF(AND(B49=B44,C49=C44,K49=B45,L49=C45),C46,C44))) | G51: =IF(OR(I51="",R51=""),"",IF(I51>R51,"G","P")) | H51: =IF(G51="","",IF(G51="G",3,1)) | I51: =IF(OR(D51="",M51=""),"", IF(AND(D51>M51,E51>N51),3, IF(OR(AND(D51>M51,F51>O51),AND(E51>N51,F51>O51)),2, IF(OR(D51>M51,E51>N51,F51>O51),1,0)))) | J51: =IF(AND(ISNUMBER(D51), ISNUMBER(M51)),(D51 + E51 + F51) / (M51 + N51 + O51),"") | K51: =IF(P49="","",IF(P49="G",K49,B49)) | L51: =IF(P49="","",IF(P49="G",L49,C49)) | P51: =IF(OR(I51="",R51=""),"",IF(R51>I51,"G","P")) | Q51: =IF(P51="","",IF(P51="G",3,1)) | R51: =IF(OR(D51="",M51=""),"", IF(AND(M51>D51,N51>E51),3, IF(OR(AND(M51>D51,O51>F51),AND(N51>E51,O51>F51)),2, IF(OR(M51>D51,N51>E51,O51>F51),1,0)))) | S51: =IF(AND(ISNUMBER(M51), ISNUMBER(D51)),(M51 + N51 + O51) / (D51 + E51 + F51),"")
B53: Poule 5
B55: NOM | C55: Prénom | D55: Club | H55: Points Match | J55: Points Set | K55: Moyenne Générale
...

Sheet 5Q Poules croisées 3+2
B2: Club : | E2: Date : | I2: 5 QUILLES | L2: Nombre de Sets : | M2: =IF($C$3="","",VLOOKUP($C$3,Menus!D2:F11,2,FALSE()))
B3: Catégorie : | E3: Tour : | L3: Distance : | M3: =IF($C$3="","",VLOOKUP($C$3,Menus!D2:F11,3,FALSE()))
B5: Poule 1 | K5: Poule 2
B7: NOM | C7: Prénom | D7: Club | G7: Points Match | H7: Points Set | I7: Moyenne Générale | K7: NOM | L7: Prénom | M7: Club | P7: Points Match | Q7: Points Set | R7: Moyenne Générale
G8: =IF(H17="","",H15+H17) | H8: =IF(I17="","",I15+I17) | I8: =IF(J17="", "", (D15+E15+F15+D17+E17+F17)/(M15+N15+O15+M17+N17+O17)) | P8: =IF(Q17="","",IF(K16=K8, H14+Q16, H14+Q17)) | Q8: =IF(R17="","",IF(K16=K8, R13+R16, R13+R17)) | R8: =IF(Q17="","",IF(K16=K8, (D14+E14+F14+M16+N16+O16)/(M14+N14+O14+D16+E16+F16), (D14+E14+F14+M17+N17+O17)/(M14+N14+O14+D17+E17+F17)))
G9: =IF(H16="","",IF(K15=B9, H13+Q15, H13+H16)) | H9: =IF(K16="","",IF(K15=B9, I13+R15, I13+I16)) | I9: =IF(J16="","",IF(K15=B9, (D13+E13+F13+M15+N15+O15)/(M13+N13+O13+D15+E15+F15), (D13+E13+F13+D16+E16+F16)/(M13+N13+O13+M16+N16+O16))) | P9: =IF(Q17="","",IF(K16=K9, Q14+Q16, Q14+Q17)) | Q9: =IF(R17="","",IF(K16=K9, R14+R16, R14+R17)) | R9: =IF(Q17="","",IF(K16=K9, (M14+N14+O14+M16+N16+O16)/(D14+E14+F14+D16+E16+F16), (M14+N14+O14+M17+N17+O17)/(D14+E14+F14+D17+E17+F17)))
G10: =IF(H16="","",IF(K15=B10, Q13+Q15, Q13+H16)) | H10: =IF(I16="","",IF(K15=B10, R13+R15, R13+I16)) | I10: =IF(J17="","",IF(K15=B10, (M13+N13+O13+M15+N15+O15)/(D13+E13+F13+D15+E15+F15), (M13+N13+O13+D16+E16+F16)/(D13+E13+F13+M16+N16+O16)))
B12: Joueur A | D12: Set 1 | E12: Set 2 | F12: Set 3 | G12: Match G/P | H12: Points Match | I12: Points Set | J12: Moy. | K12: Joueur B | M12: Set 1 | N12: Set 2 | O12: Set 3 | P12: Match G/P | Q12: Points Match | R12: Points Set | S12: Moy.
B13: =IF(B9="","",B9) | C13: =IF(C9="","",C9) | G13: =IF(OR(I13="",R13=""),"",IF(I13>R13,"G","P")) | H13: =IF(G13="","",IF(G13="G",3,1)) | I13: =IF(OR(D13="",M13=""),"", IF(OR(AND(D13>M13,E13>N13),AND(D13>M13,F13>O13),AND(E13>N13,F13>O13)),2, IF(OR(D13>M13,E13>N13,F13>O13),1,0))) | J13: =IF(AND(ISNUMBER(D13), ISNUMBER(M13)),(D13 + E13 + F13) / (M13 + N13 + O13),"") | K13: =IF(B10="","",B10) | L13: =IF(C10="","",C10) | P13: =IF(OR(I13="",R13=""),"",IF(R13>I13,"G","P")) | Q13: =IF(P13="","",IF(P13="G",3,1)) | R13: =IF(OR(D13="",M13=""),"", IF(OR(AND(M13>D13,N13>E13),AND(M13>D13,O13>F13),AND(N13>E13,O13>F13)),2, IF(OR(M13>D13,N13>E13,O13>F13),1,0))) | S13: =IF(AND(ISNUMBER(M13), ISNUMBER(D13)),(M13 + N13 + O13) / (D13 + E13 + F13),"")
B14: =IF(K8="","",K8) | C14: =IF(L8="","",L8) | G14: =IF(OR(I14="",R14=""),"",IF(I14>R14,"G","P")) | H14: =IF(G14="","",IF(G14="G",3,1)) | I14: =IF(OR(D14="",M14=""),"", IF(OR(AND(D14>M14,E14>N14),AND(D14>M14,F14>O14),AND(E14>N14,F14>O14)),2, IF(OR(D14>M14,E14>N14,F14>O14),1,0))) | J14: =IF(AND(ISNUMBER(D14), ISNUMBER(M14)),(D14 + E14 + F14) / (M14 + N14 + O14),"") | K14: =IF(K9="","",K9) | L14: =IF(L9="","",L9) | P14: =IF(OR(I14="",R14=""),"",IF(R14>I14,"G","P")) | Q14: =IF(P14="","",IF(P14="G",3,1)) | R14: =IF(OR(D14="",M14=""),"", IF(OR(AND(M14>D14,N14>E14),AND(M14>D14,O14>F14),AND(N14>E14,O14>F14)),2, IF(OR(M14>D14,N14>E14,O14>F14),1,0))) | S14: =IF(AND(ISNUMBER(M14), ISNUMBER(D14)),(M14 + N14 + O14) / (D14 + E14 + F14),"")
B15: =IF(B8="","",B8) | C15: =IF(C8="","",C8) | G15: =IF(OR(I15="",R15=""),"",IF(I15>R15,"G","P")) | H15: =IF(G15="","",IF(G15="G",3,1)) | I15: =IF(OR(D15="",M15=""),"", IF(OR(AND(D15>M15,E15>N15),AND(D15>M15,F15>O15),AND(E15>N15,F15>O15)),2, IF(OR(D15>M15,E15>N15,F15>O15),1,0))) | J15: =IF(AND(ISNUMBER(D15), ISNUMBER(M15)),(D15 + E15 + F15) / (M15 + N15 + O15),"") | K15: =IF(G13="","",IF(G13="P",B13,K13)) | L15: =IF(G13="","",IF(G13="P",C13,L13)) | P15: =IF(OR(I15="",R15=""),"",IF(R15>I15,"G","P")) | Q15: =IF(P15="","",IF(P15="G",3,1)) | R15: =IF(OR(D15="",M15=""),"", IF(OR(AND(M15>D15,N15>E15),AND(M15>D15,O15>F15),AND(N15>E15,O15>F15)),2, IF(OR(M15>D15,N15>E15,O15>F15),1,0))) | S15: =IF(AND(ISNUMBER(M15), ISNUMBER(D15)),(M15 + N15 + O15) / (D15 + E15 + F15),"")
B16: =IF(P13="","",IF(K15=B9,B10,B9)) | C16: =IF(P13="","",IF(L15=C9,C10,C9)) | G16: =IF(OR(I16="",R16=""),"",IF(I16>R16,"G","P")) | H16: =IF(G16="","",IF(G16="G",3,1)) | I16: =IF(OR(D16="",M16=""),"", IF(OR(AND(D16>M16,E16>N16),AND(D16>M16,F16>O16),AND(E16>N16,F16>O16)),2, IF(OR(D16>M16,E16>N16,F16>O16),1,0))) | J16: =IF(AND(ISNUMBER(D16), ISNUMBER(M16)),(D16 + E16 + F16) / (M16 + N16 + O16),"") | K16: =IF(P14="","",IF(K17=K8,K9,K8)) | L16: =IF(P14="","",IF(L17=L8,L9,L8)) | P16: =IF(OR(I16="",R16=""),"",IF(R16>I16,"G","P")) | Q16: =IF(P16="","",IF(P16="G",3,1)) | R16: =IF(OR(D16="",M16=""),"", IF(OR(AND(M16>D16,N16>E16),AND(M16>D16,O16>F16),AND(N16>E16,O16>F16)),2, IF(OR(M16>D16,N16>E16,O16>F16),1,0))) | S16: =IF(AND(ISNUMBER(M16), ISNUMBER(D16)),(M16 + N16 + O16) / (D16 + E16 + F16),"")
B17: =IF(B8="","",B8) | C17: =IF(C8="","",C8) | G17: =IF(OR(I17="",R17=""),"",IF(I17>R17,"G","P")) | H17: =IF(G17="","",IF(G17="G",3,1)) | I17: =IF(OR(D17="",M17=""),"", IF(OR(AND(D17>M17,E17>N17),AND(D17>M17,F17>O17),AND(E17>N17,F17>O17)),2, IF(OR(D17>M17,E17>N17,F17>O17),1,0))) | J17: =IF(AND(ISNUMBER(D17), ISNUMBER(M17)),(D17 + E17 + F17) / (M17 + N17 + O17),"") | K17: =IF(G14="","",IF(G14="P",B14,K14)) | L17: =IF(G14="","",IF(G14="P",C14,L14)) | P17: =IF(OR(I17="",R17=""),"",IF(R17>I17,"G","P")) | Q17: =IF(P17="","",IF(P17="G",3,1)) | R17: =IF(OR(D17="",M17=""),"", IF(OR(AND(M17>D17,N17>E17),AND(M17>D17,O17>F17),AND(N17>E17,O17>F17)),2, IF(OR(M17>D17,N17>E17,O17>F17),1,0))) | S17: =IF(AND(ISNUMBER(M17), ISNUMBER(D17)),(M17 + N17 + O17) / (D17 + E17 + F17),"")
B19: A remplir si 8 ou 11 joueurs dans la salle :
B20: Poule 3
B22: NOM | C22: Prénom | D22: Club | H22: Points Match | J22: Points Set | K22: Moyenne Générale
H23: =IF(H30="","", IF(AND(B23=B29,C23=C29,B23=B30,C23=C30),H29+H30, IF(AND(B23=B28,C23=C28,B23=K29,C23=L29),H28+Q29, IF(AND(B23=B28,C23=C28,B23=K30,C23=L30),H28+Q30, IF(AND(B23=K28,C23=L28,B23=K29,C23=L29),Q28+Q29, IF(AND(B23=K28,C23=L28,B23=K30,C23=L30),Q28+Q30)))))) | J23: =IF(I30="","", IF(AND(B23=B29,C23=C29,B23=B30,C23=C30),I29+I30, IF(AND(B23=B28,C23=C28,B23=K29,C23=L29),I28+R29, IF(AND(B23=B28,C23=C28,B23=K30,C23=L30),I28+R30, IF(AND(B23=K28,C23=L28,B23=K29,C23=L29),R28+R29, IF(AND(B23=K28,C23=L28,B23=K30,C23=L30),R28+R30)))))) | K23: =IF(I30="","", IF(AND(B23=B29,C23=C29,B23=B30,C23=C30), (D29+E29+F29+D30+E30+F30)/(M29+N29+O29+M30+N30+O30), IF(AND(B23=B28,C23=C28,B23=K29,C23=L29), (D28+E28+F28+M29+N29+O29)/(M28+N28+O28+D29+E29+F29), IF(AND(B23=B28,C23=C28,B23=K30,C23=L30), (D28+E28+F28+M30+N30+O30)/(M28+N28+O28+D30+E30+F30), IF(AND(B23=K28,C23=L28,B23=K29,C23=L29), (M28+N28+O28+M29+N29+O29)/(D28+E28+F28+D29+E29+F29), IF(AND(B23=K28,C23=L28,B23=K30,C23=L30), (M28+N28+O28+M30+N30+O30)/(D28+E28+F28+D30+E30+F30)))))))
H24: =IF(H30="","", IF(AND(B24=B29,C24=C29,B24=B30,C24=C30),H29+H30, IF(AND(B24=B28,C24=C28,B24=K29,C24=L29),H28+Q29, IF(AND(B24=B28,C24=C28,B24=K30,C24=L30),H28+Q30, IF(AND(B24=K28,C24=L28,B24=K29,C24=L29),Q28+Q29, IF(AND(B24=K28,C24=L28,B24=K30,C24=L30),Q28+Q30)))))) | J24: =IF(I30="","", IF(AND(B24=B29,C24=C29,B24=B30,C24=C30),I29+I30, IF(AND(B24=B28,C24=C28,B24=K29,C24=L29),I28+R29, IF(AND(B24=B28,C24=C28,B24=K30,C24=L30),I28+R30, IF(AND(B24=K28,C24=L28,B24=K29,C24=L29),R28+R29, IF(AND(B24=K28,C24=L28,B24=K30,C24=L30),R28+R30)))))) | K24: =IF(I30="","", IF(AND(B24=B29,C24=C29,B24=B30,C24=C30), (D29+E29+F29+D30+E30+F30)/(M29+N29+O29+M30+N30+O30), IF(AND(B24=B28,C24=C28,B24=K29,C24=L29), (D28+E28+F28+M29+N29+O29)/(M28+N28+O28+D29+E29+F29), IF(AND(B24=B28,C24=C28,B24=K30,C24=L30), (D28+E28+F28+M30+N30+O30)/(M28+N28+O28+D30+E30+F30), IF(AND(B24=K28,C24=L28,B24=K29,C24=L29), (M28+N28+O28+M29+N29+O29)/(D28+E28+F28+D29+E29+F29), IF(AND(B24=K28,C24=L28,B24=K30,C24=L30), (M28+N28+O28+M30+N30+O30)/(D28+E28+F28+D30+E30+F30)))))))
H25: =IF(H30="","", IF(AND(B25=B29,C25=C29,B25=B30,C25=C30),H29+H30, IF(AND(B25=B28,C25=C28,B25=K29,C25=L29),H28+Q29, IF(AND(B25=B28,C25=C28,B25=K30,C25=L30),H28+Q30, IF(AND(B25=K28,C25=L28,B25=K29,C25=L29),Q28+Q29, IF(AND(B24=K28,C25=L28,B25=K30,C25=L30),Q28+Q30)))))) | J25: =IF(I30="","", IF(AND(B25=B29,C25=C29,B25=B30,C25=C30),I29+I30, IF(AND(B25=B28,C25=C28,B25=K29,C25=L29),I28+R29, IF(AND(B25=B28,C25=C28,B25=K30,C25=L30),I28+R30, IF(AND(B25=K28,C25=L28,B25=K29,C25=L29),R28+R29, IF(AND(B25=K28,C25=L28,B25=K30,C25=L30),R28+R30)))))) | K25: =IF(I30="","", IF(AND(B25=B29,C25=C29,B25=B30,C25=C30), (D29+E29+F29+D30+E30+F30)/(M29+N29+O29+M30+N30+O30), IF(AND(B25=B28,C25=C28,B25=K29,C25=L29), (D28+E28+F28+M29+N29+O29)/(M28+N28+O28+D29+E29+F29), IF(AND(B25=B28,C25=C28,B25=K30,C25=L30), (D28+E28+F28+M30+N30+O30)/(M28+N28+O28+D30+E30+F30), IF(AND(B25=K28,C25=L28,B25=K29,C25=L29), (M28+N28+O28+M29+N29+O29)/(D28+E28+F28+D29+E29+F29), IF(AND(B25=K28,C25=L28,B25=K30,C25=L30), (M28+N28+O28+M30+N30+O30)/(D28+E28+F28+D30+E30+F30)))))))
B27: Joueur A | D27: Set 1 | E27: Set 2 | F27: Set 3 | G27: Match G/P | H27: Points Match | I27: Points Set | J27: Moy. | K27: Joueur B | M27: Set 1 | N27: Set 2 | O27: Set 3 | P27: Match G/P | Q27: Points Match | R27: Points Set | S27: Moy
B28: =IF(OR(B23="",B24="",B25="",D23="",D24="",D25=""),"", IF(OR(AND(D23=D25,D23<>D24),AND(D23=D24,D23<>D25)),B23,B24)) | C28: =IF(OR(B23="",B24="",B25="",D23="",D24="",D25=""),"", IF(OR(AND(D23=D25,D23<>D24),AND(D23=D24,D23<>D25)),C23,C24)) | G28: =IF(OR(I28="",R28=""),"",IF(I28>R28,"G","P")) | H28: =IF(G28="","",IF(G28="G",3,1)) | I28: =IF(OR(D28="",M28=""),"", IF(AND(D28>M28,E28>N28),3, IF(OR(AND(D28>M28,F28>O28),AND(E28>N28,F28>O28)),2, IF(OR(D28>M28,E28>N28,F28>O28),1,0)))) | J28: =IF(AND(ISNUMBER(D28), ISNUMBER(M28)),(D28 + E28 + F28) / (M28 + N28 + O28),"") | K28: =IF(OR(B23="",B24="",B25="",D23="",D24="",D25=""),"", IF(AND(D23=D24,D23<>D25),B24,B25)) | L28: =IF(OR(B23="",B24="",B25="",D23="",D24="",D25=""),"", IF(AND(D23=D24,D23<>D25),C24,C25)) | P28: =IF(OR(I28="",R28=""),"",IF(R28>I28,"G","P")) | Q28: =IF(P28="","",IF(P28="G",3,1)) | R28: =IF(OR(D28="",M28=""),"", IF(AND(M28>D28,N28>E28),3, IF(OR(AND(M28>D28,O28>F28),AND(N28>E28,O28>F28)),2, IF(OR(M28>D28,N28>E28,O28>F28),1,0)))) | S28: =IF(AND(ISNUMBER(M28), ISNUMBER(D28)),(M28 + N28 + O28) / (D28 + E28 + F28),"")
B29: =IF(OR(B28="",C28="",K28="",L28=""),"", IF(AND(B28=B23,C28=C23,K28=B25,L28=C25),B24, IF(AND(B28=B23,C28=C23,K28=B24,L28=C24),B25,B23))) | C29: =IF(OR(B28="",C28="",K28="",L28=""),"", IF(AND(B28=B23,C28=C23,K28=B25,L28=C25),C24, IF(AND(B28=B23,C28=C23,K28=B24,L28=C24),C25,C23))) | G29: =IF(OR(I29="",R29=""),"",IF(I29>R29,"G","P")) | H29: =IF(G29="","",IF(G29="G",3,1)) | I29: =IF(OR(D29="",M29=""),"", IF(AND(D29>M29,E29>N29),3, IF(OR(AND(D29>M29,F29>O29),AND(E29>N29,F29>O29)),2, IF(OR(D29>M29,E29>N29,F29>O29),1,0)))) | J29: =IF(AND(ISNUMBER(D29), ISNUMBER(M29)),(D29 + E29 + F29) / (M29 + N29 + O29),"") | K29: =IF(P28="","",IF(P28="G",B28,K28)) | L29: =IF(P28="","",IF(P28="G",C28,L28)) | P29: =IF(OR(I29="",R29=""),"",IF(R29>I29,"G","P")) | Q29: =IF(P29="","",IF(P29="G",3,1)) | R29: =IF(OR(D29="",M29=""),"", IF(AND(M29>D29,N29>E29),3, IF(OR(AND(M29>D29,O29>F29),AND(N29>E29,O29>F29)),2, IF(OR(M29>D29,N29>E29,O29>F29),1,0)))) | S29: =IF(AND(ISNUMBER(M29), ISNUMBER(D29)),(M29 + N29 + O29) / (D29 + E29 + F29),"")
B30: =IF(OR(B28="",C28="",K28="",L28=""),"", IF(AND(B28=B23,C28=C23,K28=B25,L28=C25),B24, IF(AND(B28=B23,C28=C23,K28=B24,L28=C24),B25,B23))) | C30: =IF(OR(B28="",C28="",K28="",L28=""),"", IF(AND(B28=B23,C28=C23,K28=B25,L28=C25),C24, IF(AND(B28=B23,C28=C23,K28=B24,L28=C24),C25,C23))) | G30: =IF(OR(I30="",R30=""),"",IF(I30>R30,"G","P")) | H30: =IF(G30="","",IF(G30="G",3,1)) | I30: =IF(OR(D30="",M30=""),"", IF(AND(D30>M30,E30>N30),3, IF(OR(AND(D30>M30,F30>O30),AND(E30>N30,F30>O30)),2, IF(OR(D30>M30,E30>N30,F30>O30),1,0)))) | J30: =IF(AND(ISNUMBER(D30), ISNUMBER(M30)),(D30 + E30 + F30) / (M30 + N30 + O30),"") | K30: =IF(P28="","",IF(P28="G",K28,B28)) | L30: =IF(P28="","",IF(P28="G",L28,C28)) | P30: =IF(OR(I30="",R30=""),"",IF(R30>I30,"G","P")) | Q30: =IF(P30="","",IF(P30="G",3,1)) | R30: =IF(OR(D30="",M30=""),"", IF(AND(M30>D30,N30>E30),3, IF(OR(AND(M30>D30,O30>F30),AND(N30>E30,O30>F30)),2, IF(OR(M30>D30,N30>E30,O30>F30),1,0)))) | S30: =IF(AND(ISNUMBER(M30), ISNUMBER(D30)),(M30 + N30 + O30) / (D30 + E30 + F30),"")
B32: A remplir si 11 joueurs dans la salle :
B33: Poule 4
B35: NOM | C35: Prénom | D35: Club | H35: Points Match | J35: Points Set | K35: Moyenne Générale
H36: =IF(H43="","", IF(AND(B36=B42,C36=C42,B36=B43,C36=C43),H42+H43, IF(AND(B36=B41,C36=C41,B36=K42,C36=L42),H41+Q42, IF(AND(B36=B41,C36=C41,B36=K43,C36=L43),H41+Q43, IF(AND(B36=K41,C36=L41,B36=K42,C36=L42),Q41+Q42, IF(AND(B36=K41,C36=L41,B36=K43,C36=L43),Q41+Q43)))))) | J36: =IF(I43="","", IF(AND(B36=B42,C36=C42,B36=B43,C36=C43),I42+I43, IF(AND(B36=B41,C36=C41,B36=K42,C36=L42),I41+R42, IF(AND(B36=B41,C36=C41,B36=K43,C36=L43),I41+R43, IF(AND(B36=K41,C36=L41,B36=K42,C36=L42),R41+R42, IF(AND(B36=K41,C36=L41,B36=K43,C36=L43),R41+R43)))))) | K36: =IF(I43="","", IF(AND(B36=B42,C36=C42,B36=B43,C36=C43), (D42+E42+F42+D43+E43+F43)/(M42+N42+O42+M43+N43+O43), IF(AND(B36=B41,C36=C41,B36=K42,C36=L42), (D41+E41+F41+M42+N42+O42)/(M41+N41+O41+D42+E42+F42), IF(AND(B36=B41,C36=C41,B36=K43,C36=L43), (D41+E41+F41+M43+N43+O43)/(M41+N41+O41+D43+E43+F43), IF(AND(B36=K41,C36=L41,B36=K42,C36=L42), (M41+N41+O41+M42+N42+O42)/(D41+E41+F41+D42+E42+F42), IF(AND(B36=K41,C36=L41,B36=K43,C36=L43), (M41+N41+O41+M43+N43+O43)/(D41+E41+F41+D43+E43+F43)))))))
H37: =IF(H43="","", IF(AND(B37=B42,C37=C42,B37=B43,C37=C43),H42+H43, IF(AND(B37=B41,C37=C41,B37=K42,C37=L42),H41+Q42, IF(AND(B37=B41,C37=C41,B37=K43,C37=L43),H41+Q43, IF(AND(B37=K41,C37=L41,B37=K42,C37=L42),Q41+Q42, IF(AND(B37=K41,C37=L41,B37=K43,C37=L43),Q41+Q43)))))) | J37: =IF(I43="","", IF(AND(B37=B42,C37=C42,B37=B43,C37=C43),I42+I43, IF(AND(B37=B41,C37=C41,B37=K42,C37=L42),I41+R42, IF(AND(B37=B41,C37=C41,B37=K43,C37=L43),I41+R43, IF(AND(B37=K41,C37=L41,B37=K42,C37=L42),R41+R42, IF(AND(B37=K41,C37=L41,B37=K43,C37=L43),R41+R43)))))) | K37: =IF(I43="","", IF(AND(B37=B42,C37=C42,B37=B43,C37=C43), (D42+E42+F42+D43+E43+F43)/(M42+N42+O42+M43+N43+O43), IF(AND(B37=B41,C37=C41,B37=K42,C37=L42), (D41+E41+F41+M42+N42+O42)/(M41+N41+O41+D42+E42+F42), IF(AND(B37=B41,C37=C41,B37=K43,C37=L43), (D41+E41+F41+M43+N43+O43)/(M41+N41+O41+D43+E43+F43), IF(AND(B37=K41,C37=L41,B37=K42,C37=L42), (M41+N41+O41+M42+N42+O42)/(D41+E41+F41+D42+E42+F42), IF(AND(B37=K41,C37=L41,B37=K43,C37=L43), (M41+N41+O41+M43+N43+O43)/(D41+E41+F41+D43+E43+F43)))))))
