Workbook

Sheet TOUR 1 NAT
B1: Responsable de la compétition
B2: =IF(B7="","",VLOOKUP(B7,Menus!B2:E37,4,FALSE())) -> Eddy DUHAMEL | I2: CONVOCATION GÉNÉRALE
B3: @ | C3: =IF(B2="","",VLOOKUP(B2,Menus!L2:N8,2,FALSE())) -> 5quilles80@orange.fr | I3: DIMANCHE 11 OCTOBRE 2026 à 08 h 30
B4: ( | C4: =IF(B2="","",VLOOKUP(B2,Menus!L2:N9,3,FALSE())) -> 06.33.21.97.28 | I4: Début des matchs : | S4: 09 h 00
B6: Mode de jeu / Catégorie | P6: Phase | U6: =IF( ISNUMBER(SEARCH( "5 QUILLES", B7) ), "Nombre de Sets", "Distance" ) -> Nombre de Sets | AA6: =IF( ISNUMBER(SEARCH( "5 QUILLES", B7) ), "Distance", "Limitation de Reprises" ) -> Distance
B7: 5 QUILLES National | P7: 1er Tour | U7: =IF($B$7="","",VLOOKUP($B$7,Menus!$B$2:$D$37,2,FALSE())) -> 2 sets gagnants | AA7: =IF($B$7="","",IF(VLOOKUP($B$7,Menus!$B$2:$D$37,3,FALSE())="","",VLOOKUP($B$7,Menus!$B$2:$D$37,3,FALSE()))) -> 60 Points
B9: Les compétiteurs cités ci-dessous sont convoqués aux lieux, dates et heures indiqués sur la présente convocation.
C10: Les résultats devront être saisis sur le site de la FFB : | N10: https://www.telemat.org/FFBI/sif/ | S10: et envoyés à mon adresse @ : | X10: =IF(B2="","",VLOOKUP(B2,Menus!L2:N9,2,FALSE())) -> 5quilles80@orange.fr
B12: Lieu : | F12: ABBEVILLE | P12: =IF(F12="","",VLOOKUP(F12,Menus!$G$2:$I$11,2,FALSE())) -> 133 avenue du rivage - 80100 | W12: =IF(F12="","",VLOOKUP(F12,Menus!$G$2:$I$11,3,FALSE())) -> 03 22 31 74 00 - scbillard.abbeville@wanadoo.fr
B14: P 1 | C14: Joueurs | H14: Club | L14: P 2 | M14: Joueurs | R14: Club | V14: P 3 | W14: Joueurs | AB14: Club
B15: 1 | C15: DIMPRE MICKAEL | H15: ALBERT | L15: 1 | M15: SOYEZ REYNALD | R15: ABBEVILLE | V15: 1
B16: 2 | C16: DUHAMEL EDDY | H16: ABBEVILLE | L16: 2 | M16: MARECHAL DOMINGO | R16: ALBERT | V16: 2
B17: 3 | C17: GODARD ALAIN | H17: MOREUIL | L17: 3 | M17: DRUEZ EMILIE | R17: ALBERT | V17: 3
M18: * Dans cette poule, les joueurs du même club
M19: disputent le 1er match.
B21: P 4 | C21: Joueurs | H21: Club | L21: P 5 | M21: Joueurs | R21: Club | V21: P 6 | W21: Joueurs | AB21: Club
B22: 1 | L22: 1 | V22: 1
B23: 2 | C23: DRUEZ EMILIE | L23: 2 | V23: 2
B24: 3 | V24: 3
M25: * Dans cette poule, les joueurs du même club | W25: * Dans cette poule, les joueurs du même club
M26: disputent le 1er match. | W26: disputent le 1er match.
B28: Lieu : | F28: MOREUIL | P28: =IF(F28="","",VLOOKUP(F28,Menus!$G$2:$I$11,2,FALSE())) -> 23 ter rue Léon Blum - 80110 | W28: =IF(F28="","",VLOOKUP(F28,Menus!$G$2:$I$11,3,FALSE())) -> 03 60 24 69 08 - bcmoreuil@sfr.fr
B30: P 3 | C30: Joueurs | H30: Club | L30: P 4 | M30: Joueurs | R30: Club | V30: P 3 | W30: Joueurs | AB30: Club
B31: 1 | C31: DUMEIGE STEPHANE | H31: MOREUIL | L31: 1 | M31: DELATTRE HERVE | R31: MOREUIL | V31: 1
B32: 2 | C32: CUVILLIER FRANCOIS | H32: PONT de METZ | L32: 2 | M32: WARIN YANNICK | R32: MOREUIL | V32: 2
V33: 3
W34: * Dans cette poule, les joueurs du même club
W35: disputent le 1er match.
B37: Lieu : | P37: =IF(F37="","",VLOOKUP(F37,Menus!$G$2:$I$11,2,FALSE())) | W37: =IF(F37="","",VLOOKUP(F37,Menus!$G$2:$I$11,3,FALSE()))
B39: P 1 | C39: Joueurs | H39: Club | L39: P 2 | M39: Joueurs | R39: Club | V39: P 3 | W39: Joueurs | AB39: Club
B40: 1 | L40: 1 | V40: 1
B41: 2 | L41: 2 | V41: 2
B42: 3 | V42: 3
W43: * Dans cette poule, les joueurs du même club
W44: disputent le 1er match.

Sheet TOUR 1 REG
B1: Responsable de la compétition
B2: =IF(B7="","",VLOOKUP(B7,Menus!B2:E37,4,FALSE())) -> Eddy DUHAMEL | I2: CONVOCATION GÉNÉRALE
B3: @ | C3: =IF(B2="","",VLOOKUP(B2,Menus!L2:N8,2,FALSE())) -> 5quilles80@orange.fr | I3: DIMANCHE 11 OCTOBRE 2026 à 08 h 30
B4: ( | C4: =IF(B2="","",VLOOKUP(B2,Menus!L2:N9,3,FALSE())) -> 06.33.21.97.28 | I4: Début des matchs : | S4: 09 h 00
B6: Mode de jeu / Catégorie | P6: Phase | U6: =IF( ISNUMBER(SEARCH( "5 QUILLES", B7) ), "Nombre de Sets", "Distance" ) -> Nombre de Sets | AA6: =IF( ISNUMBER(SEARCH( "5 QUILLES", B7) ), "Distance", "Limitation de Reprises" ) -> Distance
B7: 5 QUILLES Régional | P7: 1er Tour | U7: =IF($B$7="","",VLOOKUP($B$7,Menus!$B$2:$D$37,2,FALSE())) -> 1 Set | AA7: =IF($B$7="","",IF(VLOOKUP($B$7,Menus!$B$2:$D$37,3,FALSE())="","",VLOOKUP($B$7,Menus!$B$2:$D$37,3,FALSE()))) -> 100 Points
B9: Les compétiteurs cités ci-dessous sont convoqués aux lieux, dates et heures indiqués sur la présente convocation.
C10: Les résultats devront être saisis sur le site de la FFB : | N10: https://www.telemat.org/FFBI/sif/ | S10: et envoyés à mon adresse @ : | X10: =IF(B2="","",VLOOKUP(B2,Menus!L2:N9,2,FALSE())) -> 5quilles80@orange.fr
B12: Lieu : | F12: ABBEVILLE | P12: =IF(F12="","",VLOOKUP(F12,Menus!$G$2:$I$11,2,FALSE())) -> 133 avenue du rivage - 80100 | W12: =IF(F12="","",VLOOKUP(F12,Menus!$G$2:$I$11,3,FALSE())) -> 03 22 31 74 00 - scbillard.abbeville@wanadoo.fr
B14: P 1 | C14: Joueurs | H14: Club | L14: P 2 | M14: Joueurs | R14: Club | V14: P 3 | W14: Joueurs | AB14: Club
B15: 1 | C15: DELAFOSSE GILLES | H15: PONT de METZ | L15: 1 | M15: KUZMA REGIS | R15: ABBEVILLE | V15: 1 | W15: SOLOME FRANCK | AB15: MOREUIL
B16: 2 | C16: LUC LESAUSSE | H16: MOREUIL | L16: 2 | M16: VIGNERON PHILIPPE | R16: PONT de METZ | V16: 2 | W16: BETTEFORT MICKAEL | AB16: FRIVILLE
B17: 3 | C17: CORNOTE ROBERT | H17: PONT de METZ | L17: 3 | M17: UNTURK SANDRINE | R17: ABBEVILLE | V17: 3 | W17: DIEU JEAN-BAPTISTE | AB17: ALBERT
C18: * Dans cette poule, les joueurs du même club | M18: * Dans cette poule, les joueurs du même club
C19: disputent le 1er match. | M19: disputent le 1er match.
B21: P 4 | C21: Joueurs | H21: Club | L21: P 5 | M21: Joueurs | R21: Club | V21: P 6 | W21: Joueurs | AB21: Club
B22: 1 | L22: 1 | V22: 1
B23: 2 | L23: 2 | V23: 2
B24: 3 | V24: 3
W25: * Dans cette poule, les joueurs du même club
W26: disputent le 1er match.
B28: Lieu : | P28: =IF(F28="","",VLOOKUP(F28,Menus!$G$2:$I$11,2,FALSE())) | W28: =IF(F28="","",VLOOKUP(F28,Menus!$G$2:$I$11,3,FALSE()))
B30: P 1 | C30: Joueurs | H30: Club | L30: P 2 | M30: Joueurs | R30: Club | V30: P 3 | W30: Joueurs | AB30: Club
B31: 1 | L31: 1 | V31: 1
B32: 2 | L32: 2 | V32: 2
B33: 3 | V33: 3
W34: * Dans cette poule, les joueurs du même club
W35: disputent le 1er match.
B37: Lieu : | P37: =IF(F37="","",VLOOKUP(F37,Menus!$G$2:$I$11,2,FALSE())) | W37: =IF(F37="","",VLOOKUP(F37,Menus!$G$2:$I$11,3,FALSE()))
B39: P 1 | C39: Joueurs | H39: Club | L39: P 2 | M39: Joueurs | R39: Club | V39: P 3 | W39: Joueurs | AB39: Club
B40: 1 | L40: 1 | V40: 1
B41: 2 | L41: 2 | V41: 2
B42: 3 | V42: 3
W43: * Dans cette poule, les joueurs du même club
W44: disputent le 1er match.

Sheet Mode-Cat. 3
B1: Responsable de la compétition
B2: =IF(B7="","",VLOOKUP(B7,Menus!B2:E37,4,FALSE())) | I2: CONVOCATION GÉNÉRALE
B3: @ | C3: =IF(B2="","",VLOOKUP(B2,Menus!L2:N8,2,FALSE())) | I3: SAMEDI 10 OCTOBRE 2026 à 13 h 30
B4: ( | C4: =IF(B2="","",VLOOKUP(B2,Menus!L2:N9,3,FALSE())) | I4: Début des matchs : | S4: 14 h 00
B6: Mode de jeu / Catégorie | P6: Phase | U6: =IF( ISNUMBER(SEARCH( "5 QUILLES", B7) ), "Nombre de Sets", "Distance" ) -> Distance | AA6: =IF( ISNUMBER(SEARCH( "5 QUILLES", B7) ), "Distance", "Limitation de Reprises" ) -> Limitation de Reprises
U7: =IF($B$7="","",VLOOKUP($B$7,Menus!$B$2:$D$37,2,FALSE())) | AA7: =IF($B$7="","",IF(VLOOKUP($B$7,Menus!$B$2:$D$37,3,FALSE())="","",VLOOKUP($B$7,Menus!$B$2:$D$37,3,FALSE())))
B9: Les compétiteurs cités ci-dessous sont convoqués aux lieux, dates et heures indiqués sur la présente convocation.
C10: Les résultats devront être saisis sur le site de la FFB : | N10: https://www.telemat.org/FFBI/sif/ | S10: et envoyés à mon adresse @ : | X10: =IF(B2="","",VLOOKUP(B2,Menus!L2:N9,2,FALSE()))
B12: Lieu : | P12: =IF(F12="","",VLOOKUP(F12,Menus!$G$2:$I$11,2,FALSE())) | W12: =IF(F12="","",VLOOKUP(F12,Menus!$G$2:$I$11,3,FALSE()))
B14: P 1 | C14: Joueurs | H14: Club | L14: P 2 | M14: Joueurs | R14: Club | V14: P 3 | W14: Joueurs | AB14: Club
B15: 1 | L15: 1 | V15: 1
B16: 2 | L16: 2 | V16: 2
B17: 3 | L17: 3 | V17: 3
C18: * Dans cette poule, les joueurs du même club | M18: * Dans cette poule, les joueurs du même club | W18: * Dans cette poule, les joueurs du même club
C19: disputent le 1er match. | M19: disputent le 1er match. | W19: disputent le 1er match.
B21: P 4 | C21: Joueurs | H21: Club | L21: P 5 | M21: Joueurs | R21: Club | V21: P 6 | W21: Joueurs | AB21: Club
B22: 1 | L22: 1 | V22: 1
B23: 2 | L23: 2 | V23: 2
B24: 3 | V24: 3
W25: * Dans cette poule, les joueurs du même club
W26: disputent le 1er match.
B28: Lieu : | P28: =IF(F28="","",VLOOKUP(F28,Menus!$G$2:$I$11,2,FALSE())) | W28: =IF(F28="","",VLOOKUP(F28,Menus!$G$2:$I$11,3,FALSE()))
B30: P 1 | C30: Joueurs | H30: Club | L30: P 2 | M30: Joueurs | R30: Club | V30: P 3 | W30: Joueurs | AB30: Club
B31: 1 | L31: 1 | V31: 1
B32: 2 | L32: 2 | V32: 2
B33: 3 | V33: 3
W34: * Dans cette poule, les joueurs du même club
W35: disputent le 1er match.
B37: Lieu : | P37: =IF(F37="","",VLOOKUP(F37,Menus!$G$2:$I$11,2,FALSE())) | W37: =IF(F37="","",VLOOKUP(F37,Menus!$G$2:$I$11,3,FALSE()))
B39: P 1 | C39: Joueurs | H39: Club | L39: P 2 | M39: Joueurs | R39: Club | V39: P 3 | W39: Joueurs | AB39: Club
B40: 1 | L40: 1 | V40: 1
B41: 2 | L41: 2 | V41: 2
B42: 3 | V42: 3
W43: * Dans cette poule, les joueurs du même club
W44: disputent le 1er match.

Sheet Mode-Cat. 4
B1: Responsable de la compétition
B2: =IF(B7="","",VLOOKUP(B7,Menus!B2:E37,4,FALSE())) | I2: CONVOCATION GÉNÉRALE
B3: @ | C3: =IF(B2="","",VLOOKUP(B2,Menus!L2:N8,2,FALSE())) | I3: SAMEDI 10 OCTOBRE 2026 à 13 h 30
B4: ( | C4: =IF(B2="","",VLOOKUP(B2,Menus!L2:N9,3,FALSE())) | I4: Début des matchs : | S4: 14 h 00
B6: Mode de jeu / Catégorie | P6: Phase | U6: =IF( ISNUMBER(SEARCH( "5 QUILLES", B7) ), "Nombre de Sets", "Distance" ) -> Distance | AA6: =IF( ISNUMBER(SEARCH( "5 QUILLES", B7) ), "Distance", "Limitation de Reprises" ) -> Limitation de Reprises
U7: =IF($B$7="","",VLOOKUP($B$7,Menus!$B$2:$D$37,2,FALSE())) | AA7: =IF($B$7="","",IF(VLOOKUP($B$7,Menus!$B$2:$D$37,3,FALSE())="","",VLOOKUP($B$7,Menus!$B$2:$D$37,3,FALSE())))
B9: Les compétiteurs cités ci-dessous sont convoqués aux lieux, dates et heures indiqués sur la présente convocation.
C10: Les résultats devront être saisis sur le site de la FFB : | N10: https://www.telemat.org/FFBI/sif/ | S10: et envoyés à mon adresse @ : | X10: =IF(B2="","",VLOOKUP(B2,Menus!L2:N9,2,FALSE()))
B12: Lieu : | P12: =IF(F12="","",VLOOKUP(F12,Menus!$G$2:$I$11,2,FALSE())) | W12: =IF(F12="","",VLOOKUP(F12,Menus!$G$2:$I$11,3,FALSE()))
B14: P 1 | C14: Joueurs | H14: Club | L14: P 2 | M14: Joueurs | R14: Club | V14: P 3 | W14: Joueurs | AB14: Club
B15: 1 | L15: 1 | V15: 1
B16: 2 | L16: 2 | V16: 2
B17: 3 | L17: 3 | V17: 3
C18: * Dans cette poule, les joueurs du même club | M18: * Dans cette poule, les joueurs du même club | W18: * Dans cette poule, les joueurs du même club
C19: disputent le 1er match. | M19: disputent le 1er match. | W19: disputent le 1er match.
B21: P 4 | C21: Joueurs | H21: Club | L21: P 5 | M21: Joueurs | R21: Club | V21: P 6 | W21: Joueurs | AB21: Club
B22: 1 | L22: 1 | V22: 1
B23: 2 | L23: 2 | V23: 2
B24: 3 | V24: 3
W25: * Dans cette poule, les joueurs du même club
W26: disputent le 1er match.
B28: Lieu : | P28: =IF(F28="","",VLOOKUP(F28,Menus!$G$2:$I$11,2,FALSE())) | W28: =IF(F28="","",VLOOKUP(F28,Menus!$G$2:$I$11,3,FALSE()))
B30: P 1 | C30: Joueurs | H30: Club | L30: P 2 | M30: Joueurs | R30: Club | V30: P 3 | W30: Joueurs | AB30: Club
B31: 1 | L31: 1 | V31: 1
B32: 2 | L32: 2 | V32: 2
B33: 3 | V33: 3
W34: * Dans cette poule, les joueurs du même club
W35: disputent le 1er match.
B37: Lieu : | P37: =IF(F37="","",VLOOKUP(F37,Menus!$G$2:$I$11,2,FALSE())) | W37: =IF(F37="","",VLOOKUP(F37,Menus!$G$2:$I$11,3,FALSE()))
B39: P 1 | C39: Joueurs | H39: Club | L39: P 2 | M39: Joueurs | R39: Club | V39: P 3 | W39: Joueurs | AB39: Club
B40: 1 | L40: 1 | V40: 1
B41: 2 | L41: 2 | V41: 2
B42: 3 | V42: 3
W43: * Dans cette poule, les joueurs du même club
W44: disputent le 1er match.

Sheet Mode-Cat. 5
B1: Responsable de la compétition
B2: =IF(B7="","",VLOOKUP(B7,Menus!B2:E37,4,FALSE())) | I2: CONVOCATION GÉNÉRALE
B3: @ | C3: =IF(B2="","",VLOOKUP(B2,Menus!L2:N8,2,FALSE())) | I3: SAMEDI 10 OCTOBRE 2026 à 13 h 30
B4: ( | C4: =IF(B2="","",VLOOKUP(B2,Menus!L2:N9,3,FALSE())) | I4: Début des matchs : | S4: 14 h 00
B6: Mode de jeu / Catégorie | P6: Phase | U6: =IF( ISNUMBER(SEARCH( "5 QUILLES", B7) ), "Nombre de Sets", "Distance" ) -> Distance | AA6: =IF( ISNUMBER(SEARCH( "5 QUILLES", B7) ), "Distance", "Limitation de Reprises" ) -> Limitation de Reprises
U7: =IF($B$7="","",VLOOKUP($B$7,Menus!$B$2:$D$37,2,FALSE())) | AA7: =IF($B$7="","",IF(VLOOKUP($B$7,Menus!$B$2:$D$37,3,FALSE())="","",VLOOKUP($B$7,Menus!$B$2:$D$37,3,FALSE())))
B9: Les compétiteurs cités ci-dessous sont convoqués aux lieux, dates et heures indiqués sur la présente convocation.
C10: Les résultats devront être saisis sur le site de la FFB : | N10: https://www.telemat.org/FFBI/sif/ | S10: et envoyés à mon adresse @ : | X10: =IF(B2="","",VLOOKUP(B2,Menus!L2:N9,2,FALSE()))
B12: Lieu : | P12: =IF(F12="","",VLOOKUP(F12,Menus!$G$2:$I$11,2,FALSE())) | W12: =IF(F12="","",VLOOKUP(F12,Menus!$G$2:$I$11,3,FALSE()))
B14: P 1 | C14: Joueurs | H14: Club | L14: P 2 | M14: Joueurs | R14: Club | V14: P 3 | W14: Joueurs | AB14: Club
B15: 1 | L15: 1 | V15: 1
B16: 2 | L16: 2 | V16: 2
B17: 3 | L17: 3 | V17: 3
C18: * Dans cette poule, les joueurs du même club | M18: * Dans cette poule, les joueurs du même club | W18: * Dans cette poule, les joueurs du même club
C19: disputent le 1er match. | M19: disputent le 1er match. | W19: disputent le 1er match.
B21: P 4 | C21: Joueurs | H21: Club | L21: P 5 | M21: Joueurs | R21: Club | V21: P 6 | W21: Joueurs | AB21: Club
B22: 1 | L22: 1 | V22: 1
B23: 2 | L23: 2 | V23: 2
B24: 3 | V24: 3
W25: * Dans cette poule, les joueurs du même club
W26: disputent le 1er match.
B28: Lieu : | P28: =IF(F28="","",VLOOKUP(F28,Menus!$G$2:$I$11,2,FALSE())) | W28: =IF(F28="","",VLOOKUP(F28,Menus!$G$2:$I$11,3,FALSE()))
B30: P 1 | C30: Joueurs | H30: Club | L30: P 2 | M30: Joueurs | R30: Club | V30: P 3 | W30: Joueurs | AB30: Club
B31: 1 | L31: 1 | V31: 1
B32: 2 | L32: 2 | V32: 2
B33: 3 | V33: 3
W34: * Dans cette poule, les joueurs du même club
W35: disputent le 1er match.
B37: Lieu : | P37: =IF(F37="","",VLOOKUP(F37,Menus!$G$2:$I$11,2,FALSE())) | W37: =IF(F37="","",VLOOKUP(F37,Menus!$G$2:$I$11,3,FALSE()))
B39: P 1 | C39: Joueurs | H39: Club | L39: P 2 | M39: Joueurs | R39: Club | V39: P 3 | W39: Joueurs | AB39: Club
B40: 1 | L40: 1 | V40: 1
B41: 2 | L41: 2 | V41: 2
B42: 3 | V42: 3
W43: * Dans cette poule, les joueurs du même club
W44: disputent le 1er match.

Sheet Finale
B1: Responsable de la compétition
B2: =IF(B7="","",VLOOKUP(B7,Menus!B2:E37,4,FALSE())) | I2: CONVOCATION GÉNÉRALE
B3: @ | C3: =IF(B2="","",VLOOKUP(B2,Menus!L2:N9,2,FALSE())) | I3: SAMEDI 10 OCTOBRE 2026 à 13 h 30
B4: ( | C4: =IF(B2="","",VLOOKUP(B2,Menus!L2:N9,3,FALSE())) | I4: Début des matchs : | S4: 14 h 00
B6: Mode de jeu / Catégorie | P6: Phase | U6: =IF( ISNUMBER(SEARCH( "5 QUILLES", B7) ), "Nombre de Sets", "Distance" ) -> Distance | AA6: =IF( ISNUMBER(SEARCH( "5 QUILLES", B7) ), "Distance", "Limitation de Reprises" ) -> Limitation de Reprises
P7: Finale | U7: =IF($B$7="","",VLOOKUP($B$7,Menus!$B$2:$D$37,2,FALSE())) | AA7: =IF($B$7="","",IF(VLOOKUP($B$7,Menus!$B$2:$D$37,3,FALSE())="","",VLOOKUP($B$7,Menus!$B$2:$D$37,3,FALSE())))
B9: Les compétiteurs cités ci-dessous sont convoqués aux lieux, dates et heures indiqués sur la présente convocation.
C10: Les résultats devront être saisis sur le site de la FFB : | N10: https://www.telemat.org/FFBI/sif/ | S10: et envoyés à mon adresse @ : | X10: =IF(B2="","",VLOOKUP(B2,Menus!L2:N9,2,FALSE()))
B12: Lieu : | P12: =IF(F12="","",VLOOKUP(F12,Menus!$G$2:$I$11,2,FALSE())) | W12: =IF(F12="","",VLOOKUP(F12,Menus!$G$2:$I$11,3,FALSE()))
L14: Finale | M14: Joueurs | R14: Club
L15: 1
L16: 2
L17: 3
L18: 4
M20: Tour 1 : J 1 / J 4 - J 2 / J 3
M21: Tour 2 : Perdant J 1 / J 4 - Perdant J 2 / J 3
M22: Gagnant J 1 / J 4 - Gagnant J 2 / J 3
M23: Tour 3 : Matchs restants

Sheet Poules
B3: Salle :
B5: Lieu : | P5: =IF(F5="","",VLOOKUP(F5,Menus!$G$2:$I$11,2,FALSE())) | W5: =IF(F5="","",VLOOKUP(F5,Menus!$G$2:$I$11,3,FALSE()))
B8: Poules simples 3 joueurs :
B10: P 1 | C10: Joueurs | H10: Club | L10: P 2 | M10: Joueurs | R10: Club | V10: P 3 | W10: Joueurs | AB10: Club
B11: 1 | L11: 1 | V11: 1
B12: 2 | L12: 2 | V12: 2
B13: 3 | L13: 3 | V13: 3
C14: * Dans cette poule, les joueurs du même club | M14: * Dans cette poule, les joueurs du même club | W14: * Dans cette poule, les joueurs du même club
C15: disputent le 1er match. | M15: disputent le 1er match. | W15: disputent le 1er match.
B18: Poules croisées 3 X 2 joueurs :
B20: P 1 | C20: Joueurs | H20: Club | L20: P 2 | M20: Joueurs | R20: Club
B21: 1 | L21: 1
B22: 2 | L22: 2
B23: 3
B27: Poules croisées 2 X 2 joueurs :
B29: P 1 | C29: Joueurs | H29: Club | L29: P 2 | M29: Joueurs | R29: Club
B30: 1 | L30: 1
B31: 2 | L31: 2
B34: Finales
L36: Finale | M36: Joueurs | R36: Club
L37: 1
L38: 2
L39: 3
L40: 4
M42: Tour 1 : J 1 / J 4 - J 2 / J 3
M43: Tour 2 : Perdant J 1 / J 4 - Perdant J 2 / J 3
M44: Gagnant J 1 / J 4 - Gagnant J 2 / J 3
M45: Tour 3 : Matchs restants

Sheet Menus
B1: Mode de jeu | C1: Distance | D1: Limitation rep. | E1: Responsable sportifs | G1: Clubs | H1: Adresses clubs | I1: Contact Clubs | K1: Tour | L1: Responsables sportifs | M1: E-mail | N1: Tél
B2: LIBRE N2 | C2: 180 Points | D2: 20 Reprises | E2: Alain SOUDAY | G2: ABBEVILLE | H2: 133 avenue du rivage - 80100 | I2: 03 22 31 74 00 - scbillard.abbeville@wanadoo.fr | K2: 1er Tour | L2: Sandrine ÜNTÜRK | M2: unturksandrine@gmail.com | N2: 06.31.36.11.05
B3: LIBRE N3 | C3: 150 Points (GC) | D3: 20 Reprises | E3: Sandrine ÜNTÜRK | G3: ALBERT | H3: 27 rue de Corbie - 80300 | I3: 03 22 74 58 46 - retro.albertin@free.fr | K3: 2ème Tour | L3: Thomas TREF | M3: trefthomas.billard@tutamail.com | N3: 07.66.61.76.82
B4: LIBRE R1 | C4: 120 Points | D4: 25 Reprises | E4: Sandrine ÜNTÜRK | G4: AMIENS | H4: 56 rue Riolan - 80000 | I4: 03 22 97 95 41 - mavenirpicardiebillard@sfr.fr | K4: 3ème Tour | L4: François GENTY | M4: gentyfrancois@sfr.fr | N4: 06.08.37.68.34
B5: LIBRE R2 | C5: 80 Points | D5: 30 Reprises | E5: Sandrine ÜNTÜRK | G5: FRIVILLE | H5: 5 rue de l'abbé Caron - 80130 | I5: 03 22 26 46 14 - billard.club.friville@orange.fr | K5: 1/2 Finale | L5: Eddy DUHAMEL | M5: 5quilles80@orange.fr | N5: 06.33.21.97.28
B6: LIBRE R3 | C6: 60 Points | D6: 35 Reprises | E6: Sandrine ÜNTÜRK | G6: MOREUIL | H6: 23 ter rue Léon Blum - 80110 | I6: 03 60 24 69 08 - bcmoreuil@sfr.fr | K6: Finale | L6: Alain SOUDAY | M6: alainsouday@orange.fr | N6: 06 75 79 79 26
B7: LIBRE R4 | C7: 40 Points | D7: 45 Reprises | E7: Sandrine ÜNTÜRK | G7: PONT de METZ | H7: 3 rue de l'église - 80480 | I7: 09 86 35 27 68 - a.b.c.p@orange.fr | L7: Laurent DELAPORTE | M7: laurentdelaportecd80@yahoo.com | N7: 06 85 14 64 40
B8: LIBRE U21 (Juniors) | C8: 80 Points | D8: 40 Reprises | E8: Laurent DELAPORTE | G8: ROYE | H8: 1 rue Emile Zola - 80700 | I8: 06 52 35 06 69 - bc.royen@hotmail.fr | L8: Hervé JONARD | M8: hervejonard@orange.fr | N8: 06 09 54 57 56
B9: LIBRE U17 (Cadets) | C9: 60 Points | D9: 40 Reprises | E9: Laurent DELAPORTE | G9: VIGNACOURT | H9: 249 rue Godard Dubuc - 80650 | I9: 03 22 52 97 33 - billardclub.bcv@orange.fr
B10: LIBRE U15 (Minimes) | C10: 40 Points | D10: 40 Reprises | E10: Laurent DELAPORTE
B11: LIBRE 4 Billes (U21) | C11: 40 Points | D11: 40 Reprises | E11: Laurent DELAPORTE
B12: LIBRE Dames | C12: 60 Points | D12: 40 Reprises | E12: François GENTY
B13: CADRE N2 | C13: 120 Points | D13: 20 Reprises | E13: Alain SOUDAY
B14: CADRE N3 | C14: 120 Points | D14: 25 Reprises | E14: Thomas TREF
B15: CADRE Régional | C15: 80 Points | D15: 30 Reprises | E15: Thomas TREF
B16: BANDE N2 | C16: 80 Points | D16: 30 Reprises | E16: Alain SOUDAY
B17: BANDE N3 | C17: 60 Points | D17: 30 Reprises | E17: Thomas TREF
B18: BANDE R1 | C18: 50 Points | D18: 35 Reprises | E18: Thomas TREF
B19: BANDE R2 | C19: 30 Points | D19: 35 Reprises | E19: Thomas TREF
B20: 3 BANDES N1 | C20: 35 Points | D20: 45 Reprises | E20: Alain SOUDAY
B21: 3 BANDES N2 | C21: 30 Points | D21: 50 Reprises | E21: Alain SOUDAY
... B33: Coupe de Somme 3 bandes par équipes | C33: HANDICAP | D33: Pas de limitation | E33: Hervé JONARD
